{"text_format":"1","workbook":"xlsx","n_sheets":3,"sheets":["DIBUJAR","datos","datosext"],"not_rendered":{"charts":1,"images":3,"macros":0,"external_links":0,"defined_names":6,"comments":0,"pivot_tables":0},"unopened":[],"bounds":{"document_bytes":16777216,"sheet_cells":100000,"rows_first":2000,"rows_last":500,"rows_between":2000,"halvings":0,"cell_chars":16384,"cell_head_chars":4096},"cells_cut":0,"cells_raw":0,"read":"whole","date_system":"1900"}

{"sheet":"DIBUJAR","index":0,"n_rows":55,"n_cols":15,"rows_kept":55,"cut":false,"hidden":false,"merged":[]}
["Pirámides de población a 1 de enero de 2022",null,null,null,null,"(Revisión del Padrón Municipal de Habitantes a 1 de enero de 2007)"]
["Fuente: Padrón Municipal de Habitantes a 1 de enero de 2022",null,null,null,null,"Elaboración: Instituto Aragonés de Estadística"]
["Elaboración. Instituto Aragonés de Estadística."]
[]
["Elegir territorio"]
[null,null,{"$f":"VLOOKUP(F6,datos!A2:B769,2)","v":"ARAGÓN"},null,null,1,null,null,null,null,null,null,"extranjeros"]
[null,null,null,null,null,null,null,null,{"$f":"B6&\" \"&C6","v":" ARAGÓN"},null,null,null,{"$f":"B6&\" \"&C6","v":" ARAGÓN"}]
[null,"Total población"]
[null,"Edad","Ambos Sexos","Hombre","Mujer",null,null,"datos dibujo",{"$f":"D9","v":"Hombre"},{"$f":"E9","v":"Mujer"},"TOTALES","datos dibujo","Hombre","Mujer","TOTALES"]
[null,"0 a 4",{"$f":"D10+E10","v":49782},{"$f":"VLOOKUP($F$6,datos!$A$2:$AS$769,5)","v":25557},{"$f":"VLOOKUP($F$6,datos!$A$2:$AS$769,26)","v":24225},null,null,{"$f":"B10","v":"0 a 4"},{"$f":"-D10/$C$30","v":-1.9269178136415557E-2},{"$f":"E10/$C$30","v":1.8264891824340372E-2},{"$f":"J10-I10","v":3.7534069960755929E-2},{"$f":"B10","v":"0 a 4"},{"$f":"-D35/$C$30","v":-3.4629782517727691E-3},{"$f":"E35/C$30","v":3.2684543264609087E-3},{"$f":"-M10+N10","v":6.7314325782336778E-3}]
[null,"5 a 9",61253,{"$f":"VLOOKUP($F$6,datos!$A$2:$AS$769,6)","v":31457},{"$f":"VLOOKUP($F$6,datos!$A$2:$AS$769,27)","v":29796},null,null,"5 a 9",-2.3717593482694532E-2,2.2465251467411587E-2,4.6182844950106119E-2,{"$f":"B11","v":"5 a 9"},{"$f":"-D36/$C$30","v":-3.5866291190252693E-3},{"$f":"E36/C$30","v":3.3476210402506191E-3},{"$f":"N11-M11","v":6.9342501592758888E-3}]
[null,"10 a 14",67610,{"$f":"VLOOKUP($F$6,datos!$A$2:$AS$769,7)","v":34840},{"$f":"VLOOKUP($F$6,datos!$A$2:$AS$769,28)","v":32770},null,null,"10 a 14",-2.6268269604128733E-2,2.4707554389417297E-2,5.0975823993546027E-2,"10 a 14",-3.2865495753271281E-3,2.9781763758986364E-3,6.2647259512257645E-3]
[null,"15 a 19",65311,{"$f":"VLOOKUP($F$6,datos!$A$2:$AS$769,8)","v":33845},{"$f":"VLOOKUP($F$6,datos!$A$2:$AS$769,29)","v":31466},null,null,"15 a 19",-2.5518070744883381E-2,2.3724379201019365E-2,4.9242449945902746E-2,"15 a 19",-3.412462348687906E-3,2.853017571240618E-3,6.265479919928524E-3]
[null,"20 a 24",64832,{"$f":"VLOOKUP($F$6,datos!$A$2:$AS$769,9)","v":33757},{"$f":"VLOOKUP($F$6,datos!$A$2:$AS$769,30)","v":31075},null,null,"20 a 24",-2.5451721499040576E-2,2.3429577438240538E-2,4.8881298937281117E-2,"20 a 24",-4.8269076350640682E-3,4.2116691736126029E-3,9.0385768086766703E-3]
[null,"25 a 29",66442,{"$f":"VLOOKUP($F$6,datos!$A$2:$AS$769,10)","v":34209},{"$f":"VLOOKUP($F$6,datos!$A$2:$AS$769,31)","v":32233},null,null,"25 a 29",-2.5792515352687711E-2,2.4302673196035633E-2,5.0095188548723343E-2,"25 a 29",-5.7738923257295589E-3,5.5620271202542386E-3,1.1335919445983798E-2]
[null,"30 a 34",71681,{"$f":"VLOOKUP($F$6,datos!$A$2:$AS$769,11)","v":36527},{"$f":"VLOOKUP($F$6,datos!$A$2:$AS$769,32)","v":35154},null,null,"30 a 34",-2.7540214805683416E-2,2.6505015776795104E-2,5.4045230582478523E-2,"30 a 34",-6.2240116412767702E-3,6.8754406004606751E-3,1.3099452241737445E-2]
[null,"35 a 39",82576,{"$f":"VLOOKUP($F$6,datos!$A$2:$AS$769,12)","v":42012},{"$f":"VLOOKUP($F$6,datos!$A$2:$AS$769,33)","v":40564},null,null,"35 a 39",-3.1675733140317346E-2,3.0583986458722099E-2,6.2259719599039448E-2,"35 a 39",-6.8890120371103399E-3,7.3089726045471853E-3,1.4197984641657526E-2]
[null,"40 a 44",102772,{"$f":"VLOOKUP($F$6,datos!$A$2:$AS$769,13)","v":52355},{"$f":"VLOOKUP($F$6,datos!$A$2:$AS$769,34)","v":50417},null,null,"40 a 44",-3.947403143295522E-2,3.801284008700799E-2,7.748687151996321E-2,"40 a 44",-7.7236553910647165E-3,7.1023851799911783E-3,1.4826040571055896E-2]
[null,"45 a 49",109283,{"$f":"VLOOKUP($F$6,datos!$A$2:$AS$769,14)","v":56300},{"$f":"VLOOKUP($F$6,datos!$A$2:$AS$769,35)","v":52983},null,null,"45 a 49",-4.2448437965340056E-2,3.9947523778287961E-2,8.239596174362801E-2,"45 a 49",-6.6801627064460552E-3,5.7180986417253816E-3,1.2398261348171437E-2]
[null,"50 a 54",103377,{"$f":"VLOOKUP($F$6,datos!$A$2:$AS$769,15)","v":52265},{"$f":"VLOOKUP($F$6,datos!$A$2:$AS$769,36)","v":51112},null,null,"50 a 54",-3.9406174249706896E-2,3.8536848335425596E-2,7.7943022585132499E-2,"50 a 54",-5.0138918733483376E-3,4.523058247852132E-3,9.5369501212004687E-3]
[null,"55 a 59",98729,{"$f":"VLOOKUP($F$6,datos!$A$2:$AS$769,16)","v":49999},{"$f":"VLOOKUP($F$6,datos!$A$2:$AS$769,37)","v":48730},null,null,"55 a 59",-3.7697681169254663E-2,3.6740894885453304E-2,7.4438576054707967E-2,"55 a 59",-3.0279383102807403E-3,2.7240889230688036E-3,5.7520272333495444E-3]
[null,"60 a 64",89733,{"$f":"VLOOKUP($F$6,datos!$A$2:$AS$769,17)","v":44338},{"$f":"VLOOKUP($F$6,datos!$A$2:$AS$769,38)","v":45395},null,null,"60 a 64",-3.3429464342935124E-2,3.4226409261751543E-2,6.7655873604686667E-2,"60 a 64",-1.8396836347323222E-3,1.8411915721378406E-3,3.6808752068701626E-3]
[null,"65 a 69",74669,{"$f":"VLOOKUP($F$6,datos!$A$2:$AS$769,18)","v":36082},{"$f":"VLOOKUP($F$6,datos!$A$2:$AS$769,39)","v":38587},null,null,"65 a 69",-2.7204698732955595E-2,2.9093390333367261E-2,5.6298089066322859E-2,"65 a 69",-9.6357200212619169E-4,1.152818146518738E-3,2.1163901486449298E-3]
[null,"70 a 74",65322,{"$f":"VLOOKUP($F$6,datos!$A$2:$AS$769,19)","v":30505},{"$f":"VLOOKUP($F$6,datos!$A$2:$AS$769,40)","v":34817},null,null,"70 a 74",-2.2999815277667823E-2,2.6250928323965271E-2,4.925074360163309E-2,"70 a 74",-4.2071453613960486E-4,6.2730196069561153E-4,1.0480164968352163E-3]
[null,"75 a 79",55970,{"$f":"VLOOKUP($F$6,datos!$A$2:$AS$769,20)","v":25051},{"$f":"VLOOKUP($F$6,datos!$A$2:$AS$769,41)","v":30919},null,null,"75 a 79",-1.8887669972819428E-2,2.3311958320610112E-2,4.2199628293429541E-2,"75 a 79",-2.0357154974497008E-4,3.2797638570022957E-4,5.3154793544519965E-4]
[null,"80 a 84",38918,{"$f":"VLOOKUP($F$6,datos!$A$2:$AS$769,21)","v":16213},{"$f":"VLOOKUP($F$6,datos!$A$2:$AS$769,42)","v":22705},null,null,"80 a 84",-1.2224094577834074E-2,1.7118859396146466E-2,2.934295397398054E-2,"80 a 84",-1.1460324281939057E-4,1.6662708330977182E-4,2.812303261291624E-4]
[null,"85 a 89",35213,{"$f":"VLOOKUP($F$6,datos!$A$2:$AS$769,22)","v":13188},{"$f":"VLOOKUP($F$6,datos!$A$2:$AS$769,43)","v":22025},null,null,"85 a 89",-9.9433392519876502E-3,1.6606160678270244E-2,2.6549499930257896E-2,"85 a 89",-4.5992090868308059E-5,9.0476244331097813E-5,1.3646833519940588E-4]
[null,"90 a 94",17595,{"$f":"VLOOKUP($F$6,datos!$A$2:$AS$769,23)","v":5682},{"$f":"VLOOKUP($F$6,datos!$A$2:$AS$769,44)","v":11913},null,null,"90 a 94",-4.2840501690774814E-3,8.9820291559697361E-3,1.3266079325047218E-2,"90 a 94",-1.1309530541387227E-5,2.7896842002088494E-5,3.920637254347572E-5]
[null,"95 y más",5247,{"$f":"VLOOKUP($F$6,datos!$A$2:$AS$769,24)","v":1294},{"$f":"VLOOKUP($F$6,datos!$A$2:$AS$769,45)","v":3953},null,null,"95 y más",-9.7563550137033813E-4,2.9804382820069141E-3,3.956073783377252E-3,"95 y más",-1.507937405518297E-6,9.047624433109781E-6,1.0555561838628078E-5]
[null,"Total general",{"$f":"SUM(C10:C29)","v":1326315},{"$f":"SUM(D10:D29)","v":655476},{"$f":"SUM(E10:E29)","v":670839},null,null,null,-0.49420838940975559,0.50579161059024436,1,null,{"$f":"-D55/$C$55","v":-0.51124045593037226},{"$f":"E55/C$55","v":0.48875954406962768},1]
[]
[]
[null,"Población extranjera"]
[null,"Edad","Ambos Sexos","Hombre","Mujer"]
[null,"0 a 4",{"$f":"D35+E35","v":8928},{"$f":"VLOOKUP($F$6,datosext!$A$2:$AS$769,5)","v":4593},{"$f":"VLOOKUP($F$6,datosext!$A$2:$AS$769,26)","v":4335}]
[null,"5 a 9",9197,{"$f":"VLOOKUP($F$6,datosext!$A$2:$AS$769,6)","v":4757},{"$f":"VLOOKUP($F$6,datosext!$A$2:$AS$769,27)","v":4440}]
[null,"10 a 14",8309,{"$f":"VLOOKUP($F$6,datosext!$A$2:$AS$769,7)","v":4359},{"$f":"VLOOKUP($F$6,datosext!$A$2:$AS$769,28)","v":3950}]
[null,"15 a 19",8310,{"$f":"VLOOKUP($F$6,datosext!$A$2:$AS$769,8)","v":4526},{"$f":"VLOOKUP($F$6,datosext!$A$2:$AS$769,29)","v":3784}]
[null,"20 a 24",11988,{"$f":"VLOOKUP($F$6,datosext!$A$2:$AS$769,9)","v":6402},{"$f":"VLOOKUP($F$6,datosext!$A$2:$AS$769,30)","v":5586}]
[null,"25 a 29",15035,{"$f":"VLOOKUP($F$6,datosext!$A$2:$AS$769,10)","v":7658},{"$f":"VLOOKUP($F$6,datosext!$A$2:$AS$769,31)","v":7377}]
[null,"30 a 34",17374,{"$f":"VLOOKUP($F$6,datosext!$A$2:$AS$769,11)","v":8255},{"$f":"VLOOKUP($F$6,datosext!$A$2:$AS$769,32)","v":9119}]
[null,"35 a 39",18831,{"$f":"VLOOKUP($F$6,datosext!$A$2:$AS$769,12)","v":9137},{"$f":"VLOOKUP($F$6,datosext!$A$2:$AS$769,33)","v":9694}]
[null,"40 a 44",19664,{"$f":"VLOOKUP($F$6,datosext!$A$2:$AS$769,13)","v":10244},{"$f":"VLOOKUP($F$6,datosext!$A$2:$AS$769,34)","v":9420}]
[null,"45 a 49",16444,{"$f":"VLOOKUP($F$6,datosext!$A$2:$AS$769,14)","v":8860},{"$f":"VLOOKUP($F$6,datosext!$A$2:$AS$769,35)","v":7584}]
[null,"50 a 54",12649,{"$f":"VLOOKUP($F$6,datosext!$A$2:$AS$769,15)","v":6650},{"$f":"VLOOKUP($F$6,datosext!$A$2:$AS$769,36)","v":5999}]
[null,"55 a 59",7629,{"$f":"VLOOKUP($F$6,datosext!$A$2:$AS$769,16)","v":4016},{"$f":"VLOOKUP($F$6,datosext!$A$2:$AS$769,37)","v":3613}]
[null,"60 a 64",4882,{"$f":"VLOOKUP($F$6,datosext!$A$2:$AS$769,17)","v":2440},{"$f":"VLOOKUP($F$6,datosext!$A$2:$AS$769,38)","v":2442}]
[null,"65 a 69",2807,{"$f":"VLOOKUP($F$6,datosext!$A$2:$AS$769,18)","v":1278},{"$f":"VLOOKUP($F$6,datosext!$A$2:$AS$769,39)","v":1529}]
[null,"70 a 74",1390,{"$f":"VLOOKUP($F$6,datosext!$A$2:$AS$769,19)","v":558},{"$f":"VLOOKUP($F$6,datosext!$A$2:$AS$769,40)","v":832}]
[null,"75 a 79",705,{"$f":"VLOOKUP($F$6,datosext!$A$2:$AS$769,20)","v":270},{"$f":"VLOOKUP($F$6,datosext!$A$2:$AS$769,41)","v":435}]
[null,"80 a 84",373,{"$f":"VLOOKUP($F$6,datosext!$A$2:$AS$769,21)","v":152},{"$f":"VLOOKUP($F$6,datosext!$A$2:$AS$769,42)","v":221}]
[null,"85 a 89",181,{"$f":"VLOOKUP($F$6,datosext!$A$2:$AS$769,22)","v":61},{"$f":"VLOOKUP($F$6,datosext!$A$2:$AS$769,43)","v":120}]
[null,"90 a 94",52,{"$f":"VLOOKUP($F$6,datosext!$A$2:$AS$769,23)","v":15},{"$f":"VLOOKUP($F$6,datosext!$A$2:$AS$769,44)","v":37}]
[null,"95 y más",14,{"$f":"VLOOKUP($F$6,datosext!$A$2:$AS$769,24)","v":2},{"$f":"VLOOKUP($F$6,datosext!$A$2:$AS$769,45)","v":12}]
[null,"Total general",{"$f":"SUM(C35:C54)","v":164762},{"$f":"SUM(D35:D54)","v":84233},{"$f":"SUM(E35:E54)","v":80529}]

{"sheet":"datos","index":1,"n_rows":773,"n_cols":45,"rows_kept":773,"cut":false,"hidden":true,"merged":[]}
[null,"referencia geográfica","código","TOTAL VARONES","01- de 0 a 4","02- de 5 a 9","03- de 10 a 14","04- de 15 a 19","05- de 20 a 24","06- de 25 a 29","07- de 30 a 34","08- de 35 a 39","09- de 40 a 44","10- de 45 a 49","11- de 50 a 54","12- de 55 a 59","13- de 60 a 64","14- de 65 a 69","15- de 70 a 74","16- de 75 a 79","17- de 80 a 84","18- de 85 a 89","19- de 90 a 94","20- de 95 y más","TOTAL MUJERES","01- de 0 a 4","02- de 5 a 9","03- de 10 a 14","04- de 15 a 19","05- de 20 a 24","06- de 25 a 29","07- de 30 a 34","08- de 35 a 39","09- de 40 a 44","10- de 45 a 49","11- de 50 a 54","12- de 55 a 59","13- de 60 a 64","14- de 65 a 69","15- de 70 a 74","16- de 75 a 79","17- de 80 a 84","18- de 85 a 89","19- de 90 a 94","20- de 95 y más"]
[1,"ARAGÓN",2,{"$f":"((SUM(E2:X2)))+0","v":655476},25557,31457,34840,33845,33757,34209,36527,42012,52355,56300,52265,49999,44338,36082,30505,25051,16213,13188,5682,1294,{"$f":"(SUM(Z2:AS2))+0","v":670839},24225,29796,32770,31466,31075,32233,35154,40564,50417,52983,51112,48730,45395,38587,34817,30919,22705,22025,11913,3953]
[2,"PROVINCIA DE HUESCA",22,{"$f":"((SUM(E3:X3)))+0","v":114371},4358,5196,5657,5556,5757,6077,6379,7413,9380,9522,8956,8922,7982,6518,5426,4352,2850,2617,1148,305,{"$f":"((SUM(Z3:AS3))+0)+0","v":111085},4098,4941,5354,5109,5229,5253,5769,6635,8230,8497,8354,8188,7623,6424,5565,5042,3767,3915,2266,826]
[3,"PROVINCIA DE TERUEL",44,{"$f":"((SUM(E4:X4)))+0","v":68207},2493,3019,3234,3183,3446,3521,3806,4261,5051,5210,5109,5590,5275,4126,3320,2665,1914,1796,966,222,{"$f":"((SUM(Z4:AS4))+0)+0","v":66214},2436,2832,3195,2948,3147,3289,3554,3762,4444,4555,4985,5029,4714,3746,3289,2977,2500,2779,1535,498]
[4,"PROVINCIA DE ZARAGOZA",50,{"$f":"((SUM(E5:X5)))+0","v":472898},18706,23242,25949,25106,24554,24611,26342,30338,37924,41568,38200,35487,31081,25438,21759,18034,11449,8775,3568,767,{"$f":"((SUM(Z5:AS5))+0)+0","v":493540},17691,22023,24221,23409,22699,23691,25831,30167,37743,39931,37773,35513,33058,28417,25963,22900,16438,15331,8112,2629]
[5,"LA JACETANIA",1,{"$f":"((SUM(E6:X6)))+0","v":9327},281,386,439,393,457,523,542,614,801,788,761,765,740,561,395,344,229,186,98,24,{"$f":"((SUM(Z6:AS6))+0)+0","v":9133},310,417,424,436,437,416,441,539,734,742,705,758,673,470,409,367,277,301,215,62]
[6,"ALTO GÁLLEGO",2,{"$f":"((SUM(E7:X7)))+0","v":7087},260,266,326,304,334,357,384,493,609,583,594,611,555,432,316,233,156,179,81,14,{"$f":"((SUM(Z7:AS7))+0)+0","v":6842},227,279,326,306,312,313,362,478,525,504,574,503,513,425,286,274,232,216,149,38]
[7,"SOBRARBE",3,{"$f":"((SUM(E8:X8)))+0","v":4119},150,190,181,152,170,164,215,261,330,349,316,367,334,296,203,161,106,114,48,12,{"$f":"((SUM(Z8:AS8))+0)+0","v":3636},129,145,157,128,154,179,209,251,296,285,303,300,228,223,186,138,106,140,55,24]
[8,"LA RIBAGORZA",4,{"$f":"((SUM(E9:X9)))+0","v":6581},210,277,288,267,295,313,355,421,505,571,545,575,504,415,377,236,167,164,76,20,{"$f":"((SUM(Z9:AS9))+0)+0","v":6013},177,216,266,263,254,288,309,374,504,458,527,455,432,325,322,243,188,232,135,45]
[9,"CINCO VILLAS",5,{"$f":"((SUM(E10:X10)))+0","v":15826},509,587,711,707,850,827,895,976,1187,1308,1324,1390,1226,966,777,626,411,354,166,29,{"$f":"((SUM(Z10:AS10))+0)+0","v":14989},546,579,643,683,720,758,808,829,1014,1044,1120,1187,1134,872,766,701,555,613,323,94]
[10,"HOYA DE HUESCA/PLANA DE UESCA",6,{"$f":"((SUM(E11:X11)))+0","v":33771},1350,1699,1839,1807,1711,1794,1804,2097,2660,2801,2579,2591,2292,1907,1682,1316,774,687,297,84,{"$f":"((SUM(Z11:AS11))+0)+0","v":35111},1333,1643,1791,1689,1624,1613,1711,2046,2668,2790,2596,2499,2415,2140,1817,1645,1061,1116,655,259]
[11,"SOMONTANO DE BARBASTRO",7,{"$f":"((SUM(E12:X12)))+0","v":12065},476,535,570,572,614,614,694,771,987,927,890,914,848,712,636,489,299,326,149,42,{"$f":"((SUM(Z12:AS12))+0)+0","v":12062},445,493,596,506,575,562,649,695,855,879,881,921,880,708,620,541,438,451,272,95]
[12,"CINCA MEDIO",8,{"$f":"((SUM(E13:X13)))+0","v":12471},532,627,672,709,636,686,680,836,994,1037,1019,948,811,634,516,444,301,257,107,25,{"$f":"((SUM(Z13:AS13))+0)+0","v":11892},465,587,600,583,612,634,622,703,817,957,868,888,743,629,549,525,462,382,188,78]
[13,"LA LITERA/LA LLITERA",9,{"$f":"((SUM(E14:X14)))+0","v":9888},338,398,523,529,568,575,532,603,834,870,771,719,608,516,452,391,272,251,106,32,{"$f":"((SUM(Z14:AS14))+0)+0","v":8902},334,385,419,401,451,397,431,483,601,633,637,648,566,511,484,477,363,383,210,88]
[14,"LOS MONEGROS",10,{"$f":"((SUM(E15:X15)))+0","v":9712},322,330,342,361,423,501,538,606,744,744,751,820,767,647,529,473,354,302,127,31,{"$f":"((SUM(Z15:AS15))+0)+0","v":8861},268,299,300,363,350,384,480,488,555,605,619,681,654,579,535,528,401,427,263,82]
[15,"BAJO CINCA/BAIX CINCA",11,{"$f":"((SUM(E16:X16)))+0","v":12949},537,623,615,614,727,724,815,910,1171,1126,1044,955,774,623,511,446,331,272,105,26,{"$f":"((SUM(Z16:AS16))+0)+0","v":12009},508,603,598,576,610,620,716,756,876,887,916,798,745,623,559,506,409,421,211,71]
[16,"TARAZONA Y EL  MONCAYO",12,{"$f":"((SUM(E17:X17)))+0","v":7060},223,314,383,360,366,382,371,422,501,586,555,559,501,415,333,319,215,183,57,15,{"$f":"((SUM(Z17:AS17))+0)+0","v":6829},201,283,325,295,330,320,349,392,433,538,515,494,478,376,366,384,271,289,149,41]
[17,"CAMPO DE BORJA",13,{"$f":"((SUM(E18:X18)))+0","v":7125},226,290,338,353,342,392,365,456,516,578,591,603,511,408,358,329,210,178,74,7,{"$f":"((SUM(Z18:AS18))+0)+0","v":6581},231,218,315,293,334,285,332,368,472,473,483,501,487,350,382,324,292,257,139,45]
[18,"ARANDA",14,{"$f":"((SUM(E19:X19)))+0","v":3240},48,80,110,155,167,144,137,172,216,262,298,324,266,236,169,179,130,105,34,8,{"$f":"((SUM(Z19:AS19))+0)+0","v":2986},52,73,95,125,158,148,127,122,169,217,277,276,220,215,156,177,165,116,76,22]
[19,"RIBERA ALTA DEL EBRO",15,{"$f":"((SUM(E20:X20)))+0","v":14020},517,661,797,723,646,724,835,980,1170,1230,1233,1041,966,760,603,445,305,258,105,21,{"$f":"((SUM(Z20:AS20))+0)+0","v":13615},467,644,743,627,590,648,777,912,1164,1121,971,965,954,696,608,534,423,458,231,82]
[20,"VALDEJALÓN",16,{"$f":"((SUM(E21:X21)))+0","v":15626},674,803,852,799,807,786,978,1077,1421,1488,1367,1136,922,698,565,487,344,290,112,20,{"$f":"((SUM(Z21:AS21))+0)+0","v":14235},694,734,808,695,701,751,851,962,1228,1166,1078,932,791,657,548,526,421,394,224,74]
[21,"CENTRAL",17,{"$f":"((SUM(E22:X22)))+0","v":364678},15187,18842,20774,19993,19066,18992,20105,23572,29617,32479,28888,26767,23448,19243,16663,13640,8342,6119,2415,526,{"$f":"((SUM(Z22:AS22))+0)+0","v":392617},14195,17922,19551,18853,17936,18826,20527,24291,30562,32396,30132,28077,26062,22815,20777,18019,12461,11371,5902,1942]
[22,"RIBERA BAJA DEL EBRO",18,{"$f":"((SUM(E23:X23)))+0","v":4355},144,183,191,206,197,239,234,284,287,312,333,357,342,308,234,204,128,114,50,8,{"$f":"((SUM(Z23:AS23))+0)+0","v":4162},134,172,183,169,191,199,206,238,274,261,304,321,318,285,218,197,192,181,86,33]
[23,"BAJO ARAGÓN-CASPE/BAIX ARAGÓ-CASP",19,{"$f":"((SUM(E24:X24)))+0","v":8179},332,402,410,412,490,490,468,569,689,699,645,551,494,428,357,290,214,159,64,16,{"$f":"((SUM(Z24:AS24))+0)+0","v":7149},325,357,352,364,358,329,382,438,507,543,474,462,460,395,416,318,242,246,138,43]
[24,"COMUNIDAD DE CALATAYUD",20,{"$f":"((SUM(E25:X25)))+0","v":18542},481,645,878,859,950,937,1153,1032,1299,1492,1666,1484,1310,1077,920,817,642,554,277,69,{"$f":"((SUM(Z25:AS25))+0)+0","v":17591},486,578,732,780,816,823,861,953,1174,1284,1427,1336,1243,956,995,977,771,786,467,146]
[25,"CAMPO DE CARIÑENA",21,{"$f":"((SUM(E26:X26)))+0","v":5298},153,179,210,207,275,281,336,333,419,450,505,443,400,306,253,206,141,115,75,11,{"$f":"((SUM(Z26:AS26))+0)+0","v":4748},157,209,236,216,202,253,252,265,316,336,360,356,350,286,213,225,196,170,116,34]
[26,"CAMPO DE BELCHITE",22,{"$f":"((SUM(E27:X27)))+0","v":2423},48,38,65,96,108,103,111,117,147,199,208,238,211,155,165,152,97,110,37,18,{"$f":"((SUM(Z27:AS27))+0)+0","v":2138},40,56,54,82,101,87,85,84,106,136,167,163,141,164,149,153,130,135,79,26]
[27,"BAJO MARTÍN",23,{"$f":"((SUM(E28:X28)))+0","v":3224},107,120,129,141,161,183,186,157,199,248,233,276,289,194,171,145,118,111,45,11,{"$f":"((SUM(Z28:AS28))+0)+0","v":3046},94,116,139,125,135,148,145,139,176,180,214,228,238,169,184,183,152,166,86,29]
[28,"CAMPO DE DAROCA",24,{"$f":"((SUM(E29:X29)))+0","v":2927},66,83,92,84,112,140,174,149,200,211,273,251,233,213,171,159,131,115,56,14,{"$f":"((SUM(Z29:AS29))+0)+0","v":2524},65,72,61,85,112,111,113,135,123,173,193,180,194,141,167,163,149,161,95,31]
[29,"JILOCA",25,{"$f":"((SUM(E30:X30)))+0","v":6480},221,240,303,260,298,321,350,374,467,464,500,557,497,373,369,290,235,218,118,25,{"$f":"((SUM(Z30:AS30))+0)+0","v":5910},215,227,261,253,313,292,340,309,357,379,436,422,367,330,300,315,264,295,181,54]
[30,"CUENCAS MINERAS",26,{"$f":"((SUM(E31:X31)))+0","v":4145},116,136,157,162,198,212,252,285,279,303,297,386,354,324,210,182,112,124,46,10,{"$f":"((SUM(Z31:AS31))+0)+0","v":3655},132,142,153,145,156,196,215,214,213,199,253,325,267,231,214,162,132,185,92,29]
[31,"ANDORRA-SIERRA DE ARCOS",27,{"$f":"((SUM(E32:X32)))+0","v":4841},143,192,198,210,241,245,268,295,372,335,364,412,462,350,234,177,133,110,87,13,{"$f":"((SUM(Z32:AS32))+0)+0","v":4706},128,204,206,199,237,220,239,253,312,311,365,423,393,285,220,204,154,216,102,35]
[32,"BAJO ARAGÓN",28,{"$f":"((SUM(E33:X33)))+0","v":14470},576,752,800,762,793,687,733,905,1135,1195,1099,1135,1000,813,669,519,375,310,169,43,{"$f":"((SUM(Z33:AS33))+0)+0","v":14237},601,687,781,724,666,660,772,814,1034,1013,1118,1021,950,765,698,600,469,490,285,89]
[33,"COMUNIDAD DE TERUEL",29,{"$f":"((SUM(E34:X34)))+0","v":22529},922,1123,1142,1180,1191,1256,1288,1445,1698,1714,1674,1752,1661,1296,954,828,503,539,290,73,{"$f":"((SUM(Z34:AS34))+0)+0","v":23628},896,998,1167,1081,1168,1179,1237,1427,1676,1765,1797,1768,1678,1294,1086,990,832,902,508,179]
[34,"MAESTRAZGO",30,{"$f":"((SUM(E35:X35)))+0","v":1677},49,57,73,61,77,73,101,106,97,130,139,135,141,104,109,64,66,62,29,4,{"$f":"((SUM(Z35:AS35))+0)+0","v":1464},42,50,58,50,57,79,74,81,89,91,92,121,118,99,91,64,66,86,39,17]
[35,"SIERRA DE ALBARRACÍN",31,{"$f":"((SUM(E36:X36)))+0","v":2453},47,60,78,73,103,123,154,153,172,185,191,244,224,158,131,110,95,85,58,9,{"$f":"((SUM(Z36:AS36))+0)+0","v":1972},44,51,63,67,82,105,115,103,99,133,148,158,169,108,108,105,117,113,66,18]
[36,"GÚDAR-JAVALAMBRE",32,{"$f":"((SUM(E37:X37)))+0","v":4104},145,169,183,166,192,220,238,274,330,319,312,352,320,208,213,142,126,121,61,13,{"$f":"((SUM(Z37:AS37))+0)+0","v":3574},156,174,166,157,160,226,214,216,229,243,278,254,245,187,142,168,132,129,80,18]
[37,"MATARRAÑA/MATARRANYA",33,{"$f":"((SUM(E38:X38)))+0","v":4284},167,170,171,168,192,201,236,267,302,317,300,341,327,306,260,208,151,116,63,21,{"$f":"((SUM(Z38:AS38))+0)+0","v":4022},128,183,201,147,173,184,203,206,259,241,284,309,289,278,246,186,182,197,96,30]
[38,"22001 Abiego","22001",{"$f":"((SUM(E39:X39)))+0","v":139},4,4,4,5,5,5,8,7,7,17,15,16,10,6,8,7,3,6,2,0,{"$f":"((SUM(Z39:AS39))+0)+0","v":139},6,4,6,3,6,8,8,13,8,8,5,14,8,10,4,8,5,3,10,2]
[39,"22002 Abizanda","22002",{"$f":"((SUM(E40:X40)))+0","v":76},3,3,3,0,0,0,3,8,9,3,8,10,5,2,4,7,3,5,0,0,{"$f":"((SUM(Z40:AS40))+0)+0","v":75},2,4,3,2,3,4,5,6,8,4,6,3,6,4,8,1,4,2,0,0]
[40,"22003 Adahuesca","22003",{"$f":"((SUM(E41:X41)))+0","v":117},9,11,4,4,4,6,4,6,15,8,9,3,7,4,6,6,2,6,3,0,{"$f":"((SUM(Z41:AS41))+0)+0","v":87},3,6,0,1,6,7,2,8,9,7,5,5,5,6,6,1,6,2,2,0]
[41,"22004 Agüero","22004",{"$f":"((SUM(E42:X42)))+0","v":80},3,1,1,1,3,5,1,6,5,5,5,10,7,7,6,7,2,2,2,1,{"$f":"((SUM(Z42:AS42))+0)+0","v":65},1,2,1,0,1,5,3,3,3,1,3,7,7,2,5,5,2,6,6,2]
[42,"22006 Aísa","22006",{"$f":"((SUM(E43:X43)))+0","v":184},0,2,3,3,4,12,13,8,25,24,13,8,17,20,14,7,7,3,0,1,{"$f":"((SUM(Z43:AS43))+0)+0","v":155},3,5,6,11,10,5,9,7,8,12,12,8,27,12,4,8,2,3,2,1]
[43,"22007 Albalate de Cinca","22007",{"$f":"((SUM(E44:X44)))+0","v":616},31,26,18,30,28,36,31,51,41,43,61,44,52,32,31,19,23,14,4,1,{"$f":"((SUM(Z44:AS44))+0)+0","v":509},14,22,21,14,23,30,30,28,28,51,39,35,36,32,22,32,20,19,8,5]
[44,"22008 Albalatillo","22008",{"$f":"((SUM(E45:X45)))+0","v":110},2,4,2,3,4,7,6,8,9,9,11,4,7,6,9,9,5,2,3,0,{"$f":"((SUM(Z45:AS45))+0)+0","v":94},4,3,2,2,4,10,3,2,7,9,7,1,6,10,3,8,3,3,4,3]
[45,"22009 Albelda","22009",{"$f":"((SUM(E46:X46)))+0","v":356},10,9,12,19,15,9,14,20,17,27,30,31,27,26,24,25,15,21,4,1,{"$f":"((SUM(Z46:AS46))+0)+0","v":338},10,14,12,16,10,9,15,14,15,23,28,19,26,24,22,24,21,21,10,5]
[46,"22011 Albero Alto","22011",{"$f":"((SUM(E47:X47)))+0","v":66},2,3,3,3,4,5,3,4,4,4,5,7,2,5,5,0,3,3,1,0,{"$f":"((SUM(Z47:AS47))+0)+0","v":51},5,1,0,4,2,1,3,4,0,2,6,5,4,3,3,3,1,2,2,0]
[47,"22012 Albero Bajo","22012",{"$f":"((SUM(E48:X48)))+0","v":71},3,3,5,4,0,2,2,3,4,7,7,6,5,8,4,3,4,1,0,0,{"$f":"((SUM(Z48:AS48))+0)+0","v":63},4,2,2,4,5,0,5,4,5,8,3,2,5,4,2,3,1,3,1,0]
[48,"22013 Alberuela de Tubo","22013",{"$f":"((SUM(E49:X49)))+0","v":155},4,6,2,2,5,11,14,10,11,7,11,9,16,12,18,7,4,2,4,0,{"$f":"((SUM(Z49:AS49))+0)+0","v":150},5,4,1,2,5,10,9,8,10,6,9,14,13,12,13,8,2,9,6,4]
[49,"22014 Alcalá de Gurrea","22014",{"$f":"((SUM(E50:X50)))+0","v":121},0,2,0,3,4,1,4,10,6,13,6,12,13,8,7,12,5,9,3,3,{"$f":"((SUM(Z50:AS50))+0)+0","v":109},1,2,0,2,5,3,1,6,4,8,8,7,10,9,9,8,8,12,4,2]
[50,"22015 Alcalá del Obispo","22015",{"$f":"((SUM(E51:X51)))+0","v":212},8,6,4,8,5,7,12,8,18,20,19,18,10,18,19,12,9,8,2,1,{"$f":"((SUM(Z51:AS51))+0)+0","v":162},4,2,5,5,11,7,3,9,7,16,12,6,14,13,17,13,7,7,4,0]
[51,"22016 Alcampell","22016",{"$f":"((SUM(E52:X52)))+0","v":295},7,4,13,7,4,15,17,7,15,30,24,14,22,29,23,22,19,11,8,4,{"$f":"((SUM(Z52:AS52))+0)+0","v":328},6,9,9,12,11,12,8,13,15,20,22,16,29,22,31,25,21,22,16,9]
[52,"22017 Alcolea de Cinca","22017",{"$f":"((SUM(E53:X53)))+0","v":627},29,18,33,24,29,36,33,53,53,56,41,42,42,33,34,23,18,18,11,1,{"$f":"((SUM(Z53:AS53))+0)+0","v":533},18,18,23,19,27,38,22,27,41,47,38,41,28,34,26,28,30,18,7,3]
[53,"22018 Alcubierre","22018",{"$f":"((SUM(E54:X54)))+0","v":217},9,6,7,5,4,10,8,11,20,21,20,17,20,9,14,11,9,11,5,0,{"$f":"((SUM(Z54:AS54))+0)+0","v":182},3,4,3,9,7,9,13,8,4,9,15,9,10,12,8,17,13,13,9,7]
[54,"22019 Alerre","22019",{"$f":"((SUM(E55:X55)))+0","v":115},4,4,1,7,7,3,2,8,8,7,11,10,7,10,13,7,4,2,0,0,{"$f":"((SUM(Z55:AS55))+0)+0","v":98},8,2,0,3,3,3,10,5,6,4,6,6,12,8,7,9,2,3,1,0]
[55,"22020 Alfántega","22020",{"$f":"((SUM(E56:X56)))+0","v":67},1,1,1,1,3,7,6,4,5,9,2,7,0,4,5,4,3,3,1,0,{"$f":"((SUM(Z56:AS56))+0)+0","v":57},0,4,0,1,1,2,3,2,5,3,3,3,5,4,7,6,4,2,2,0]
[56,"22021 Almudévar","22021",{"$f":"((SUM(E57:X57)))+0","v":1217},42,62,59,68,46,49,55,76,109,93,106,97,74,63,64,61,46,29,14,4,{"$f":"((SUM(Z57:AS57))+0)+0","v":1177},52,53,59,56,53,48,59,63,100,79,72,84,73,62,57,62,51,59,23,12]
[57,"22022 Almunia de San Juan","22022",{"$f":"((SUM(E58:X58)))+0","v":367},10,16,16,13,16,15,17,25,31,29,36,27,23,26,22,14,9,14,5,3,{"$f":"((SUM(Z58:AS58))+0)+0","v":340},14,15,11,24,15,16,16,21,29,16,21,25,27,22,21,6,16,13,7,5]
[58,"22023 Almuniente","22023",{"$f":"((SUM(E59:X59)))+0","v":236},6,7,11,8,5,7,6,16,24,24,22,9,18,15,21,19,7,7,3,1,{"$f":"((SUM(Z59:AS59))+0)+0","v":217},1,7,12,8,9,7,14,12,18,11,10,13,23,15,20,15,7,8,4,3]
[59,"22024 Alquézar","22024",{"$f":"((SUM(E60:X60)))+0","v":184},9,5,7,4,6,6,11,11,19,15,7,17,21,13,15,9,4,5,0,0,{"$f":"((SUM(Z60:AS60))+0)+0","v":170},7,9,5,4,6,6,11,10,14,11,15,18,14,12,6,7,8,2,3,2]
[60,"22025 Altorricón","22025",{"$f":"((SUM(E61:X61)))+0","v":771},19,37,32,40,49,43,37,65,66,67,59,59,45,33,35,28,20,23,12,2,{"$f":"((SUM(Z61:AS61))+0)+0","v":645},23,24,34,28,29,29,30,26,47,51,48,49,35,33,41,41,23,32,17,5]
[61,"22027 Angüés","22027",{"$f":"((SUM(E62:X62)))+0","v":196},0,3,5,9,8,7,13,7,24,14,15,7,18,17,8,11,13,10,4,3,{"$f":"((SUM(Z62:AS62))+0)+0","v":172},3,0,7,10,9,4,6,11,12,19,8,12,19,9,12,11,6,5,8,1]
[62,"22028 Ansó","22028",{"$f":"((SUM(E63:X63)))+0","v":204},2,10,7,3,7,11,9,4,13,20,19,17,16,9,12,16,16,7,5,1,{"$f":"((SUM(Z63:AS63))+0)+0","v":202},2,10,5,6,7,6,9,5,19,13,16,12,17,15,9,16,7,15,12,1]
[63,"22029 Antillón","22029",{"$f":"((SUM(E64:X64)))+0","v":71},3,2,3,1,2,2,7,4,7,5,2,2,6,7,7,7,0,3,1,0,{"$f":"((SUM(Z64:AS64))+0)+0","v":65},1,6,1,2,2,3,2,2,4,5,5,3,5,7,4,6,4,0,1,2]
[64,"22032 Aragüés del Puerto","22032",{"$f":"((SUM(E65:X65)))+0","v":65},1,3,1,3,3,1,2,4,7,10,5,2,6,4,4,4,1,3,1,0,{"$f":"((SUM(Z65:AS65))+0)+0","v":52},1,0,1,2,2,1,4,4,6,3,3,2,3,5,1,6,3,2,3,0]
[65,"22035 Arén","22035",{"$f":"((SUM(E66:X66)))+0","v":172},4,5,5,3,5,11,9,9,13,13,12,19,14,13,14,3,10,7,3,0,{"$f":"((SUM(Z66:AS66))+0)+0","v":146},9,2,2,5,6,8,11,10,3,8,8,11,16,7,3,9,12,10,5,1]
[66,"22036 Argavieso","22036",{"$f":"((SUM(E67:X67)))+0","v":76},4,2,5,2,4,4,4,5,2,10,1,5,3,2,9,4,6,3,1,0,{"$f":"((SUM(Z67:AS67))+0)+0","v":50},2,1,2,0,1,4,6,1,2,3,3,3,4,1,7,4,2,2,2,0]
[67,"22037 Arguis","22037",{"$f":"((SUM(E68:X68)))+0","v":84},6,1,2,2,2,3,3,9,7,7,1,11,18,4,4,2,1,0,1,0,{"$f":"((SUM(Z68:AS68))+0)+0","v":69},4,4,1,0,1,3,4,3,10,5,6,7,8,6,1,2,2,2,0,0]
[68,"22039 Ayerbe","22039",{"$f":"((SUM(E69:X69)))+0","v":526},15,15,24,22,20,29,24,28,39,46,43,38,33,33,36,25,22,22,11,1,{"$f":"((SUM(Z69:AS69))+0)+0","v":533},9,18,27,32,20,15,24,27,44,36,43,35,36,28,31,35,20,30,15,8]
[69,"22040 Azanuy-Alins","22040",{"$f":"((SUM(E70:X70)))+0","v":86},4,2,2,3,4,3,7,6,5,3,7,6,7,6,9,2,3,2,5,0,{"$f":"((SUM(Z70:AS70))+0)+0","v":88},3,4,1,3,2,1,5,6,6,5,6,6,4,7,8,8,3,6,3,1]
[70,"22041 Azara","22041",{"$f":"((SUM(E71:X71)))+0","v":84},1,3,3,3,7,4,3,5,4,3,4,10,7,5,7,5,3,4,1,2,{"$f":"((SUM(Z71:AS71))+0)+0","v":76},1,2,3,0,1,7,3,4,2,7,6,4,7,9,2,6,3,6,3,0]
[71,"22042 Azlor","22042",{"$f":"((SUM(E72:X72)))+0","v":68},1,2,1,2,0,5,3,4,8,7,8,5,4,1,3,3,4,4,3,0,{"$f":"((SUM(Z72:AS72))+0)+0","v":80},4,3,6,4,4,0,8,1,5,8,6,5,1,5,2,5,4,4,5,0]
[72,"22043 Baells","22043",{"$f":"((SUM(E73:X73)))+0","v":51},1,0,1,0,0,3,3,2,7,2,1,2,5,6,8,7,2,0,0,1,{"$f":"((SUM(Z73:AS73))+0)+0","v":39},1,2,1,0,1,1,2,0,4,3,2,1,3,6,4,2,2,2,0,2]
[73,"22044 Bailo","22044",{"$f":"((SUM(E74:X74)))+0","v":164},1,4,8,2,4,6,7,13,12,22,12,11,16,11,13,5,9,4,1,3,{"$f":"((SUM(Z74:AS74))+0)+0","v":109},3,2,5,3,5,3,2,6,6,7,7,15,10,5,4,13,4,5,3,1]
[74,"22045 Baldellou","22045",{"$f":"((SUM(E75:X75)))+0","v":43},0,0,1,0,1,4,4,1,0,5,3,4,5,2,2,3,4,4,0,0,{"$f":"((SUM(Z75:AS75))+0)+0","v":36},0,0,1,1,4,2,3,2,2,2,0,3,5,0,0,4,2,4,1,0]
[75,"22046 Ballobar","22046",{"$f":"((SUM(E76:X76)))+0","v":446},12,19,16,18,20,29,21,16,36,31,26,39,34,26,27,31,15,20,7,3,{"$f":"((SUM(Z76:AS76))+0)+0","v":418},18,19,8,22,22,15,17,25,29,18,30,25,38,33,25,24,10,25,14,1]
[76,"22047 Banastás","22047",{"$f":"((SUM(E77:X77)))+0","v":171},2,6,11,8,8,10,9,6,10,17,14,13,22,12,8,5,7,1,2,0,{"$f":"((SUM(Z77:AS77))+0)+0","v":162},4,9,13,5,8,5,8,11,6,20,14,9,15,16,6,8,2,2,1,0]
[77,"22048 Barbastro","22048",{"$f":"((SUM(E78:X78)))+0","v":8442},383,425,463,485,458,461,478,556,679,657,613,621,549,457,391,288,201,172,82,23,{"$f":"((SUM(Z78:AS78))+0)+0","v":8772},357,400,454,413,441,425,494,511,655,664,650,653,627,490,421,352,278,268,168,51]
[78,"22049 Barbués","22049",{"$f":"((SUM(E79:X79)))+0","v":55},1,1,2,1,4,2,6,5,0,5,2,8,7,4,1,1,1,2,1,1,{"$f":"((SUM(Z79:AS79))+0)+0","v":35},0,0,0,1,0,1,3,3,1,1,3,5,5,3,0,1,3,4,1,0]
[79,"22050 Barbuñales","22050",{"$f":"((SUM(E80:X80)))+0","v":49},0,0,2,0,0,4,3,2,2,5,2,5,2,5,5,6,3,2,0,1,{"$f":"((SUM(Z80:AS80))+0)+0","v":49},0,0,2,0,2,3,2,0,1,4,2,6,5,5,4,4,1,3,3,2]
[80,"22051 Bárcabo","22051",{"$f":"((SUM(E81:X81)))+0","v":59},2,0,2,0,1,3,2,2,5,6,3,6,5,10,3,3,2,3,1,0,{"$f":"((SUM(Z81:AS81))+0)+0","v":49},0,0,0,0,1,4,4,1,2,2,4,4,5,5,4,2,4,7,0,0]
[81,"22052 Belver de Cinca","22052",{"$f":"((SUM(E82:X82)))+0","v":770},28,32,35,34,30,49,54,52,64,78,53,57,40,38,27,38,27,23,8,3,{"$f":"((SUM(Z82:AS82))+0)+0","v":560},24,20,27,31,26,24,33,31,33,37,41,35,30,31,30,30,29,35,9,4]
[82,"22053 Benabarre","22053",{"$f":"((SUM(E83:X83)))+0","v":607},23,25,44,22,27,22,30,30,35,45,54,43,36,43,43,33,21,16,10,5,{"$f":"((SUM(Z83:AS83))+0)+0","v":568},15,22,24,27,21,25,23,31,49,46,41,37,29,39,38,19,30,28,17,7]
[83,"22054 Benasque","22054",{"$f":"((SUM(E84:X84)))+0","v":1230},41,65,73,57,54,67,83,106,126,140,96,94,73,70,36,19,14,12,4,0,{"$f":"((SUM(Z84:AS84))+0)+0","v":1052},35,35,61,52,64,63,66,86,122,112,88,84,59,38,31,23,11,14,7,1]
[84,"22055 Berbegal","22055",{"$f":"((SUM(E85:X85)))+0","v":180},2,3,3,5,5,15,12,10,11,12,17,20,21,10,8,8,7,6,4,1,{"$f":"((SUM(Z85:AS85))+0)+0","v":155},0,1,6,5,5,7,13,9,5,10,15,13,12,14,8,9,8,12,2,1]
[85,"22057 Bielsa","22057",{"$f":"((SUM(E86:X86)))+0","v":255},7,9,6,12,11,18,11,16,23,20,17,22,24,20,19,6,7,2,3,2,{"$f":"((SUM(Z86:AS86))+0)+0","v":225},7,5,10,10,12,15,13,14,13,17,18,17,11,18,9,9,8,8,8,3]
[86,"22058 Bierge","22058",{"$f":"((SUM(E87:X87)))+0","v":141},3,4,7,3,5,4,9,6,19,10,8,11,10,14,8,8,2,6,4,0,{"$f":"((SUM(Z87:AS87))+0)+0","v":110},1,3,4,4,3,6,5,5,11,8,12,11,6,7,7,4,4,6,2,1]
[87,"22059 Biescas","22059",{"$f":"((SUM(E88:X88)))+0","v":835},25,35,38,27,30,42,45,55,75,88,75,64,70,50,43,21,16,20,14,2,{"$f":"((SUM(Z88:AS88))+0)+0","v":749},20,32,35,35,33,36,44,59,62,67,65,55,46,34,30,23,19,31,19,4]
[88,"22060 Binaced","22060",{"$f":"((SUM(E89:X89)))+0","v":883},32,28,32,51,44,64,57,75,79,72,51,58,52,60,45,34,19,21,7,2,{"$f":"((SUM(Z89:AS89))+0)+0","v":738},29,29,39,38,36,46,27,42,52,48,44,46,60,57,38,34,37,24,7,5]
[89,"22061 Binéfar","22061",{"$f":"((SUM(E90:X90)))+0","v":5278},212,252,316,326,333,319,308,320,486,492,398,376,288,241,195,173,102,86,41,14,{"$f":"((SUM(Z90:AS90))+0)+0","v":4649},197,223,232,236,256,227,249,279,345,340,343,346,280,243,203,204,159,169,87,31]
[90,"22062 Bisaurri","22062",{"$f":"((SUM(E91:X91)))+0","v":91},0,3,1,2,2,1,2,6,3,12,9,6,13,8,12,4,1,3,3,0,{"$f":"((SUM(Z91:AS91))+0)+0","v":82},2,2,3,1,1,2,3,4,6,8,11,5,9,5,6,4,4,2,3,1]
[91,"22063 Biscarrués","22063",{"$f":"((SUM(E92:X92)))+0","v":102},0,2,2,5,4,6,1,3,6,5,10,16,12,6,7,5,1,4,6,1,{"$f":"((SUM(Z92:AS92))+0)+0","v":91},1,0,1,3,1,5,5,3,1,6,9,13,7,8,1,12,4,3,7,1]
[92,"22064 Blecua y Torres","22064",{"$f":"((SUM(E93:X93)))+0","v":101},2,2,2,6,3,3,3,7,10,11,7,7,14,5,5,7,4,2,1,0,{"$f":"((SUM(Z93:AS93))+0)+0","v":87},1,0,3,5,7,3,8,2,4,4,8,7,9,4,4,6,6,3,3,0]
[93,"22066 Boltaña","22066",{"$f":"((SUM(E94:X94)))+0","v":586},20,33,26,24,24,32,35,42,51,53,45,53,48,40,19,16,8,14,3,0,{"$f":"((SUM(Z94:AS94))+0)+0","v":511},13,18,23,19,26,25,31,37,50,44,48,41,30,36,22,8,22,11,3,4]
[94,"22067 Bonansa","22067",{"$f":"((SUM(E95:X95)))+0","v":51},2,2,4,1,2,2,2,1,4,6,2,6,4,7,2,2,0,1,1,0,{"$f":"((SUM(Z95:AS95))+0)+0","v":40},1,0,3,2,3,1,4,3,1,4,2,2,4,2,3,1,2,1,0,1]
[95,"22068 Borau","22068",{"$f":"((SUM(E96:X96)))+0","v":50},1,2,2,0,0,4,1,5,6,7,4,1,6,4,1,3,3,0,0,0,{"$f":"((SUM(Z96:AS96))+0)+0","v":40},0,2,1,0,0,2,1,3,5,3,5,1,4,5,1,1,4,1,1,0]
[96,"22069 Broto","22069",{"$f":"((SUM(E97:X97)))+0","v":322},13,12,12,15,25,15,13,28,24,21,22,37,24,14,18,12,7,6,4,0,{"$f":"((SUM(Z97:AS97))+0)+0","v":255},13,7,6,6,12,16,20,18,15,23,27,20,15,19,11,7,4,12,3,1]
[97,"22072 Caldearenas","22072",{"$f":"((SUM(E98:X98)))+0","v":141},7,3,4,3,4,8,8,9,13,8,12,5,13,17,9,5,9,2,2,0,{"$f":"((SUM(Z98:AS98))+0)+0","v":100},2,5,4,1,3,5,5,6,5,5,3,14,9,7,5,6,3,6,5,1]
[98,"22074 Campo","22074",{"$f":"((SUM(E99:X99)))+0","v":245},10,5,4,10,19,14,13,14,17,15,31,20,24,8,19,7,7,5,3,0,{"$f":"((SUM(Z99:AS99))+0)+0","v":215},8,7,10,5,6,14,11,15,18,18,23,16,13,11,12,7,6,9,2,4]
[99,"22075 Camporrells","22075",{"$f":"((SUM(E100:X100)))+0","v":70},0,0,1,1,0,2,4,1,7,4,4,7,10,6,2,10,2,5,3,1,{"$f":"((SUM(Z100:AS100))+0)+0","v":66},1,2,2,2,2,3,1,4,0,4,3,6,6,4,6,6,2,7,4,1]
[100,"22076 Canal de Berdún","22076",{"$f":"((SUM(E101:X101)))+0","v":189},4,5,3,2,8,13,13,8,8,13,11,16,20,14,17,10,13,5,5,1,{"$f":"((SUM(Z101:AS101))+0)+0","v":157},1,2,4,8,4,8,11,4,6,7,12,14,13,16,14,8,7,11,6,1]
[101,"22077 Candasnos","22077",{"$f":"((SUM(E102:X102)))+0","v":217},3,6,9,4,8,11,8,9,22,18,22,16,20,13,12,15,10,7,3,1,{"$f":"((SUM(Z102:AS102))+0)+0","v":179},4,4,7,8,6,4,6,6,12,10,14,13,11,20,15,13,9,9,5,3]
[102,"22078 Canfranc","22078",{"$f":"((SUM(E103:X103)))+0","v":347},6,11,15,15,17,15,26,24,24,33,40,40,31,21,13,9,4,1,1,1,{"$f":"((SUM(Z103:AS103))+0)+0","v":265},5,10,7,26,16,18,18,25,16,28,20,22,11,11,12,7,3,7,3,0]
[103,"22079 Capdesaso","22079",{"$f":"((SUM(E104:X104)))+0","v":85},3,2,1,4,2,5,3,4,9,8,6,10,5,6,3,3,2,6,2,1,{"$f":"((SUM(Z104:AS104))+0)+0","v":119},1,1,1,2,0,5,8,15,9,16,19,13,5,7,4,2,3,3,4,1]
[104,"22080 Capella","22080",{"$f":"((SUM(E105:X105)))+0","v":187},3,8,7,2,8,8,11,14,12,16,17,13,13,11,16,13,4,5,6,0,{"$f":"((SUM(Z105:AS105))+0)+0","v":165},4,5,9,5,8,9,10,6,13,8,13,5,21,9,11,13,4,9,2,1]
[105,"22081 Casbas de Huesca","22081",{"$f":"((SUM(E106:X106)))+0","v":171},1,3,1,7,5,6,7,11,15,13,16,13,17,15,15,13,4,7,2,0,{"$f":"((SUM(Z106:AS106))+0)+0","v":130},4,0,2,3,2,2,7,5,10,9,11,14,10,13,8,12,6,6,1,5]
[106,"22082 Castejón del Puente","22082",{"$f":"((SUM(E107:X107)))+0","v":175},5,6,3,1,11,10,16,8,16,11,13,16,11,13,10,8,6,7,4,0,{"$f":"((SUM(Z107:AS107))+0)+0","v":158},3,5,8,6,7,7,10,10,5,5,15,13,10,11,12,9,12,6,4,0]
[107,"22083 Castejón de Monegros","22083",{"$f":"((SUM(E108:X108)))+0","v":271},2,8,5,7,16,5,14,16,17,20,20,24,22,19,16,26,15,10,6,3,{"$f":"((SUM(Z108:AS108))+0)+0","v":241},5,5,7,9,6,10,12,12,9,19,11,24,14,20,20,21,18,10,8,1]
[108,"22084 Castejón de Sos","22084",{"$f":"((SUM(E109:X109)))+0","v":405},9,25,20,22,22,17,8,25,45,48,44,31,32,22,10,10,5,8,1,1,{"$f":"((SUM(Z109:AS109))+0)+0","v":400},3,12,27,29,17,13,17,21,45,51,34,27,29,18,14,14,8,13,8,0]
[109,"22085 Castelflorite","22085",{"$f":"((SUM(E110:X110)))+0","v":49},1,0,1,2,0,1,0,2,6,10,3,3,3,4,4,4,3,2,0,0,{"$f":"((SUM(Z110:AS110))+0)+0","v":51},0,1,2,1,1,1,2,4,5,5,1,2,2,3,6,5,2,6,2,0]
[110,"22086 Castiello de Jaca","22086",{"$f":"((SUM(E111:X111)))+0","v":139},2,6,4,4,10,7,9,8,10,12,14,10,16,11,6,5,2,2,1,0,{"$f":"((SUM(Z111:AS111))+0)+0","v":110},3,3,6,2,2,4,7,8,7,14,9,11,13,5,2,5,2,4,3,0]
[111,"22087 Castigaleu","22087",{"$f":"((SUM(E112:X112)))+0","v":55},3,3,3,1,4,2,3,3,7,5,4,5,4,2,4,1,1,0,0,0,{"$f":"((SUM(Z112:AS112))+0)+0","v":33},0,2,2,0,0,4,2,2,0,4,1,3,2,2,5,1,0,1,2,0]
[112,"22088 Castillazuelo","22088",{"$f":"((SUM(E113:X113)))+0","v":86},1,1,4,4,4,2,8,4,8,4,6,8,10,2,7,3,1,5,3,1,{"$f":"((SUM(Z113:AS113))+0)+0","v":78},2,1,2,4,2,4,0,2,3,5,12,6,4,3,9,3,7,4,3,2]
[113,"22089 Castillonroy","22089",{"$f":"((SUM(E114:X114)))+0","v":170},2,5,5,8,7,13,13,8,14,14,10,13,12,12,16,8,7,2,1,0,{"$f":"((SUM(Z114:AS114))+0)+0","v":158},9,4,9,2,8,6,10,14,9,7,5,14,12,11,10,8,6,8,5,1]
[114,"22090 Colungo","22090",{"$f":"((SUM(E115:X115)))+0","v":69},1,0,4,1,1,0,2,6,3,9,6,8,6,4,6,7,2,1,2,0,{"$f":"((SUM(Z115:AS115))+0)+0","v":54},4,0,1,1,2,1,2,6,7,1,5,2,0,3,7,5,3,3,0,1]
[115,"22094 Chalamera","22094",{"$f":"((SUM(E116:X116)))+0","v":63},2,2,3,1,2,3,3,4,3,2,2,9,10,3,2,2,2,3,3,2,{"$f":"((SUM(Z116:AS116))+0)+0","v":54},1,1,4,1,4,4,1,3,1,1,3,4,5,3,2,2,4,5,3,2]
[116,"22095 Chía","22095",{"$f":"((SUM(E117:X117)))+0","v":54},1,4,4,2,4,1,3,2,3,8,1,7,3,1,4,2,1,1,1,1,{"$f":"((SUM(Z117:AS117))+0)+0","v":33},1,3,0,0,0,1,0,2,3,3,1,4,2,1,0,3,1,2,5,1]
[117,"22096 Chimillas","22096",{"$f":"((SUM(E118:X118)))+0","v":206},5,9,22,7,4,6,17,8,15,21,16,28,13,11,11,7,2,1,3,0,{"$f":"((SUM(Z118:AS118))+0)+0","v":196},3,5,13,9,13,13,6,5,16,20,13,18,12,17,8,9,7,5,1,3]
[118,"22099 Esplús","22099",{"$f":"((SUM(E119:X119)))+0","v":342},13,15,10,12,20,17,16,26,27,26,24,33,30,19,10,14,15,10,3,2,{"$f":"((SUM(Z119:AS119))+0)+0","v":314},12,9,6,7,20,17,7,14,25,27,22,22,16,19,29,15,18,12,10,7]
[119,"22102 Estada","22102",{"$f":"((SUM(E120:X120)))+0","v":117},4,2,2,4,7,9,5,5,10,6,5,14,10,9,11,3,7,3,1,0,{"$f":"((SUM(Z120:AS120))+0)+0","v":89},2,0,4,1,6,4,3,2,1,6,9,10,9,5,4,9,5,4,4,1]
[120,"22103 Estadilla","22103",{"$f":"((SUM(E121:X121)))+0","v":415},14,20,16,8,27,16,16,27,45,21,36,33,26,22,28,23,10,20,6,1,{"$f":"((SUM(Z121:AS121))+0)+0","v":397},14,11,18,17,19,18,21,26,30,19,24,33,28,18,23,26,18,20,10,4]
[121,"22105 Estopiñán del Castillo","22105",{"$f":"((SUM(E122:X122)))+0","v":62},0,0,3,4,4,4,2,3,3,3,4,11,3,4,5,1,1,6,1,0,{"$f":"((SUM(Z122:AS122))+0)+0","v":55},1,2,2,3,1,3,1,1,2,1,9,9,1,3,5,0,2,4,3,2]
[122,"22106 Fago","22106",{"$f":"((SUM(E123:X123)))+0","v":15},0,0,0,0,0,2,0,1,0,2,3,2,0,2,1,0,0,2,0,0,{"$f":"((SUM(Z123:AS123))+0)+0","v":10},0,0,0,1,0,0,1,0,1,1,1,0,1,0,0,1,1,1,1,0]
[123,"22107 Fanlo","22107",{"$f":"((SUM(E124:X124)))+0","v":67},0,1,1,1,0,2,4,0,7,5,5,7,10,8,6,2,5,3,0,0,{"$f":"((SUM(Z124:AS124))+0)+0","v":39},1,4,0,0,0,1,2,3,3,2,4,2,5,3,3,1,1,2,1,1]
[124,"22109 Fiscal","22109",{"$f":"((SUM(E125:X125)))+0","v":198},6,10,7,4,7,8,12,11,15,21,23,18,12,15,5,8,5,8,2,1,{"$f":"((SUM(Z125:AS125))+0)+0","v":163},9,4,6,8,7,5,4,15,11,17,15,15,9,5,11,8,5,5,3,1]
[125,"22110 Fonz","22110",{"$f":"((SUM(E126:X126)))+0","v":431},12,8,14,23,21,22,33,20,26,25,36,29,34,32,20,28,26,15,7,0,{"$f":"((SUM(Z126:AS126))+0)+0","v":426},5,11,18,16,23,14,16,19,23,32,31,27,36,23,20,35,20,31,19,7]
[126,"22111 Foradada del Toscar","22111",{"$f":"((SUM(E127:X127)))+0","v":92},1,1,1,4,3,3,4,8,3,4,7,12,9,6,9,6,3,6,1,1,{"$f":"((SUM(Z127:AS127))+0)+0","v":76},2,1,3,1,4,2,3,4,6,4,7,6,7,8,5,4,1,6,1,1]
[127,"22112 Fraga","22112",{"$f":"((SUM(E128:X128)))+0","v":7819},376,435,427,416,450,436,464,574,748,699,624,540,436,368,268,222,155,126,45,10,{"$f":"((SUM(Z128:AS128))+0)+0","v":7475},359,432,427,372,373,389,477,504,601,575,544,475,454,356,319,265,208,200,108,37]
[128,"22113 Fueva (La)","22113",{"$f":"((SUM(E129:X129)))+0","v":328},13,19,21,10,11,14,14,20,21,29,14,27,25,25,28,17,8,6,4,2,{"$f":"((SUM(Z129:AS129))+0)+0","v":281},9,12,15,4,11,10,17,27,19,15,17,19,20,27,16,13,10,11,5,4]
[129,"22114 Gistaín","22114",{"$f":"((SUM(E130:X130)))+0","v":74},1,0,4,2,1,0,2,1,5,5,3,10,7,3,8,8,7,5,2,0,{"$f":"((SUM(Z130:AS130))+0)+0","v":55},0,4,3,3,0,1,0,4,8,4,4,4,1,1,7,3,2,5,1,0]
[130,"22115 Grado (El)","22115",{"$f":"((SUM(E131:X131)))+0","v":208},4,3,5,3,7,9,18,12,8,11,18,24,17,21,18,10,4,10,5,1,{"$f":"((SUM(Z131:AS131))+0)+0","v":197},5,5,8,2,5,8,11,8,10,10,18,16,24,14,12,12,10,13,3,3]
[131,"22116 Grañén","22116",{"$f":"((SUM(E132:X132)))+0","v":899},32,29,38,30,38,54,57,69,64,78,64,65,69,64,43,41,27,20,14,3,{"$f":"((SUM(Z132:AS132))+0)+0","v":828},34,30,28,35,33,40,43,46,60,58,54,65,59,45,42,50,24,45,26,11]
[132,"22117 Graus","22117",{"$f":"((SUM(E133:X133)))+0","v":1698},78,72,66,87,79,86,99,102,121,132,122,153,134,104,90,57,52,41,17,6,{"$f":"((SUM(Z133:AS133))+0)+0","v":1722},61,79,70,80,77,84,87,104,133,88,155,143,117,91,96,70,51,77,47,12]
[133,"22119 Gurrea de Gállego","22119",{"$f":"((SUM(E134:X134)))+0","v":751},23,24,20,20,19,35,34,48,53,53,66,61,55,72,54,56,23,23,8,4,{"$f":"((SUM(Z134:AS134))+0)+0","v":709},24,20,20,19,17,23,33,37,42,53,56,42,56,53,56,48,38,40,18,14]
[134,"22122 Hoz de Jaca","22122",{"$f":"((SUM(E135:X135)))+0","v":40},0,0,0,0,5,1,1,1,2,4,6,5,4,3,1,3,2,1,1,0,{"$f":"((SUM(Z135:AS135))+0)+0","v":37},0,0,1,4,1,0,2,0,1,2,7,2,6,4,3,3,0,1,0,0]
[135,"22124 Huerto","22124",{"$f":"((SUM(E136:X136)))+0","v":125},1,4,6,5,8,4,5,6,11,9,11,12,13,5,7,5,6,3,2,2,{"$f":"((SUM(Z136:AS136))+0)+0","v":105},1,4,4,4,3,2,7,6,7,4,7,10,10,2,5,7,11,8,3,0]
[136,"22125 Huesca","22125",{"$f":"((SUM(E137:X137)))+0","v":25507},1115,1391,1488,1442,1416,1450,1415,1633,2016,2077,1863,1872,1669,1370,1156,870,523,481,204,56,{"$f":"((SUM(Z137:AS137))+0)+0","v":27798},1109,1379,1433,1361,1344,1347,1348,1669,2142,2172,2038,1962,1876,1679,1403,1228,805,822,497,184]
[137,"22126 Ibieca","22126",{"$f":"((SUM(E138:X138)))+0","v":61},0,0,1,0,1,4,2,1,4,6,6,10,3,3,7,8,3,0,2,0,{"$f":"((SUM(Z138:AS138))+0)+0","v":49},0,0,2,2,3,1,3,1,1,1,4,2,5,6,6,4,1,5,1,1]
[138,"22127 Igriés","22127",{"$f":"((SUM(E139:X139)))+0","v":370},13,18,28,33,18,14,17,20,26,42,45,26,28,18,6,9,2,6,1,0,{"$f":"((SUM(Z139:AS139))+0)+0","v":333},15,18,29,24,22,17,10,17,31,30,35,27,17,11,14,6,2,5,3,0]
[139,"22128 Ilche","22128",{"$f":"((SUM(E140:X140)))+0","v":97},1,0,1,1,3,2,9,5,6,11,7,7,10,9,8,3,5,5,2,2,{"$f":"((SUM(Z140:AS140))+0)+0","v":91},0,1,1,3,5,2,3,5,3,8,5,10,5,3,8,8,8,8,3,2]
[140,"22129 Isábena","22129",{"$f":"((SUM(E141:X141)))+0","v":123},1,2,1,4,7,11,14,8,5,8,7,9,6,15,10,7,6,1,0,1,{"$f":"((SUM(Z141:AS141))+0)+0","v":116},1,2,2,4,8,7,7,7,4,8,8,9,14,8,6,6,8,4,1,2]
[141,"22130 Jaca","22130",{"$f":"((SUM(E142:X142)))+0","v":6594},234,295,341,319,347,395,394,453,585,536,515,523,491,374,262,210,143,111,55,11,{"$f":"((SUM(Z142:AS142))+0)+0","v":6843},259,335,338,334,341,317,315,418,577,553,532,577,477,331,304,245,208,196,142,44]
[142,"22131 Jasa","22131",{"$f":"((SUM(E143:X143)))+0","v":62},1,4,5,1,3,2,1,1,2,2,6,11,7,6,0,4,3,1,2,0,{"$f":"((SUM(Z143:AS143))+0)+0","v":43},1,0,0,0,1,5,2,1,5,3,3,6,5,0,3,2,1,2,3,0]
[143,"22133 Labuerda","22133",{"$f":"((SUM(E144:X144)))+0","v":81},1,8,3,1,2,6,3,3,4,4,7,8,10,11,1,1,3,4,1,0,{"$f":"((SUM(Z144:AS144))+0)+0","v":65},3,1,3,4,3,3,3,6,6,3,6,8,4,3,2,3,0,3,1,0]
[144,"22135 Laluenga","22135",{"$f":"((SUM(E145:X145)))+0","v":104},1,4,0,2,7,5,7,6,5,10,10,6,11,4,6,9,4,5,2,0,{"$f":"((SUM(Z145:AS145))+0)+0","v":98},4,2,6,4,3,2,7,5,7,4,8,7,3,3,7,11,4,9,2,0]
[145,"22136 Lalueza","22136",{"$f":"((SUM(E146:X146)))+0","v":463},8,6,11,24,23,22,17,26,41,26,38,35,40,44,30,25,18,18,8,3,{"$f":"((SUM(Z146:AS146))+0)+0","v":425},5,20,9,11,12,19,17,19,30,31,28,27,34,34,31,37,15,31,13,2]
[146,"22137 Lanaja","22137",{"$f":"((SUM(E147:X147)))+0","v":631},17,16,20,13,28,24,41,33,44,36,50,68,67,50,26,34,26,20,15,3,{"$f":"((SUM(Z147:AS147))+0)+0","v":558},10,11,12,17,17,33,27,36,18,31,37,48,52,42,29,33,38,40,23,4]
[147,"22139 Laperdiguera","22139",{"$f":"((SUM(E148:X148)))+0","v":51},0,0,1,1,1,1,4,3,5,1,6,5,6,4,1,4,2,5,1,0,{"$f":"((SUM(Z148:AS148))+0)+0","v":44},0,0,3,1,3,2,1,3,3,1,2,4,5,2,2,6,2,2,2,0]
[148,"22141 Lascellas-Ponzano","22141",{"$f":"((SUM(E149:X149)))+0","v":84},2,4,2,3,5,2,6,7,8,6,4,5,12,4,4,3,4,3,0,0,{"$f":"((SUM(Z149:AS149))+0)+0","v":51},1,2,2,2,2,1,0,2,3,4,2,6,8,5,2,2,4,1,2,0]
[149,"22142 Lascuarre","22142",{"$f":"((SUM(E150:X150)))+0","v":72},2,7,2,0,2,4,4,4,6,4,7,3,7,4,5,5,2,2,2,0,{"$f":"((SUM(Z150:AS150))+0)+0","v":69},0,3,3,4,4,1,5,3,4,3,3,6,9,4,4,6,2,3,1,1]
[150,"22143 Laspaúles","22143",{"$f":"((SUM(E151:X151)))+0","v":127},0,5,4,5,3,7,3,9,10,8,12,8,9,14,7,9,7,3,2,2,{"$f":"((SUM(Z151:AS151))+0)+0","v":101},2,2,2,5,2,4,5,7,5,13,11,6,7,6,8,5,3,7,1,0]
[151,"22144 Laspuña","22144",{"$f":"((SUM(E152:X152)))+0","v":155},3,8,5,4,2,3,10,8,13,13,16,4,10,18,14,7,5,7,3,2,{"$f":"((SUM(Z152:AS152))+0)+0","v":131},5,3,3,4,6,7,6,8,12,10,6,8,10,10,6,10,4,9,3,1]
[152,"22149 Loarre","22149",{"$f":"((SUM(E153:X153)))+0","v":192},5,3,1,6,6,8,8,7,14,14,21,21,13,12,17,16,7,8,5,0,{"$f":"((SUM(Z153:AS153))+0)+0","v":161},1,7,4,4,7,3,8,5,14,16,10,12,16,10,6,18,9,8,2,1]
[153,"22150 Loporzano","22150",{"$f":"((SUM(E154:X154)))+0","v":321},4,6,10,10,9,13,7,24,24,27,22,32,29,23,35,27,10,5,1,3,{"$f":"((SUM(Z154:AS154))+0)+0","v":253},4,4,13,9,3,8,9,18,14,24,22,19,21,28,20,18,7,6,3,3]
[154,"22151 Loscorrales","22151",{"$f":"((SUM(E155:X155)))+0","v":47},0,2,0,0,2,3,2,3,6,6,5,3,3,4,5,0,2,1,0,0,{"$f":"((SUM(Z155:AS155))+0)+0","v":51},4,2,5,0,0,3,5,0,2,6,2,5,2,2,3,2,1,4,0,3]
[155,"22155 Monesma y Cajigar","22155",{"$f":"((SUM(E156:X156)))+0","v":36},0,1,0,0,0,4,1,4,2,1,2,3,4,5,1,2,2,3,1,0,{"$f":"((SUM(Z156:AS156))+0)+0","v":30},0,1,0,0,1,0,0,3,2,1,3,2,4,4,1,2,2,1,3,0]
[156,"22156 Monflorite-Lascasas","22156",{"$f":"((SUM(E157:X157)))+0","v":240},17,21,14,11,3,13,18,19,15,27,16,13,18,15,6,9,0,3,2,0,{"$f":"((SUM(Z157:AS157))+0)+0","v":202},10,9,20,19,4,9,17,12,19,15,15,16,14,9,4,1,1,5,3,0]
[157,"22157 Montanuy","22157",{"$f":"((SUM(E158:X158)))+0","v":130},1,3,1,4,5,4,6,12,7,11,11,15,19,13,8,2,4,2,1,1,{"$f":"((SUM(Z158:AS158))+0)+0","v":94},1,2,1,4,1,6,4,6,6,6,7,4,13,7,6,6,7,5,2,0]
[158,"22158 Monzón","22158",{"$f":"((SUM(E159:X159)))+0","v":8915},404,497,531,553,469,470,463,581,709,759,757,699,563,419,331,289,185,157,63,16,{"$f":"((SUM(Z159:AS159))+0)+0","v":8735},365,459,474,448,461,463,469,530,607,728,655,660,527,428,370,350,314,252,127,48]
[159,"22160 Naval","22160",{"$f":"((SUM(E160:X160)))+0","v":142},2,2,2,5,7,8,10,6,20,8,13,10,10,11,13,6,4,3,1,1,{"$f":"((SUM(Z160:AS160))+0)+0","v":121},8,6,8,6,0,5,4,9,10,8,6,7,15,6,4,7,3,6,1,2]
[160,"22162 Novales","22162",{"$f":"((SUM(E161:X161)))+0","v":78},3,3,1,3,2,2,6,7,10,5,3,10,7,3,8,4,0,0,1,0,{"$f":"((SUM(Z161:AS161))+0)+0","v":77},0,3,3,5,2,4,4,9,5,4,5,2,10,3,6,2,4,5,1,0]
[161,"22163 Nueno","22163",{"$f":"((SUM(E162:X162)))+0","v":332},9,18,18,11,19,7,15,23,20,22,26,33,25,28,30,20,5,2,1,0,{"$f":"((SUM(Z162:AS162))+0)+0","v":252},9,13,16,17,9,6,15,14,20,18,18,18,24,16,20,7,5,3,3,1]
[162,"22164 Olvena","22164",{"$f":"((SUM(E163:X163)))+0","v":33},2,2,1,3,1,0,2,0,2,3,0,2,1,4,3,3,1,2,1,0,{"$f":"((SUM(Z163:AS163))+0)+0","v":34},0,0,3,3,1,1,0,0,3,3,3,2,0,4,5,2,2,0,1,1]
[163,"22165 Ontiñena","22165",{"$f":"((SUM(E164:X164)))+0","v":266},4,4,2,11,14,12,21,19,21,16,17,24,25,17,17,14,13,10,5,0,{"$f":"((SUM(Z164:AS164))+0)+0","v":248},5,8,8,7,10,17,10,14,10,11,18,17,27,19,14,14,14,10,10,5]
[164,"22167 Osso de Cinca","22167",{"$f":"((SUM(E165:X165)))+0","v":366},10,10,5,9,18,18,24,25,36,24,29,39,31,20,22,15,17,11,2,1,{"$f":"((SUM(Z165:AS165))+0)+0","v":284},5,10,13,14,11,14,19,9,15,20,21,29,15,19,14,19,8,17,9,3]
[165,"22168 Palo","22168",{"$f":"((SUM(E166:X166)))+0","v":16},0,0,0,0,0,0,5,0,3,0,1,0,2,2,1,1,0,0,0,1,{"$f":"((SUM(Z166:AS166))+0)+0","v":14},0,1,1,0,0,0,1,1,0,2,0,1,1,1,3,1,0,1,0,0]
[166,"22170 Panticosa","22170",{"$f":"((SUM(E167:X167)))+0","v":466},21,12,15,20,23,26,32,39,45,49,38,41,33,32,15,8,9,7,1,0,{"$f":"((SUM(Z167:AS167))+0)+0","v":421},18,16,6,16,26,24,32,47,37,26,27,38,32,19,11,14,15,12,4,1]
[167,"22172 Peñalba","22172",{"$f":"((SUM(E168:X168)))+0","v":446},11,9,12,9,33,41,55,32,39,36,29,29,26,29,17,12,16,7,2,2,{"$f":"((SUM(Z168:AS168))+0)+0","v":311},12,11,3,13,15,14,21,14,18,23,18,34,22,20,16,20,14,10,8,5]
[168,"22173 Peñas de Riglos (Las)","22173",{"$f":"((SUM(E169:X169)))+0","v":163},0,6,1,4,5,8,10,3,12,10,13,25,21,16,13,8,6,1,1,0,{"$f":"((SUM(Z169:AS169))+0)+0","v":97},1,3,4,1,3,3,6,6,10,4,10,11,10,3,3,9,2,2,3,3]
[169,"22174 Peralta de Alcofea","22174",{"$f":"((SUM(E170:X170)))+0","v":304},6,6,10,8,16,11,15,20,22,38,25,20,17,24,24,22,3,9,8,0,{"$f":"((SUM(Z170:AS170))+0)+0","v":292},9,8,8,4,15,7,8,18,18,22,17,22,26,23,23,17,14,24,6,3]
[170,"22175 Peralta de Calasanz","22175",{"$f":"((SUM(E171:X171)))+0","v":124},1,2,6,1,1,6,2,7,13,7,10,11,12,14,9,5,5,9,2,1,{"$f":"((SUM(Z171:AS171))+0)+0","v":97},1,3,2,4,5,2,3,1,10,5,12,7,5,6,6,5,5,8,7,0]
[171,"22176 Peraltilla","22176",{"$f":"((SUM(E172:X172)))+0","v":107},3,8,1,0,4,8,9,5,10,9,7,8,9,10,8,4,1,3,0,0,{"$f":"((SUM(Z172:AS172))+0)+0","v":116},7,2,7,1,6,9,6,6,4,9,7,9,9,9,6,3,2,6,7,1]
[172,"22177 Perarrúa","22177",{"$f":"((SUM(E173:X173)))+0","v":59},4,2,0,1,2,1,4,4,5,4,7,4,0,6,2,6,0,4,2,1,{"$f":"((SUM(Z173:AS173))+0)+0","v":49},3,2,1,0,1,0,3,3,5,3,5,2,5,4,3,2,3,2,2,0]
[173,"22178 Pertusa","22178",{"$f":"((SUM(E174:X174)))+0","v":74},2,0,3,4,6,3,3,5,5,7,4,2,4,8,8,8,0,1,1,0,{"$f":"((SUM(Z174:AS174))+0)+0","v":51},2,1,0,1,2,2,3,4,3,3,3,2,6,3,11,1,1,2,1,0]
[174,"22181 Piracés","22181",{"$f":"((SUM(E175:X175)))+0","v":48},1,1,0,2,2,0,1,3,4,4,7,7,3,1,2,5,1,3,1,0,{"$f":"((SUM(Z175:AS175))+0)+0","v":47},0,2,4,2,2,0,4,2,1,5,4,3,2,3,2,5,1,3,0,2]
[175,"22182 Plan","22182",{"$f":"((SUM(E176:X176)))+0","v":150},3,6,5,5,1,7,11,8,7,13,13,18,14,14,8,5,5,7,0,0,{"$f":"((SUM(Z176:AS176))+0)+0","v":133},2,3,9,8,2,9,7,5,9,10,10,6,6,9,11,13,3,7,2,2]
[176,"22184 Poleñino","22184",{"$f":"((SUM(E177:X177)))+0","v":101},0,3,2,3,2,5,7,6,9,12,6,7,10,11,4,4,4,5,1,0,{"$f":"((SUM(Z177:AS177))+0)+0","v":92},2,6,6,1,2,2,6,3,7,7,4,3,8,9,4,11,5,4,2,0]
[177,"22186 Pozán de Vero","22186",{"$f":"((SUM(E178:X178)))+0","v":120},7,3,6,4,3,2,4,11,10,9,10,6,8,13,7,5,5,4,1,2,{"$f":"((SUM(Z178:AS178))+0)+0","v":121},5,9,8,2,5,4,5,7,12,10,4,4,10,8,5,3,5,8,5,2]
[178,"22187 Puebla de Castro (La)","22187",{"$f":"((SUM(E179:X179)))+0","v":221},13,8,9,7,13,10,8,10,20,22,19,23,15,7,19,6,4,7,1,0,{"$f":"((SUM(Z179:AS179))+0)+0","v":194},6,8,12,6,6,10,6,12,15,17,22,18,15,13,14,6,5,2,1,0]
[179,"22188 Puente de Montañana","22188",{"$f":"((SUM(E180:X180)))+0","v":44},1,2,0,1,1,1,4,2,2,6,1,6,4,3,1,2,4,2,1,0,{"$f":"((SUM(Z180:AS180))+0)+0","v":50},1,0,1,1,2,3,2,3,0,1,6,2,4,3,5,5,3,4,4,0]
[180,"22189 Puértolas","22189",{"$f":"((SUM(E181:X181)))+0","v":115},2,5,5,3,3,2,5,9,12,15,7,10,5,10,7,5,4,5,1,0,{"$f":"((SUM(Z181:AS181))+0)+0","v":101},6,4,4,3,1,6,5,7,14,9,7,4,4,11,4,8,3,1,0,0]
[181,"22190 Pueyo de Araguás (El)","22190",{"$f":"((SUM(E182:X182)))+0","v":93},0,3,6,7,3,6,6,1,8,10,4,10,6,8,7,1,4,2,1,0,{"$f":"((SUM(Z182:AS182))+0)+0","v":75},2,5,7,3,2,2,0,3,8,7,10,4,4,6,4,4,2,2,0,0]
[182,"22193 Pueyo de Santa Cruz","22193",{"$f":"((SUM(E183:X183)))+0","v":154},2,6,9,3,5,6,12,8,15,13,7,17,8,8,7,9,5,8,6,0,{"$f":"((SUM(Z183:AS183))+0)+0","v":164},4,9,4,5,9,8,12,9,12,7,12,20,5,5,10,12,7,9,2,3]
[183,"22195 Quicena","22195",{"$f":"((SUM(E184:X184)))+0","v":142},2,6,5,5,7,5,6,9,11,12,13,20,12,7,7,8,2,3,2,0,{"$f":"((SUM(Z184:AS184))+0)+0","v":153},5,3,11,9,12,6,5,12,3,12,20,18,13,6,4,7,3,3,1,0]
[184,"22197 Robres","22197",{"$f":"((SUM(E185:X185)))+0","v":280},12,10,10,10,8,9,14,17,16,19,28,33,22,25,10,14,14,8,1,0,{"$f":"((SUM(Z185:AS185))+0)+0","v":257},3,14,5,10,10,9,9,20,14,15,13,21,22,17,18,13,16,17,10,1]
[185,"22199 Sabiñánigo","22199",{"$f":"((SUM(E186:X186)))+0","v":4699},175,191,228,222,232,241,243,316,395,349,366,418,372,283,211,153,94,142,57,11,{"$f":"((SUM(Z186:AS186))+0)+0","v":4672},154,193,230,207,212,208,231,290,347,319,405,328,361,323,200,191,180,152,112,29]
[186,"22200 Sahún","22200",{"$f":"((SUM(E187:X187)))+0","v":150},2,3,12,9,2,10,3,9,6,14,9,22,10,8,13,7,1,6,4,0,{"$f":"((SUM(Z187:AS187))+0)+0","v":158},6,7,4,7,4,7,12,11,13,13,21,6,14,4,10,9,1,6,2,1]
[187,"22201 Salas Altas","22201",{"$f":"((SUM(E188:X188)))+0","v":164},6,7,5,3,11,4,10,9,16,11,11,6,12,15,10,7,2,11,5,3,{"$f":"((SUM(Z188:AS188))+0)+0","v":152},0,3,8,4,6,7,9,7,4,13,8,13,9,12,7,8,9,12,5,8]
[188,"22202 Salas Bajas","22202",{"$f":"((SUM(E189:X189)))+0","v":94},1,4,0,4,3,3,5,8,11,10,8,7,9,3,5,6,1,4,2,0,{"$f":"((SUM(Z189:AS189))+0)+0","v":96},1,4,10,3,5,3,2,5,9,7,6,10,7,7,3,3,3,4,3,1]
[189,"22203 Salillas","22203",{"$f":"((SUM(E190:X190)))+0","v":58},2,1,0,2,2,3,2,2,4,8,6,5,2,1,4,5,4,1,1,3,{"$f":"((SUM(Z190:AS190))+0)+0","v":44},2,2,1,2,1,1,2,3,5,2,0,2,2,3,4,5,2,3,1,1]
[190,"22204 Sallent de Gállego","22204",{"$f":"((SUM(E191:X191)))+0","v":781},28,21,38,27,37,35,51,66,75,71,85,68,52,38,30,31,17,5,6,0,{"$f":"((SUM(Z191:AS191))+0)+0","v":776},31,28,47,42,37,38,47,71,66,75,62,61,50,31,31,28,10,13,7,1]
[191,"22205 San Esteban de Litera","22205",{"$f":"((SUM(E192:X192)))+0","v":305},6,6,9,7,20,23,24,21,24,30,15,28,14,20,12,13,16,16,1,0,{"$f":"((SUM(Z192:AS192))+0)+0","v":281},9,15,14,2,9,13,12,19,16,18,18,20,11,22,15,22,18,15,11,2]
[192,"22206 Sangarrén","22206",{"$f":"((SUM(E193:X193)))+0","v":117},3,2,1,4,2,4,7,13,11,8,10,5,6,8,10,9,6,6,2,0,{"$f":"((SUM(Z193:AS193))+0)+0","v":102},3,2,1,2,0,2,4,9,8,5,7,6,6,11,15,7,3,6,3,2]
[193,"22207 San Juan de Plan","22207",{"$f":"((SUM(E194:X194)))+0","v":86},3,5,2,7,3,1,0,3,10,9,8,10,8,4,3,3,3,3,1,0,{"$f":"((SUM(Z194:AS194))+0)+0","v":72},2,5,5,1,1,5,4,7,4,3,7,9,2,0,3,5,2,5,2,0]
[194,"22208 Santa Cilia","22208",{"$f":"((SUM(E195:X195)))+0","v":129},2,8,6,6,8,6,2,11,12,10,8,18,12,7,4,2,1,4,1,1,{"$f":"((SUM(Z195:AS195))+0)+0","v":125},4,8,11,6,8,6,3,7,9,13,7,12,4,3,4,4,3,7,6,0]
[195,"22209 Santa Cruz de la Serós","22209",{"$f":"((SUM(E196:X196)))+0","v":109},3,2,2,3,7,7,4,9,12,4,12,9,9,7,7,5,3,2,2,0,{"$f":"((SUM(Z196:AS196))+0)+0","v":85},6,3,3,4,2,3,6,4,8,3,9,5,9,7,3,4,2,3,0,1]
[196,"22212 Santaliestra y San Quílez","22212",{"$f":"((SUM(E197:X197)))+0","v":47},0,3,0,0,2,2,5,4,2,1,5,4,2,4,6,2,0,2,3,0,{"$f":"((SUM(Z197:AS197))+0)+0","v":32},1,0,1,2,0,0,1,3,1,0,1,3,2,6,1,4,3,1,2,0]
[197,"22213 Sariñena","22213",{"$f":"((SUM(E198:X198)))+0","v":2169},120,96,101,106,105,122,129,145,165,170,155,179,146,122,105,79,59,46,15,4,{"$f":"((SUM(Z198:AS198))+0)+0","v":1995},96,76,88,106,82,95,132,124,129,142,144,147,145,118,114,77,65,59,40,16]
[198,"22214 Secastilla","22214",{"$f":"((SUM(E199:X199)))+0","v":70},0,5,1,4,1,2,7,3,5,4,6,9,3,6,5,3,1,4,0,1,{"$f":"((SUM(Z199:AS199))+0)+0","v":81},4,2,5,1,2,2,2,5,6,10,6,8,8,6,4,3,1,3,3,0]
[199,"22215 Seira","22215",{"$f":"((SUM(E200:X200)))+0","v":88},2,1,3,1,3,3,3,5,8,5,10,8,11,6,8,4,3,3,1,0,{"$f":"((SUM(Z200:AS200))+0)+0","v":71},2,1,5,3,1,3,3,4,4,4,7,6,4,3,7,6,3,1,2,2]
[200,"22217 Sena","22217",{"$f":"((SUM(E201:X201)))+0","v":262},8,10,9,6,10,23,15,10,22,21,21,17,14,16,18,19,7,9,5,2,{"$f":"((SUM(Z201:AS201))+0)+0","v":234},10,10,11,10,13,9,13,10,14,10,17,22,11,17,14,15,15,8,3,2]
[201,"22218 Senés de Alcubierre","22218",{"$f":"((SUM(E202:X202)))+0","v":22},0,0,0,0,2,3,0,0,0,3,2,4,0,1,3,3,0,1,0,0,{"$f":"((SUM(Z202:AS202))+0)+0","v":24},0,1,0,0,2,1,1,0,3,3,3,2,1,0,1,4,1,1,0,0]
[202,"22220 Sesa","22220",{"$f":"((SUM(E203:X203)))+0","v":91},1,2,2,4,3,4,5,4,5,7,8,8,9,2,6,6,7,7,1,0,{"$f":"((SUM(Z203:AS203))+0)+0","v":69},0,0,0,3,2,1,2,1,2,4,6,11,5,4,6,6,6,3,7,0]
[203,"22221 Sesué","22221",{"$f":"((SUM(E204:X204)))+0","v":66},3,5,5,4,4,1,2,5,7,8,6,6,4,1,1,3,0,1,0,0,{"$f":"((SUM(Z204:AS204))+0)+0","v":62},2,5,3,1,2,3,0,5,10,7,7,5,2,2,3,2,1,1,0,1]
[204,"22222 Siétamo","22222",{"$f":"((SUM(E205:X205)))+0","v":393},17,22,20,21,14,17,24,24,30,36,39,29,35,26,14,10,8,5,2,0,{"$f":"((SUM(Z205:AS205))+0)+0","v":304},14,21,11,18,9,11,18,14,22,39,27,25,18,23,16,11,1,3,3,0]
[205,"22223 Sopeira","22223",{"$f":"((SUM(E206:X206)))+0","v":51},0,0,4,1,3,4,1,2,3,1,4,7,8,4,3,3,1,1,1,0,{"$f":"((SUM(Z206:AS206))+0)+0","v":42},1,0,0,3,2,1,2,2,3,1,5,3,4,3,1,5,1,1,3,1]
[206,"22225 Tamarite de Litera","22225",{"$f":"((SUM(E207:X207)))+0","v":1775},59,64,102,88,98,110,75,107,142,141,161,120,115,92,88,70,56,58,25,4,{"$f":"((SUM(Z207:AS207))+0)+0","v":1670},55,69,82,74,87,67,81,85,98,111,109,131,121,102,93,100,77,70,36,22]
[207,"22226 Tardienta","22226",{"$f":"((SUM(E208:X208)))+0","v":464},15,24,22,8,19,23,25,27,41,41,36,33,34,25,27,20,15,18,8,3,{"$f":"((SUM(Z208:AS208))+0)+0","v":473},11,26,26,18,20,15,24,22,35,36,32,32,25,23,22,31,24,29,17,5]
[208,"22227 Tella-Sin","22227",{"$f":"((SUM(E209:X209)))+0","v":129},3,2,2,1,5,4,3,6,7,13,10,9,14,11,7,11,8,4,7,2,{"$f":"((SUM(Z209:AS209))+0)+0","v":99},2,1,1,3,4,5,8,5,6,1,5,13,10,4,9,5,3,10,3,1]
[209,"22228 Tierz","22228",{"$f":"((SUM(E210:X210)))+0","v":406},19,26,43,35,19,12,17,18,45,52,49,27,12,7,9,6,6,2,1,1,{"$f":"((SUM(Z210:AS210))+0)+0","v":416},18,32,44,23,14,11,23,23,46,70,40,19,10,12,7,10,3,5,5,1]
[210,"22229 Tolva","22229",{"$f":"((SUM(E211:X211)))+0","v":71},1,2,2,1,5,2,3,6,4,4,6,5,9,2,6,6,2,3,2,0,{"$f":"((SUM(Z211:AS211))+0)+0","v":61},2,1,1,1,2,7,4,1,3,1,6,7,4,1,6,2,5,4,2,1]
[211,"22230 Torla-Ordesa","22230",{"$f":"((SUM(E212:X212)))+0","v":163},5,0,2,5,7,3,8,14,9,18,7,15,16,13,12,13,5,4,5,2,{"$f":"((SUM(Z212:AS212))+0)+0","v":144},1,1,2,6,7,9,6,3,13,13,12,15,15,12,6,8,4,7,4,0]
[212,"22232 Torralba de Aragón","22232",{"$f":"((SUM(E213:X213)))+0","v":61},3,2,2,0,2,4,3,4,6,2,3,8,9,3,2,1,4,2,1,0,{"$f":"((SUM(Z213:AS213))+0)+0","v":44},0,2,1,1,1,1,2,2,5,4,1,6,4,0,5,1,2,1,3,2]
[213,"22233 Torre la Ribera","22233",{"$f":"((SUM(E214:X214)))+0","v":53},2,2,0,1,2,2,3,2,7,3,5,5,4,2,6,2,2,3,0,0,{"$f":"((SUM(Z214:AS214))+0)+0","v":48},1,1,4,0,5,2,4,3,3,3,3,4,1,5,2,1,1,3,1,1]
[214,"22234 Torrente de Cinca","22234",{"$f":"((SUM(E215:X215)))+0","v":617},20,17,26,12,30,41,61,53,45,59,61,33,48,29,25,23,14,10,8,2,{"$f":"((SUM(Z215:AS215))+0)+0","v":534},10,12,23,16,17,25,33,31,35,47,44,42,42,19,32,27,30,30,11,8]
[215,"22235 Torres de Alcanadre","22235",{"$f":"((SUM(E216:X216)))+0","v":49},0,1,1,0,0,2,4,5,5,0,2,3,6,6,2,4,1,5,2,0,{"$f":"((SUM(Z216:AS216))+0)+0","v":36},0,0,0,0,1,3,2,2,2,1,2,2,4,3,3,2,2,4,2,1]
[216,"22236 Torres de Barbués","22236",{"$f":"((SUM(E217:X217)))+0","v":122},3,4,1,4,2,3,5,10,7,13,8,17,17,6,6,4,3,5,4,0,{"$f":"((SUM(Z217:AS217))+0)+0","v":134},2,3,3,1,8,5,8,7,4,13,5,12,13,13,10,8,7,7,4,1]
[217,"22239 Tramaced","22239",{"$f":"((SUM(E218:X218)))+0","v":68},0,1,2,4,1,4,5,3,8,3,7,7,2,3,3,6,4,3,2,0,{"$f":"((SUM(Z218:AS218))+0)+0","v":42},1,1,3,2,0,1,1,2,5,4,3,2,2,0,6,4,2,3,0,0]
[218,"22242 Valfarta","22242",{"$f":"((SUM(E219:X219)))+0","v":37},0,1,0,2,1,0,0,1,3,1,8,5,6,1,3,0,2,2,1,0,{"$f":"((SUM(Z219:AS219))+0)+0","v":21},0,0,0,0,0,0,0,0,2,1,1,1,2,3,1,1,4,3,2,0]
[219,"22243 Valle de Bardají","22243",{"$f":"((SUM(E220:X220)))+0","v":37},0,0,0,1,1,2,7,0,2,1,5,5,3,2,3,1,0,3,1,0,{"$f":"((SUM(Z220:AS220))+0)+0","v":21},0,0,0,0,1,2,2,1,1,1,4,3,0,2,1,0,1,0,0,2]
[220,"22244 Valle de Lierp","22244",{"$f":"((SUM(E221:X221)))+0","v":33},2,1,0,1,2,1,2,0,1,2,2,5,4,4,0,3,1,0,2,0,{"$f":"((SUM(Z221:AS221))+0)+0","v":20},1,0,1,0,0,0,3,0,1,0,0,3,2,1,3,1,1,3,0,0]
[221,"22245 Velilla de Cinca","22245",{"$f":"((SUM(E222:X222)))+0","v":249},9,9,7,10,20,15,12,22,22,22,21,17,10,8,18,5,6,11,4,1,{"$f":"((SUM(Z222:AS222))+0)+0","v":227},8,12,7,21,16,13,10,11,13,10,23,17,8,14,9,9,8,13,5,0]
[222,"22246 Beranuy","22246",{"$f":"((SUM(E223:X223)))+0","v":40},0,0,1,1,1,1,0,5,1,2,3,1,8,4,5,4,2,1,0,0,{"$f":"((SUM(Z223:AS223))+0)+0","v":32},0,2,0,1,0,0,1,2,1,1,1,3,4,5,5,2,2,1,1,0]
[223,"22247 Viacamp y Litera","22247",{"$f":"((SUM(E224:X224)))+0","v":25},0,0,0,0,0,1,2,2,3,4,0,2,5,2,2,0,1,1,0,0,{"$f":"((SUM(Z224:AS224))+0)+0","v":14},0,0,0,1,0,0,1,1,1,2,1,1,3,0,0,0,0,1,1,1]
[224,"22248 Vicién","22248",{"$f":"((SUM(E225:X225)))+0","v":73},1,1,1,2,1,7,4,3,6,9,6,6,6,8,5,4,0,2,1,0,{"$f":"((SUM(Z225:AS225))+0)+0","v":55},1,2,0,2,1,3,3,4,3,6,3,7,3,6,2,4,2,2,0,1]
[225,"22249 Villanova","22249",{"$f":"((SUM(E226:X226)))+0","v":89},1,7,8,4,3,2,4,2,7,11,15,5,7,4,2,1,4,1,1,0,{"$f":"((SUM(Z226:AS226))+0)+0","v":81},1,5,4,9,2,1,4,3,15,8,7,2,4,4,3,2,3,3,1,0]
[226,"22250 Villanúa","22250",{"$f":"((SUM(E227:X227)))+0","v":300},6,14,17,8,4,9,19,23,29,35,30,23,28,23,12,12,3,3,2,0,{"$f":"((SUM(Z227:AS227))+0)+0","v":260},7,15,12,8,11,13,21,15,26,29,18,17,22,13,13,8,2,3,6,1]
[227,"22251 Villanueva de Sigena","22251",{"$f":"((SUM(E228:X228)))+0","v":200},10,5,3,8,10,11,13,10,14,10,13,20,26,11,10,5,9,10,1,1,{"$f":"((SUM(Z228:AS228))+0)+0","v":170},5,3,3,10,12,7,14,8,11,4,15,15,17,11,10,5,9,3,6,2]
[228,"22252 Yebra de Basa","22252",{"$f":"((SUM(E229:X229)))+0","v":93},4,4,3,4,2,4,3,6,3,10,9,9,6,6,5,8,6,1,0,0,{"$f":"((SUM(Z229:AS229))+0)+0","v":61},2,3,3,1,0,2,1,2,6,8,4,4,7,2,5,6,3,0,2,0]
[229,"22253 Yésero","22253",{"$f":"((SUM(E230:X230)))+0","v":32},0,0,0,1,1,0,1,1,1,4,3,1,5,3,2,4,3,1,0,1,{"$f":"((SUM(Z230:AS230))+0)+0","v":26},0,2,0,0,0,0,0,3,1,2,1,1,2,5,1,3,2,1,0,2]
[230,"22254 Zaidín","22254",{"$f":"((SUM(E231:X231)))+0","v":974},32,39,26,49,63,52,71,76,99,79,78,68,56,45,43,33,32,23,8,2,{"$f":"((SUM(Z231:AS231))+0)+0","v":898},36,25,38,37,71,54,49,58,67,69,80,45,53,47,42,41,28,32,20,6]
[231,"22901 Valle de Hecho","22901",{"$f":"((SUM(E232:X232)))+0","v":436},7,11,11,13,22,20,26,21,32,34,37,42,39,32,14,29,13,23,7,3,{"$f":"((SUM(Z232:AS232))+0)+0","v":374},8,10,12,14,15,12,18,13,20,30,33,34,34,25,13,23,16,25,12,7]
[232,"22902 Puente la Reina de Jaca","22902",{"$f":"((SUM(E233:X233)))+0","v":140},7,2,9,5,3,7,3,7,12,14,12,13,11,7,3,11,2,7,4,1,{"$f":"((SUM(Z233:AS233))+0)+0","v":121},1,3,3,6,4,7,2,9,6,11,9,10,10,6,7,8,5,7,5,2]
[233,"22903 San Miguel del Cinca","22903",{"$f":"((SUM(E234:X234)))+0","v":411},11,27,18,11,21,30,28,19,35,31,28,25,37,20,21,24,13,7,3,2,{"$f":"((SUM(Z234:AS234))+0)+0","v":390},16,20,10,18,17,17,27,25,20,25,25,31,19,24,35,22,14,14,9,2]
[234,"22904 Sotonera (La)","22904",{"$f":"((SUM(E235:X235)))+0","v":488},6,15,24,23,14,16,28,25,25,47,42,43,39,30,40,28,22,16,3,2,{"$f":"((SUM(Z235:AS235))+0)+0","v":431},5,9,13,16,12,16,22,14,25,44,27,37,34,35,21,30,22,29,15,5]
[235,"22905 Lupiñén-Ortilla","22905",{"$f":"((SUM(E236:X236)))+0","v":180},8,3,6,3,7,9,5,10,15,18,19,19,15,10,12,12,5,2,2,0,{"$f":"((SUM(Z236:AS236))+0)+0","v":174},2,3,13,7,12,4,10,9,14,13,11,13,13,11,9,10,7,4,7,2]
[236,"22906 Santa María de Dulcis","22906",{"$f":"((SUM(E237:X237)))+0","v":108},3,2,6,2,4,4,6,6,5,7,8,12,7,9,8,9,2,8,0,0,{"$f":"((SUM(Z237:AS237))+0)+0","v":93},1,3,1,4,7,1,6,1,7,8,7,9,7,6,9,5,2,4,4,1]
[237,"22907 Aínsa-Sobrarbe","22907",{"$f":"((SUM(E238:X238)))+0","v":1166},65,66,69,51,64,40,68,81,97,91,103,93,89,68,33,35,17,26,10,0,{"$f":"((SUM(Z238:AS238))+0)+0","v":1149},52,63,56,44,56,52,73,81,95,99,97,107,70,49,47,29,25,32,16,6]
[238,"22908 Hoz y Costeán","22908",{"$f":"((SUM(E239:X239)))+0","v":134},1,3,6,4,2,6,7,11,8,8,12,6,19,10,6,10,5,2,4,4,{"$f":"((SUM(Z239:AS239))+0)+0","v":106},0,3,4,4,1,4,3,10,4,8,5,7,12,5,9,4,6,7,7,3]
[239,"22909 Vencillón","22909",{"$f":"((SUM(E240:X240)))+0","v":222},4,2,13,17,16,8,8,12,11,22,25,15,16,10,19,11,6,4,1,2,{"$f":"((SUM(Z240:AS240))+0)+0","v":193},7,7,14,14,7,8,5,6,9,17,19,8,13,12,16,13,6,7,3,2]
[240,"44001 Ababuj","44001",{"$f":"((SUM(E241:X241)))+0","v":44},0,2,2,0,3,2,0,1,7,4,4,4,4,0,3,1,3,2,1,1,{"$f":"((SUM(Z241:AS241))+0)+0","v":28},0,2,0,2,1,0,0,2,0,3,5,1,2,1,2,2,2,2,1,0]
[241,"44002 Abejuela","44002",{"$f":"((SUM(E242:X242)))+0","v":34},0,0,1,2,0,0,0,4,2,2,4,3,5,3,4,1,1,2,0,0,{"$f":"((SUM(Z242:AS242))+0)+0","v":22},0,0,0,1,2,0,0,1,0,1,4,0,4,2,1,1,2,1,2,0]
[242,"44003 Aguatón","44003",{"$f":"((SUM(E243:X243)))+0","v":7},0,0,0,0,0,0,0,0,1,2,0,1,0,0,0,1,1,1,0,0,{"$f":"((SUM(Z243:AS243))+0)+0","v":9},0,0,0,0,0,0,0,1,1,1,0,2,0,0,1,1,1,1,0,0]
[243,"44004 Aguaviva","44004",{"$f":"((SUM(E244:X244)))+0","v":271},13,9,10,14,14,14,16,13,17,17,28,24,22,21,11,5,9,6,5,3,{"$f":"((SUM(Z244:AS244))+0)+0","v":285},11,11,16,12,11,11,16,16,15,12,35,30,24,11,7,7,14,13,9,4]
[244,"44005 Aguilar del Alfambra","44005",{"$f":"((SUM(E245:X245)))+0","v":44},0,2,1,2,4,2,2,1,6,4,2,5,4,1,1,3,0,2,2,0,{"$f":"((SUM(Z245:AS245))+0)+0","v":37},4,0,1,0,4,5,1,1,0,1,5,2,3,0,1,4,1,4,0,0]
[245,"44006 Alacón","44006",{"$f":"((SUM(E246:X246)))+0","v":113},2,1,3,0,1,6,3,4,7,4,6,9,18,5,11,8,10,6,8,1,{"$f":"((SUM(Z246:AS246))+0)+0","v":106},3,1,0,1,4,2,6,3,3,4,4,8,9,8,6,11,7,17,8,1]
[246,"44007 Alba","44007",{"$f":"((SUM(E247:X247)))+0","v":105},3,3,2,2,2,5,6,8,6,5,10,9,8,14,5,7,2,5,3,0,{"$f":"((SUM(Z247:AS247))+0)+0","v":76},4,2,1,0,2,3,1,6,4,1,5,2,10,7,7,1,4,12,4,0]
[247,"44008 Albalate del Arzobispo","44008",{"$f":"((SUM(E248:X248)))+0","v":1006},31,35,46,43,54,57,65,45,62,73,68,96,97,60,53,44,41,25,9,2,{"$f":"((SUM(Z248:AS248))+0)+0","v":953},36,37,46,36,42,50,43,51,51,60,60,83,83,48,50,60,46,41,26,4]
[248,"44009 Albarracín","44009",{"$f":"((SUM(E249:X249)))+0","v":513},12,20,27,19,23,34,30,37,39,40,38,45,39,24,17,19,20,21,8,1,{"$f":"((SUM(Z249:AS249))+0)+0","v":495},15,16,22,16,27,25,28,31,27,35,40,45,36,18,21,27,25,28,8,5]
[249,"44010 Albentosa","44010",{"$f":"((SUM(E250:X250)))+0","v":146},3,4,12,11,8,8,3,12,17,14,16,8,9,6,0,5,4,5,0,1,{"$f":"((SUM(Z250:AS250))+0)+0","v":129},9,7,10,4,6,7,10,2,8,10,11,11,7,4,4,6,8,4,0,1]
[250,"44011 Alcaine","44011",{"$f":"((SUM(E251:X251)))+0","v":29},0,0,2,0,2,0,0,2,0,1,5,3,0,4,5,1,2,1,1,0,{"$f":"((SUM(Z251:AS251))+0)+0","v":17},0,0,0,0,2,1,1,0,0,0,1,2,1,2,3,1,0,1,2,0]
[251,"44012 Alcalá de la Selva","44012",{"$f":"((SUM(E252:X252)))+0","v":209},5,3,6,10,4,13,16,13,13,15,20,25,18,10,17,6,8,5,2,0,{"$f":"((SUM(Z252:AS252))+0)+0","v":174},4,7,4,9,9,7,6,9,9,12,18,16,10,15,5,8,11,9,6,0]
[252,"44013 Alcañiz","44013",{"$f":"((SUM(E253:X253)))+0","v":7997},352,467,502,473,448,381,393,495,672,703,630,575,513,402,334,260,182,134,63,18,{"$f":"((SUM(Z253:AS253))+0)+0","v":8057},365,422,488,456,389,362,437,471,656,625,645,518,520,401,369,306,228,231,128,40]
[253,"44014 Alcorisa","44014",{"$f":"((SUM(E254:X254)))+0","v":1660},64,84,104,89,92,76,83,102,109,120,120,159,125,97,81,59,35,36,20,5,{"$f":"((SUM(Z254:AS254))+0)+0","v":1592},70,68,90,74,67,81,87,102,97,116,119,136,107,93,79,63,59,44,31,9]
[254,"44016 Alfambra","44016",{"$f":"((SUM(E255:X255)))+0","v":260},4,11,8,7,10,14,13,12,18,19,20,20,16,27,13,14,9,16,9,0,{"$f":"((SUM(Z255:AS255))+0)+0","v":230},4,6,10,7,7,13,8,5,7,15,16,11,20,12,17,25,22,13,6,6]
[255,"44017 Aliaga","44017",{"$f":"((SUM(E256:X256)))+0","v":188},6,5,8,4,6,12,9,13,11,16,12,20,15,14,11,14,1,8,3,0,{"$f":"((SUM(Z256:AS256))+0)+0","v":135},2,4,5,5,5,2,9,8,9,6,8,10,18,6,12,8,4,13,1,0]
[256,"44018 Almohaja","44018",{"$f":"((SUM(E257:X257)))+0","v":11},0,0,0,0,0,0,0,1,0,1,2,1,0,2,1,2,0,0,1,0,{"$f":"((SUM(Z257:AS257))+0)+0","v":5},0,0,0,0,0,0,0,0,1,1,0,0,0,0,0,1,1,1,0,0]
[257,"44019 Alobras","44019",{"$f":"((SUM(E258:X258)))+0","v":46},2,0,0,2,2,0,3,1,2,1,6,5,10,1,3,5,2,1,0,0,{"$f":"((SUM(Z258:AS258))+0)+0","v":21},0,0,0,0,2,1,1,3,0,1,4,3,0,3,1,0,2,0,0,0]
[258,"44020 Alpeñés","44020",{"$f":"((SUM(E259:X259)))+0","v":12},0,0,0,0,0,1,2,0,1,0,1,0,2,2,0,1,1,1,0,0,{"$f":"((SUM(Z259:AS259))+0)+0","v":8},0,0,0,0,0,0,0,0,0,0,1,2,1,1,0,1,0,2,0,0]
[259,"44021 Allepuz","44021",{"$f":"((SUM(E260:X260)))+0","v":61},1,3,2,3,3,2,1,4,4,3,3,10,2,6,5,3,3,0,3,0,{"$f":"((SUM(Z260:AS260))+0)+0","v":63},1,3,3,2,1,1,6,3,5,3,9,1,1,4,6,3,5,3,2,1]
[260,"44022 Alloza","44022",{"$f":"((SUM(E261:X261)))+0","v":287},9,7,9,16,8,12,14,17,16,9,19,26,28,29,21,17,10,10,9,1,{"$f":"((SUM(Z261:AS261))+0)+0","v":266},9,9,8,3,8,12,14,18,15,11,22,20,24,14,15,13,17,19,12,3]
[261,"44023 Allueva","44023",{"$f":"((SUM(E262:X262)))+0","v":14},0,1,1,0,0,0,1,0,2,1,1,1,1,0,2,2,0,1,0,0,{"$f":"((SUM(Z262:AS262))+0)+0","v":7},0,0,0,0,0,1,0,0,1,1,0,1,0,1,1,0,0,1,0,0]
[262,"44024 Anadón","44024",{"$f":"((SUM(E263:X263)))+0","v":21},0,0,0,1,0,2,1,2,2,3,3,0,2,0,1,4,0,0,0,0,{"$f":"((SUM(Z263:AS263))+0)+0","v":12},0,0,0,0,1,0,0,0,1,1,2,2,0,2,1,0,1,1,0,0]
[263,"44025 Andorra","44025",{"$f":"((SUM(E264:X264)))+0","v":3617},112,159,164,171,186,175,207,225,287,269,281,306,353,246,164,113,77,69,47,6,{"$f":"((SUM(Z264:AS264))+0)+0","v":3584},101,175,172,167,199,165,169,204,254,249,277,330,301,215,159,139,105,122,57,24]
[264,"44026 Arcos de las Salinas","44026",{"$f":"((SUM(E265:X265)))+0","v":71},2,4,2,5,4,4,5,3,3,7,5,6,6,3,6,2,1,2,1,0,{"$f":"((SUM(Z265:AS265))+0)+0","v":46},3,2,4,0,2,2,2,3,4,2,3,3,4,1,2,2,3,3,1,0]
[265,"44027 Arens de Lledó","44027",{"$f":"((SUM(E266:X266)))+0","v":107},3,2,1,2,5,1,4,5,6,5,9,11,11,9,12,6,9,4,2,0,{"$f":"((SUM(Z266:AS266))+0)+0","v":107},1,2,3,8,4,5,2,5,3,5,13,9,12,8,4,9,8,4,2,0]
[266,"44028 Argente","44028",{"$f":"((SUM(E267:X267)))+0","v":104},5,4,4,1,5,4,5,7,5,5,7,11,8,5,7,7,6,5,2,1,{"$f":"((SUM(Z267:AS267))+0)+0","v":104},4,2,2,4,4,6,2,2,7,4,7,5,9,8,7,7,11,6,7,0]
[267,"44029 Ariño","44029",{"$f":"((SUM(E268:X268)))+0","v":333},4,13,11,15,22,18,19,20,28,25,29,32,25,21,13,15,8,7,6,2,{"$f":"((SUM(Z268:AS268))+0)+0","v":332},5,12,16,13,11,16,16,12,24,25,28,31,30,20,16,16,7,25,7,2]
[268,"44031 Azaila","44031",{"$f":"((SUM(E269:X269)))+0","v":59},2,3,1,0,2,5,4,0,0,5,2,11,5,5,5,2,2,2,2,1,{"$f":"((SUM(Z269:AS269))+0)+0","v":46},1,1,1,0,0,1,3,2,2,4,2,6,3,1,2,5,5,5,0,2]
[269,"44032 Bádenas","44032",{"$f":"((SUM(E270:X270)))+0","v":11},0,0,0,1,0,1,0,1,1,0,1,4,0,0,0,0,1,1,0,0,{"$f":"((SUM(Z270:AS270))+0)+0","v":8},0,2,1,0,0,0,0,0,1,2,1,0,0,0,0,0,0,1,0,0]
[270,"44033 Báguena","44033",{"$f":"((SUM(E271:X271)))+0","v":152},4,0,1,2,3,6,7,7,8,9,20,12,12,14,8,13,10,8,8,0,{"$f":"((SUM(Z271:AS271))+0)+0","v":119},2,1,2,7,5,5,4,5,8,5,8,7,11,9,6,13,6,7,6,2]
[271,"44034 Bañón","44034",{"$f":"((SUM(E272:X272)))+0","v":89},1,4,1,2,4,3,2,6,6,7,12,14,9,3,0,5,3,4,3,0,{"$f":"((SUM(Z272:AS272))+0)+0","v":68},3,3,0,2,2,3,2,2,2,6,8,6,2,0,3,9,3,6,6,0]
[272,"44035 Barrachina","44035",{"$f":"((SUM(E273:X273)))+0","v":63},1,1,1,1,2,2,3,3,3,5,5,6,7,5,6,2,1,1,7,1,{"$f":"((SUM(Z273:AS273))+0)+0","v":53},0,1,5,1,1,8,3,3,2,1,3,5,4,1,5,2,4,0,3,1]
[273,"44036 Bea","44036",{"$f":"((SUM(E274:X274)))+0","v":21},0,0,1,0,2,2,1,0,1,0,4,3,1,2,3,0,0,1,0,0,{"$f":"((SUM(Z274:AS274))+0)+0","v":12},0,0,1,1,2,0,0,1,0,1,2,1,1,1,0,0,0,1,0,0]
[274,"44037 Beceite","44037",{"$f":"((SUM(E275:X275)))+0","v":278},5,12,13,4,11,23,15,8,12,29,19,24,35,20,15,11,11,10,1,0,{"$f":"((SUM(Z275:AS275))+0)+0","v":272},2,6,16,11,11,8,12,10,18,17,27,25,24,19,13,15,16,16,5,1]
[275,"44038 Belmonte de San José","44038",{"$f":"((SUM(E276:X276)))+0","v":66},1,3,1,1,6,3,0,0,2,3,6,9,5,3,7,9,3,4,0,0,{"$f":"((SUM(Z276:AS276))+0)+0","v":70},4,3,3,5,4,3,3,2,3,1,3,5,5,7,5,7,4,2,1,0]
[276,"44039 Bello","44039",{"$f":"((SUM(E277:X277)))+0","v":112},2,2,1,1,2,0,8,4,4,5,5,17,14,10,9,7,7,8,4,2,{"$f":"((SUM(Z277:AS277))+0)+0","v":118},0,3,1,5,8,3,8,4,8,8,8,10,6,7,10,7,6,13,2,1]
[277,"44040 Berge","44040",{"$f":"((SUM(E278:X278)))+0","v":119},1,7,2,7,6,7,2,7,17,10,5,12,9,6,3,6,5,3,3,1,{"$f":"((SUM(Z278:AS278))+0)+0","v":112},3,7,5,7,6,3,8,4,11,7,10,6,3,6,5,3,2,10,6,0]
[278,"44041 Bezas","44041",{"$f":"((SUM(E279:X279)))+0","v":41},1,0,0,3,1,1,5,4,3,5,4,1,7,4,1,0,1,0,0,0,{"$f":"((SUM(Z279:AS279))+0)+0","v":22},0,1,1,1,1,0,3,0,0,2,1,2,4,2,0,0,1,3,0,0]
[279,"44042 Blancas","44042",{"$f":"((SUM(E280:X280)))+0","v":84},4,1,2,1,5,4,2,5,3,5,4,9,10,9,7,1,7,4,0,1,{"$f":"((SUM(Z280:AS280))+0)+0","v":56},2,0,2,3,5,4,5,1,2,1,5,5,3,1,2,6,5,4,0,0]
[280,"44043 Blesa","44043",{"$f":"((SUM(E281:X281)))+0","v":58},0,0,1,1,2,1,4,2,3,5,4,8,5,9,4,5,2,2,0,0,{"$f":"((SUM(Z281:AS281))+0)+0","v":30},0,1,0,0,0,0,1,1,0,2,2,4,4,6,1,5,1,0,1,1]
[281,"44044 Bordón","44044",{"$f":"((SUM(E282:X282)))+0","v":62},0,3,4,3,6,2,5,3,4,2,8,4,4,3,1,3,1,4,2,0,{"$f":"((SUM(Z282:AS282))+0)+0","v":49},3,4,2,1,2,0,2,2,4,5,2,4,2,2,5,2,2,4,1,0]
[282,"44045 Bronchales","44045",{"$f":"((SUM(E283:X283)))+0","v":243},7,5,7,10,3,10,14,25,18,21,24,23,26,16,16,8,3,1,6,0,{"$f":"((SUM(Z283:AS283))+0)+0","v":192},8,4,6,7,9,16,16,16,8,13,10,10,22,10,11,4,10,4,7,1]
[283,"44046 Bueña","44046",{"$f":"((SUM(E284:X284)))+0","v":27},1,1,1,0,2,1,0,2,1,1,3,2,1,2,3,2,3,0,1,0,{"$f":"((SUM(Z284:AS284))+0)+0","v":24},0,0,1,2,0,1,0,1,3,0,2,1,0,3,1,2,4,1,2,0]
[284,"44047 Burbáguena","44047",{"$f":"((SUM(E285:X285)))+0","v":163},5,4,2,5,11,15,14,7,14,5,8,11,12,9,6,11,7,10,6,1,{"$f":"((SUM(Z285:AS285))+0)+0","v":115},6,1,3,1,2,3,13,5,5,7,4,5,5,4,8,8,4,10,15,6]
[285,"44048 Cabra de Mora","44048",{"$f":"((SUM(E286:X286)))+0","v":43},0,0,1,0,0,3,3,2,2,3,2,9,8,3,0,2,1,3,1,0,{"$f":"((SUM(Z286:AS286))+0)+0","v":26},1,0,0,0,1,2,1,1,0,2,3,6,1,2,0,1,2,1,1,1]
[286,"44049 Calaceite","44049",{"$f":"((SUM(E287:X287)))+0","v":490},25,23,12,16,17,16,28,25,39,33,32,49,27,36,34,32,20,12,12,2,{"$f":"((SUM(Z287:AS287))+0)+0","v":503},19,24,24,17,20,26,18,20,32,24,36,36,29,35,33,28,27,26,24,5]
[287,"44050 Calamocha","44050",{"$f":"((SUM(E288:X288)))+0","v":2234},84,114,144,131,119,131,123,140,177,168,164,181,152,108,111,70,49,45,20,3,{"$f":"((SUM(Z288:AS288))+0)+0","v":2251},85,111,116,106,132,122,128,133,170,166,175,175,132,126,104,84,72,67,30,17]
[288,"44051 Calanda","44051",{"$f":"((SUM(E289:X289)))+0","v":1886},73,91,84,89,104,100,119,128,177,148,137,127,135,124,92,61,36,35,21,5,{"$f":"((SUM(Z289:AS289))+0)+0","v":1869},74,85,89,87,97,99,116,111,111,118,156,148,134,106,103,67,63,61,31,13]
[289,"44052 Calomarde","44052",{"$f":"((SUM(E290:X290)))+0","v":44},1,0,1,1,1,3,3,1,1,4,2,3,7,4,4,3,1,2,2,0,{"$f":"((SUM(Z290:AS290))+0)+0","v":33},0,0,1,0,1,1,2,1,4,2,2,2,6,1,1,2,3,2,1,1]
[290,"44053 Camañas","44053",{"$f":"((SUM(E291:X291)))+0","v":75},5,2,2,5,1,4,4,5,8,8,3,8,1,3,3,3,5,3,1,1,{"$f":"((SUM(Z291:AS291))+0)+0","v":62},6,1,2,2,2,6,2,5,4,3,2,3,0,8,3,1,6,2,4,0]
[291,"44054 Camarena de la Sierra","44054",{"$f":"((SUM(E292:X292)))+0","v":69},1,2,3,1,0,2,4,5,9,2,7,3,10,4,6,5,0,5,0,0,{"$f":"((SUM(Z292:AS292))+0)+0","v":54},1,4,3,1,0,5,3,5,2,7,2,5,6,3,4,1,0,1,1,0]
[292,"44055 Camarillas","44055",{"$f":"((SUM(E293:X293)))+0","v":50},0,2,1,0,3,3,1,3,7,6,5,6,2,1,2,3,2,2,0,1,{"$f":"((SUM(Z293:AS293))+0)+0","v":34},1,0,2,2,1,4,0,1,2,2,3,1,5,1,2,1,3,2,1,0]
[293,"44056 Caminreal","44056",{"$f":"((SUM(E294:X294)))+0","v":330},17,7,18,16,12,15,16,30,22,20,27,24,21,25,21,11,14,11,3,0,{"$f":"((SUM(Z294:AS294))+0)+0","v":295},10,5,15,12,15,10,18,15,21,9,24,17,23,22,12,16,23,18,8,2]
[294,"44059 Cantavieja","44059",{"$f":"((SUM(E295:X295)))+0","v":370},15,20,25,23,12,18,22,24,22,32,26,27,20,18,26,16,11,8,3,2,{"$f":"((SUM(Z295:AS295))+0)+0","v":337},10,11,11,12,17,20,21,22,30,25,18,18,28,23,21,11,8,19,8,4]
[295,"44060 Cañada de Benatanduz","44060",{"$f":"((SUM(E296:X296)))+0","v":22},0,0,0,0,1,0,3,0,1,3,3,1,2,1,1,3,2,1,0,0,{"$f":"((SUM(Z296:AS296))+0)+0","v":13},2,0,0,0,0,1,0,1,0,1,0,1,1,1,1,2,1,1,0,0]
[296,"44061 Cañada de Verich (La)","44061",{"$f":"((SUM(E297:X297)))+0","v":55},0,1,1,3,3,2,2,1,5,4,5,6,5,4,2,1,3,5,1,1,{"$f":"((SUM(Z297:AS297))+0)+0","v":42},1,0,3,2,5,3,2,0,3,1,2,1,4,3,1,1,4,5,1,0]
[297,"44062 Cañada Vellida","44062",{"$f":"((SUM(E298:X298)))+0","v":27},0,0,1,1,1,1,1,0,1,0,5,2,0,2,4,6,1,0,1,0,{"$f":"((SUM(Z298:AS298))+0)+0","v":11},0,0,0,0,0,0,2,0,0,1,1,1,3,0,2,1,0,0,0,0]
[298,"44063 Cañizar del Olivar","44063",{"$f":"((SUM(E299:X299)))+0","v":60},2,4,1,3,1,3,5,8,3,3,2,4,5,4,3,4,2,2,1,0,{"$f":"((SUM(Z299:AS299))+0)+0","v":43},3,3,3,1,2,3,4,2,2,1,2,5,3,2,3,0,1,1,1,1]
[299,"44064 Cascante del Río","44064",{"$f":"((SUM(E300:X300)))+0","v":38},0,0,2,0,0,1,1,1,2,4,7,2,2,3,4,6,3,0,0,0,{"$f":"((SUM(Z300:AS300))+0)+0","v":28},0,0,1,2,1,0,1,0,0,4,1,1,2,2,3,2,5,2,1,0]
[300,"44065 Castejón de Tornos","44065",{"$f":"((SUM(E301:X301)))+0","v":34},0,1,0,0,1,1,0,0,1,6,2,2,4,3,6,1,3,1,2,0,{"$f":"((SUM(Z301:AS301))+0)+0","v":19},1,0,0,0,0,0,1,0,1,0,2,0,0,0,5,1,4,2,1,1]
[301,"44066 Castel de Cabra","44066",{"$f":"((SUM(E302:X302)))+0","v":53},1,2,2,0,3,1,3,2,3,3,4,10,2,3,2,3,1,7,0,1,{"$f":"((SUM(Z302:AS302))+0)+0","v":42},1,1,1,2,1,2,0,4,2,0,3,6,2,4,3,2,4,2,1,1]
[302,"44067 Castelnou","44067",{"$f":"((SUM(E303:X303)))+0","v":61},5,4,2,1,1,1,3,4,2,7,7,6,7,5,1,0,0,4,0,1,{"$f":"((SUM(Z303:AS303))+0)+0","v":52},1,3,3,3,2,3,3,1,3,3,3,1,3,2,2,4,5,6,0,1]
[303,"44068 Castelserás","44068",{"$f":"((SUM(E304:X304)))+0","v":420},11,13,19,23,18,16,16,28,24,45,25,29,30,32,29,23,15,17,5,2,{"$f":"((SUM(Z304:AS304))+0)+0","v":373},16,18,22,19,13,13,15,11,31,25,21,35,21,24,26,23,12,13,12,3]
[304,"44070 Castellar (El)","44070",{"$f":"((SUM(E305:X305)))+0","v":37},0,0,0,0,3,2,4,1,1,1,2,5,3,4,1,1,1,6,1,1,{"$f":"((SUM(Z305:AS305))+0)+0","v":18},0,0,0,0,0,1,0,0,0,1,4,2,0,2,1,2,2,1,2,0]
[305,"44071 Castellote","44071",{"$f":"((SUM(E306:X306)))+0","v":345},3,5,13,7,14,16,15,22,19,25,33,28,38,25,27,15,18,15,6,1,{"$f":"((SUM(Z306:AS306))+0)+0","v":332},4,10,9,10,14,18,15,21,15,16,18,33,27,21,27,14,23,25,7,5]
[306,"44074 Cedrillas","44074",{"$f":"((SUM(E307:X307)))+0","v":319},15,16,13,20,13,15,19,27,21,27,15,24,24,19,13,14,9,6,7,2,{"$f":"((SUM(Z307:AS307))+0)+0","v":315},10,16,21,15,12,23,20,24,16,19,25,27,17,15,12,14,9,12,7,1]
[307,"44075 Celadas","44075",{"$f":"((SUM(E308:X308)))+0","v":206},1,7,2,11,15,12,16,9,4,8,24,27,15,15,8,9,10,6,3,4,{"$f":"((SUM(Z308:AS308))+0)+0","v":156},2,3,5,6,10,7,6,7,2,9,12,15,18,7,7,8,10,11,8,3]
[308,"44076 Cella","44076",{"$f":"((SUM(E309:X309)))+0","v":1347},48,59,59,52,68,59,77,81,118,102,105,94,103,76,77,70,43,38,15,3,{"$f":"((SUM(Z309:AS309))+0)+0","v":1264},39,56,57,53,48,53,76,76,93,86,67,77,100,79,76,76,54,61,27,10]
[309,"44077 Cerollera (La)","44077",{"$f":"((SUM(E310:X310)))+0","v":48},0,1,1,1,3,2,1,7,1,3,5,5,6,5,2,1,1,1,2,0,{"$f":"((SUM(Z310:AS310))+0)+0","v":26},0,0,0,1,1,1,0,3,2,2,3,2,2,3,0,1,2,1,1,1]
[310,"44080 Codoñera (La)","44080",{"$f":"((SUM(E311:X311)))+0","v":165},4,4,9,4,4,5,13,5,6,14,12,20,18,9,3,6,7,12,9,1,{"$f":"((SUM(Z311:AS311))+0)+0","v":152},3,3,9,5,6,13,10,2,10,11,8,12,18,2,7,7,8,10,6,2]
[311,"44082 Corbalán","44082",{"$f":"((SUM(E312:X312)))+0","v":56},0,2,4,2,2,1,4,2,6,5,7,6,5,4,2,3,0,0,0,1,{"$f":"((SUM(Z312:AS312))+0)+0","v":54},4,3,1,1,7,1,3,3,4,1,5,5,4,3,2,0,1,4,2,0]
[312,"44084 Cortes de Aragón","44084",{"$f":"((SUM(E313:X313)))+0","v":28},0,1,1,0,1,1,1,1,0,1,7,4,2,3,2,2,0,0,1,0,{"$f":"((SUM(Z313:AS313))+0)+0","v":34},0,0,1,0,0,4,4,2,0,3,3,4,2,2,1,0,1,2,3,2]
[313,"44085 Cosa","44085",{"$f":"((SUM(E314:X314)))+0","v":35},0,0,1,1,0,1,1,0,1,6,7,7,0,1,1,3,4,1,0,0,{"$f":"((SUM(Z314:AS314))+0)+0","v":15},0,0,0,0,0,0,0,0,0,1,1,1,1,0,1,3,5,0,0,2]
[314,"44086 Cretas","44086",{"$f":"((SUM(E315:X315)))+0","v":285},11,14,16,15,6,9,12,9,15,26,28,22,23,17,24,15,11,7,3,2,{"$f":"((SUM(Z315:AS315))+0)+0","v":278},4,9,19,8,10,12,11,19,19,20,19,20,15,22,28,16,8,11,6,2]
[315,"44087 Crivillén","44087",{"$f":"((SUM(E316:X316)))+0","v":49},1,0,2,1,3,5,2,2,3,4,1,4,3,5,4,4,2,1,1,1,{"$f":"((SUM(Z316:AS316))+0)+0","v":41},0,3,0,2,1,1,3,1,3,2,5,3,1,4,3,3,1,3,1,1]
[316,"44088 Cuba (La)","44088",{"$f":"((SUM(E317:X317)))+0","v":25},0,1,2,0,1,0,1,5,0,0,4,1,4,3,2,0,0,1,0,0,{"$f":"((SUM(Z317:AS317))+0)+0","v":17},1,1,0,0,0,2,0,1,1,0,1,4,2,2,0,0,1,1,0,0]
[317,"44089 Cubla","44089",{"$f":"((SUM(E318:X318)))+0","v":40},1,0,0,1,2,2,5,1,6,2,3,4,2,3,2,2,1,1,2,0,{"$f":"((SUM(Z318:AS318))+0)+0","v":20},1,0,1,0,1,2,0,1,1,1,2,4,2,1,0,0,2,1,0,0]
[318,"44090 Cucalón","44090",{"$f":"((SUM(E319:X319)))+0","v":49},0,0,3,0,1,2,1,1,5,6,6,3,3,4,4,5,4,0,1,0,{"$f":"((SUM(Z319:AS319))+0)+0","v":29},0,0,1,3,0,1,0,2,1,5,1,0,3,2,5,0,1,3,1,0]
[319,"44092 Cuervo (El)","44092",{"$f":"((SUM(E320:X320)))+0","v":36},0,0,0,1,0,2,1,1,4,0,5,3,4,3,2,5,4,0,1,0,{"$f":"((SUM(Z320:AS320))+0)+0","v":36},0,0,1,1,0,1,2,3,1,2,0,1,4,2,2,7,3,4,1,1]
[320,"44093 Cuevas de Almudén","44093",{"$f":"((SUM(E321:X321)))+0","v":69},3,2,3,2,4,4,3,7,3,5,3,7,7,4,5,2,3,1,1,0,{"$f":"((SUM(Z321:AS321))+0)+0","v":57},5,3,2,3,7,1,7,1,2,2,4,2,5,1,2,2,3,3,2,0]
[321,"44094 Cuevas Labradas","44094",{"$f":"((SUM(E322:X322)))+0","v":70},0,1,2,1,2,3,3,2,4,5,7,2,7,7,5,10,4,4,0,1,{"$f":"((SUM(Z322:AS322))+0)+0","v":63},1,0,3,4,0,2,4,5,4,4,4,3,4,5,4,5,2,8,1,0]
[322,"44096 Ejulve","44096",{"$f":"((SUM(E323:X323)))+0","v":96},4,3,0,1,3,10,11,2,7,5,4,8,8,10,1,4,5,5,5,0,{"$f":"((SUM(Z323:AS323))+0)+0","v":90},3,1,3,4,6,8,10,0,1,4,6,10,4,5,5,6,4,4,5,1]
[323,"44097 Escorihuela","44097",{"$f":"((SUM(E324:X324)))+0","v":70},2,2,2,1,0,6,4,5,6,5,3,3,5,12,2,3,3,4,0,2,{"$f":"((SUM(Z324:AS324))+0)+0","v":68},0,0,1,0,2,6,3,4,2,1,4,5,10,3,3,6,2,8,6,2]
[324,"44099 Escucha","44099",{"$f":"((SUM(E325:X325)))+0","v":422},14,15,18,18,21,25,31,36,26,39,29,38,34,29,13,14,9,12,1,0,{"$f":"((SUM(Z325:AS325))+0)+0","v":351},18,17,12,16,21,23,21,18,26,20,24,41,22,18,19,9,11,7,7,1]
[325,"44100 Estercuel","44100",{"$f":"((SUM(E326:X326)))+0","v":114},3,3,2,1,4,9,7,9,9,8,8,11,9,10,7,4,7,2,1,0,{"$f":"((SUM(Z326:AS326))+0)+0","v":91},5,1,2,2,0,8,13,5,3,5,6,9,7,6,5,3,3,5,3,0]
[326,"44101 Ferreruela de Huerva","44101",{"$f":"((SUM(E327:X327)))+0","v":40},0,1,1,1,0,1,5,5,5,1,1,4,1,4,2,3,2,2,1,0,{"$f":"((SUM(Z327:AS327))+0)+0","v":30},2,0,0,1,1,3,0,4,1,2,1,3,3,2,2,2,0,2,1,0]
[327,"44102 Fonfría","44102",{"$f":"((SUM(E328:X328)))+0","v":19},0,0,0,0,0,0,3,2,1,3,4,0,1,0,0,0,0,3,1,1,{"$f":"((SUM(Z328:AS328))+0)+0","v":11},0,0,0,0,0,1,0,0,0,0,1,1,0,0,0,1,3,2,2,0]
[328,"44103 Formiche Alto","44103",{"$f":"((SUM(E329:X329)))+0","v":89},2,4,2,2,7,5,5,6,6,3,7,10,6,4,6,0,6,5,3,0,{"$f":"((SUM(Z329:AS329))+0)+0","v":70},2,1,0,3,6,7,2,2,3,2,9,5,4,2,3,9,2,5,2,1]
[329,"44105 Fórnoles","44105",{"$f":"((SUM(E330:X330)))+0","v":47},1,0,0,1,1,1,8,3,2,2,1,6,0,8,5,5,0,3,0,0,{"$f":"((SUM(Z330:AS330))+0)+0","v":39},2,1,0,0,1,1,5,3,1,1,2,3,6,4,0,3,4,1,1,0]
[330,"44106 Fortanete","44106",{"$f":"((SUM(E331:X331)))+0","v":121},5,2,8,5,6,9,4,8,7,13,8,13,6,4,5,3,4,8,2,1,{"$f":"((SUM(Z331:AS331))+0)+0","v":88},7,7,7,1,3,4,5,5,4,6,4,8,4,3,3,5,3,6,2,1]
[331,"44107 Foz-Calanda","44107",{"$f":"((SUM(E332:X332)))+0","v":139},4,8,5,5,8,5,8,14,7,8,9,19,11,7,4,5,6,3,3,0,{"$f":"((SUM(Z332:AS332))+0)+0","v":134},9,6,4,5,9,7,12,8,8,8,11,6,10,1,7,8,2,9,1,3]
[332,"44108 Fresneda (La)","44108",{"$f":"((SUM(E333:X333)))+0","v":251},6,12,7,14,13,9,12,16,22,17,14,24,15,20,11,14,9,10,5,1,{"$f":"((SUM(Z333:AS333))+0)+0","v":211},6,6,12,6,9,5,13,11,21,13,15,20,12,19,11,5,13,10,2,2]
[333,"44109 Frías de Albarracín","44109",{"$f":"((SUM(E334:X334)))+0","v":66},3,1,0,0,4,1,4,6,4,4,2,8,4,7,6,3,6,1,1,1,{"$f":"((SUM(Z334:AS334))+0)+0","v":39},0,2,1,3,0,1,2,3,2,6,2,0,7,2,2,2,1,0,2,1]
[334,"44110 Fuenferrada","44110",{"$f":"((SUM(E335:X335)))+0","v":24},0,0,0,0,0,0,0,3,0,1,1,2,2,3,1,4,2,1,3,1,{"$f":"((SUM(Z335:AS335))+0)+0","v":11},0,0,0,0,0,0,0,0,0,0,0,0,0,1,3,3,1,0,3,0]
[335,"44111 Fuentes Calientes","44111",{"$f":"((SUM(E336:X336)))+0","v":52},1,2,1,0,2,7,2,2,4,1,5,5,0,5,4,5,3,2,1,0,{"$f":"((SUM(Z336:AS336))+0)+0","v":37},0,1,0,1,2,0,3,2,2,3,6,3,2,2,1,4,2,3,0,0]
[336,"44112 Fuentes Claras","44112",{"$f":"((SUM(E337:X337)))+0","v":235},7,5,5,7,14,12,10,13,18,12,12,24,26,9,15,16,12,14,4,0,{"$f":"((SUM(Z337:AS337))+0)+0","v":199},7,9,3,5,9,6,6,8,8,6,15,13,15,11,15,20,19,15,9,0]
[337,"44113 Fuentes de Rubielos","44113",{"$f":"((SUM(E338:X338)))+0","v":86},6,7,6,2,2,2,5,9,11,4,4,11,9,3,2,1,1,1,0,0,{"$f":"((SUM(Z338:AS338))+0)+0","v":74},6,2,7,8,3,7,2,6,6,5,4,7,3,0,2,0,3,1,2,0]
[338,"44114 Fuentespalda","44114",{"$f":"((SUM(E339:X339)))+0","v":154},8,3,1,6,6,8,7,12,6,12,12,7,14,14,13,8,8,4,2,3,{"$f":"((SUM(Z339:AS339))+0)+0","v":139},4,2,3,6,3,5,8,10,7,4,13,13,10,8,12,13,5,9,3,1]
[339,"44115 Galve","44115",{"$f":"((SUM(E340:X340)))+0","v":79},3,3,5,2,6,4,6,0,4,9,8,10,6,1,1,2,4,4,1,0,{"$f":"((SUM(Z340:AS340))+0)+0","v":71},2,1,6,4,4,4,3,0,7,8,6,7,0,2,2,6,2,4,3,0]
[340,"44116 Gargallo","44116",{"$f":"((SUM(E341:X341)))+0","v":52},1,3,2,3,4,2,1,1,5,4,4,5,3,5,3,3,3,0,0,0,{"$f":"((SUM(Z341:AS341))+0)+0","v":46},0,1,3,2,1,2,1,2,4,5,6,1,2,3,2,3,2,4,2,0]
[341,"44117 Gea de Albarracín","44117",{"$f":"((SUM(E342:X342)))+0","v":242},3,7,8,4,6,15,12,16,21,16,26,18,20,10,12,11,13,9,14,1,{"$f":"((SUM(Z342:AS342))+0)+0","v":192},2,6,2,7,5,7,11,9,10,14,15,11,14,8,14,12,14,18,10,3]
[342,"44118 Ginebrosa (La)","44118",{"$f":"((SUM(E343:X343)))+0","v":111},7,4,5,6,4,3,9,8,3,8,6,12,5,8,7,9,2,3,2,0,{"$f":"((SUM(Z343:AS343))+0)+0","v":89},4,3,6,2,3,3,4,7,6,8,6,6,4,8,7,2,4,3,2,1]
[343,"44119 Griegos","44119",{"$f":"((SUM(E344:X344)))+0","v":83},0,4,0,1,2,5,6,4,9,4,3,8,5,13,5,5,2,6,1,0,{"$f":"((SUM(Z344:AS344))+0)+0","v":57},1,3,2,0,2,4,6,2,2,2,3,4,3,8,3,3,4,1,4,0]
[344,"44120 Guadalaviar","44120",{"$f":"((SUM(E345:X345)))+0","v":134},1,6,3,3,14,5,9,6,8,9,7,17,15,9,10,8,3,1,0,0,{"$f":"((SUM(Z345:AS345))+0)+0","v":115},6,6,1,2,4,11,6,6,8,10,8,9,10,7,6,3,6,3,3,0]
[345,"44121 Gúdar","44121",{"$f":"((SUM(E346:X346)))+0","v":41},3,1,1,1,0,0,5,4,4,6,3,3,1,1,2,3,2,1,0,0,{"$f":"((SUM(Z346:AS346))+0)+0","v":32},1,3,4,1,2,2,2,2,0,3,1,2,1,2,2,1,0,2,1,0]
[346,"44122 Híjar","44122",{"$f":"((SUM(E347:X347)))+0","v":885},38,31,32,48,55,51,53,50,49,65,63,67,79,53,40,34,27,31,16,3,{"$f":"((SUM(Z347:AS347))+0)+0","v":866},33,45,48,42,42,42,44,34,42,50,65,71,58,55,46,43,34,41,23,8]
[347,"44123 Hinojosa de Jarque","44123",{"$f":"((SUM(E348:X348)))+0","v":59},1,0,0,0,1,2,3,3,3,5,4,7,6,8,5,2,2,4,2,1,{"$f":"((SUM(Z348:AS348))+0)+0","v":47},0,0,0,2,1,1,4,1,1,1,7,3,2,5,2,4,3,5,5,0]
[348,"44124 Hoz de la Vieja (La)","44124",{"$f":"((SUM(E349:X349)))+0","v":48},0,1,2,1,2,1,2,3,4,4,6,1,8,3,2,6,2,0,0,0,{"$f":"((SUM(Z349:AS349))+0)+0","v":42},4,2,1,1,0,1,1,1,3,2,3,5,2,3,4,3,3,1,1,1]
[349,"44125 Huesa del Común","44125",{"$f":"((SUM(E350:X350)))+0","v":43},0,0,0,0,1,2,0,2,1,3,5,9,6,6,1,3,1,2,1,0,{"$f":"((SUM(Z350:AS350))+0)+0","v":28},0,0,0,0,1,1,0,0,2,1,2,3,3,3,4,0,2,3,2,1]
[350,"44126 Iglesuela del Cid (La)","44126",{"$f":"((SUM(E351:X351)))+0","v":207},8,4,7,9,11,9,19,8,13,19,18,16,13,15,7,10,11,6,4,0,{"$f":"((SUM(Z351:AS351))+0)+0","v":188},4,6,12,11,7,10,5,5,10,19,19,13,16,9,8,13,9,5,4,3]
[351,"44127 Jabaloyas","44127",{"$f":"((SUM(E352:X352)))+0","v":40},0,0,0,1,0,0,3,3,2,7,3,5,2,5,2,2,3,2,0,0,{"$f":"((SUM(Z352:AS352))+0)+0","v":25},0,0,0,1,0,2,0,1,2,0,0,6,4,0,2,1,3,2,1,0]
[352,"44128 Jarque de la Val","44128",{"$f":"((SUM(E353:X353)))+0","v":28},0,0,2,1,1,0,1,0,1,3,3,2,3,3,1,2,2,0,3,0,{"$f":"((SUM(Z353:AS353))+0)+0","v":28},0,1,1,0,0,1,0,0,4,0,0,5,3,1,3,1,4,4,0,0]
[353,"44129 Jatiel","44129",{"$f":"((SUM(E354:X354)))+0","v":29},0,0,0,0,2,3,5,0,0,5,4,2,5,0,1,1,0,1,0,0,{"$f":"((SUM(Z354:AS354))+0)+0","v":17},0,0,0,0,1,0,1,1,1,1,0,2,4,1,2,1,2,0,0,0]
[354,"44130 Jorcas","44130",{"$f":"((SUM(E355:X355)))+0","v":20},0,0,1,0,1,2,0,1,1,4,0,2,1,1,0,3,0,2,0,1,{"$f":"((SUM(Z355:AS355))+0)+0","v":16},1,0,1,0,2,0,0,1,0,3,0,1,0,1,2,2,0,2,0,0]
[355,"44131 Josa","44131",{"$f":"((SUM(E356:X356)))+0","v":29},1,1,0,0,2,3,3,1,3,3,0,2,1,1,2,2,2,1,1,0,{"$f":"((SUM(Z356:AS356))+0)+0","v":13},0,0,0,0,0,2,0,1,0,3,1,0,0,3,1,0,1,0,1,0]
[356,"44132 Lagueruela","44132",{"$f":"((SUM(E357:X357)))+0","v":43},0,1,3,0,1,2,3,1,4,5,5,4,1,1,2,3,2,4,1,0,{"$f":"((SUM(Z357:AS357))+0)+0","v":28},0,1,1,1,0,0,4,0,2,3,1,0,0,2,2,5,0,6,0,0]
[357,"44133 Lanzuela","44133",{"$f":"((SUM(E358:X358)))+0","v":17},0,1,1,0,0,0,3,3,0,1,0,0,3,2,2,0,0,0,0,1,{"$f":"((SUM(Z358:AS358))+0)+0","v":8},2,0,0,0,2,1,1,0,0,0,0,2,0,0,0,0,0,0,0,0]
[358,"44135 Libros","44135",{"$f":"((SUM(E359:X359)))+0","v":63},0,1,0,0,2,3,5,3,5,2,7,4,8,7,6,2,2,5,1,0,{"$f":"((SUM(Z359:AS359))+0)+0","v":39},0,0,1,0,1,4,3,2,1,2,0,7,4,1,3,3,0,4,3,0]
[359,"44136 Lidón","44136",{"$f":"((SUM(E360:X360)))+0","v":29},0,0,0,1,1,0,2,1,1,2,3,3,2,2,2,2,4,3,0,0,{"$f":"((SUM(Z360:AS360))+0)+0","v":24},0,0,0,0,1,1,1,0,2,3,3,2,1,0,0,3,4,2,1,0]
[360,"44137 Linares de Mora","44137",{"$f":"((SUM(E361:X361)))+0","v":133},4,3,3,7,4,3,10,8,12,11,15,6,9,10,7,5,5,6,4,1,{"$f":"((SUM(Z361:AS361))+0)+0","v":102},6,4,3,5,2,5,7,8,5,4,6,7,7,9,5,6,3,7,2,1]
[361,"44138 Loscos","44138",{"$f":"((SUM(E362:X362)))+0","v":71},1,0,0,0,2,2,2,3,4,1,3,11,8,9,7,9,2,3,3,1,{"$f":"((SUM(Z362:AS362))+0)+0","v":47},0,0,1,0,4,1,0,5,1,4,4,4,5,4,0,4,2,5,3,0]
[362,"44141 Lledó","44141",{"$f":"((SUM(E363:X363)))+0","v":91},5,6,1,0,2,5,4,7,8,2,3,12,6,11,7,4,3,2,2,1,{"$f":"((SUM(Z363:AS363))+0)+0","v":80},4,2,7,1,1,3,3,3,6,4,5,9,9,6,4,3,4,4,2,0]
[363,"44142 Maicas","44142",{"$f":"((SUM(E364:X364)))+0","v":19},0,0,0,0,0,0,1,0,1,1,2,3,2,2,3,1,2,1,0,0,{"$f":"((SUM(Z364:AS364))+0)+0","v":12},0,0,0,0,0,1,1,0,0,0,3,1,0,2,1,2,1,0,0,0]
[364,"44143 Manzanera","44143",{"$f":"((SUM(E365:X365)))+0","v":294},14,11,12,8,21,15,14,24,24,20,34,26,11,13,14,15,11,5,2,0,{"$f":"((SUM(Z365:AS365))+0)+0","v":239},7,13,8,14,15,16,26,11,12,18,21,10,20,8,9,13,8,6,4,0]
[365,"44144 Martín del Río","44144",{"$f":"((SUM(E366:X366)))+0","v":177},4,1,6,11,10,4,10,13,15,5,12,22,15,12,13,9,4,8,3,0,{"$f":"((SUM(Z366:AS366))+0)+0","v":195},4,8,9,12,7,16,8,8,15,6,10,16,13,11,8,11,7,14,9,3]
[366,"44145 Mas de las Matas","44145",{"$f":"((SUM(E367:X367)))+0","v":648},14,32,26,25,30,30,27,49,38,55,41,51,58,42,31,33,29,24,10,3,{"$f":"((SUM(Z367:AS367))+0)+0","v":607},16,28,20,27,17,24,31,31,37,38,40,54,44,32,34,41,26,41,19,7]
[367,"44146 Mata de los Olmos (La)","44146",{"$f":"((SUM(E368:X368)))+0","v":143},3,9,5,8,9,15,8,10,11,9,14,12,4,6,7,3,4,4,2,0,{"$f":"((SUM(Z368:AS368))+0)+0","v":127},5,9,6,6,6,10,5,13,5,11,6,5,1,11,8,5,4,5,4,2]
[368,"44147 Mazaleón","44147",{"$f":"((SUM(E369:X369)))+0","v":255},13,4,8,7,19,13,19,16,17,12,19,22,20,22,11,11,9,9,3,1,{"$f":"((SUM(Z369:AS369))+0)+0","v":232},10,9,9,7,17,22,12,4,10,14,16,22,16,10,15,9,11,13,4,2]
[369,"44148 Mezquita de Jarque","44148",{"$f":"((SUM(E370:X370)))+0","v":45},1,2,0,0,2,2,2,4,4,2,3,4,3,3,5,2,1,4,0,1,{"$f":"((SUM(Z370:AS370))+0)+0","v":39},3,1,2,0,2,3,4,1,2,1,0,4,3,0,3,1,3,2,3,1]
[370,"44149 Mirambel","44149",{"$f":"((SUM(E371:X371)))+0","v":65},3,4,5,2,1,1,7,7,5,6,2,3,7,4,5,0,1,2,0,0,{"$f":"((SUM(Z371:AS371))+0)+0","v":46},1,0,2,0,1,0,3,3,5,4,0,5,8,3,3,2,3,2,0,1]
[371,"44150 Miravete de la Sierra","44150",{"$f":"((SUM(E372:X372)))+0","v":20},1,1,0,0,3,2,1,0,1,1,2,3,2,1,2,0,0,0,0,0,{"$f":"((SUM(Z372:AS372))+0)+0","v":7},0,0,0,0,0,0,0,1,0,0,1,2,0,0,0,0,1,1,0,1]
[372,"44151 Molinos","44151",{"$f":"((SUM(E373:X373)))+0","v":121},5,2,2,4,6,5,9,6,4,5,13,9,12,8,8,7,5,6,5,0,{"$f":"((SUM(Z373:AS373))+0)+0","v":106},2,3,3,3,2,9,5,3,4,5,7,10,9,13,7,4,4,7,6,0]
[373,"44152 Monforte de Moyuela","44152",{"$f":"((SUM(E374:X374)))+0","v":50},1,0,0,0,2,1,3,2,5,4,4,5,4,4,3,5,0,4,2,1,{"$f":"((SUM(Z374:AS374))+0)+0","v":25},0,0,0,0,0,0,4,0,0,1,3,2,3,2,3,2,2,2,1,0]
[374,"44153 Monreal del Campo","44153",{"$f":"((SUM(E375:X375)))+0","v":1245},70,72,76,56,63,59,77,80,102,95,96,88,84,66,44,29,41,25,18,4,{"$f":"((SUM(Z375:AS375))+0)+0","v":1254},64,63,77,54,74,79,89,74,75,83,82,88,80,65,35,46,34,42,42,8]
[375,"44154 Monroyo","44154",{"$f":"((SUM(E376:X376)))+0","v":174},4,7,11,9,5,12,15,10,10,14,8,10,22,11,8,6,5,3,3,1,{"$f":"((SUM(Z376:AS376))+0)+0","v":138},8,9,6,2,4,7,6,13,12,6,9,7,10,8,11,4,6,8,2,0]
[376,"44155 Montalbán","44155",{"$f":"((SUM(E377:X377)))+0","v":616},17,16,21,24,32,36,38,35,45,34,38,61,47,57,44,29,18,14,8,2,{"$f":"((SUM(Z377:AS377))+0)+0","v":593},18,21,26,24,27,26,30,38,30,30,47,47,56,40,40,28,16,35,9,5]
[377,"44156 Monteagudo del Castillo","44156",{"$f":"((SUM(E378:X378)))+0","v":24},1,0,0,1,0,1,2,1,2,0,2,2,6,3,2,0,0,1,0,0,{"$f":"((SUM(Z378:AS378))+0)+0","v":19},0,0,0,0,2,1,1,1,0,1,1,3,2,0,3,1,0,0,1,2]
[378,"44157 Monterde de Albarracín","44157",{"$f":"((SUM(E379:X379)))+0","v":32},0,0,0,0,0,2,3,0,4,2,4,4,1,2,3,4,2,1,0,0,{"$f":"((SUM(Z379:AS379))+0)+0","v":23},0,0,0,0,0,1,0,1,0,1,0,2,3,1,4,0,5,3,2,0]
[379,"44158 Mora de Rubielos","44158",{"$f":"((SUM(E380:X380)))+0","v":782},25,34,41,38,51,54,50,35,63,60,56,70,70,36,35,27,13,16,7,1,{"$f":"((SUM(Z380:AS380))+0)+0","v":787},29,35,48,35,36,56,45,50,62,56,63,68,50,34,34,26,22,18,16,4]
[380,"44159 Moscardón","44159",{"$f":"((SUM(E381:X381)))+0","v":28},0,0,3,2,1,0,0,4,0,5,1,2,3,2,1,0,2,2,0,0,{"$f":"((SUM(Z381:AS381))+0)+0","v":24},0,1,4,3,0,0,0,0,1,4,2,1,3,1,1,3,0,0,0,0]
[381,"44160 Mosqueruela","44160",{"$f":"((SUM(E382:X382)))+0","v":300},21,17,12,16,11,15,10,26,20,16,26,22,16,13,13,12,13,13,8,0,{"$f":"((SUM(Z382:AS382))+0)+0","v":251},9,8,10,10,13,18,12,13,8,8,21,18,16,11,7,23,15,19,9,3]
[382,"44161 Muniesa","44161",{"$f":"((SUM(E383:X383)))+0","v":311},11,16,9,17,19,18,18,12,17,18,12,30,27,21,20,16,8,16,5,1,{"$f":"((SUM(Z383:AS383))+0)+0","v":260},10,10,12,10,10,17,11,12,7,12,18,18,14,14,15,21,11,22,10,6]
[383,"44163 Noguera de Albarracín","44163",{"$f":"((SUM(E384:X384)))+0","v":80},0,5,5,6,3,1,7,4,3,4,6,7,9,6,5,2,0,3,3,1,{"$f":"((SUM(Z384:AS384))+0)+0","v":58},1,0,3,1,2,7,4,3,2,5,2,8,5,1,4,2,3,5,0,0]
[384,"44164 Nogueras","44164",{"$f":"((SUM(E385:X385)))+0","v":19},0,0,0,2,0,0,1,1,1,1,1,3,3,1,2,1,0,1,1,0,{"$f":"((SUM(Z385:AS385))+0)+0","v":8},0,0,0,0,0,0,0,0,1,1,1,0,1,2,1,1,0,0,0,0]
[385,"44165 Nogueruelas","44165",{"$f":"((SUM(E386:X386)))+0","v":121},4,3,6,5,4,7,6,4,4,10,9,8,9,9,7,6,4,8,4,4,{"$f":"((SUM(Z386:AS386))+0)+0","v":84},0,5,6,0,2,6,4,3,8,7,5,3,8,4,5,3,2,6,6,1]
[386,"44167 Obón","44167",{"$f":"((SUM(E387:X387)))+0","v":21},0,0,0,0,0,2,2,1,0,3,1,3,1,2,1,2,2,1,0,0,{"$f":"((SUM(Z387:AS387))+0)+0","v":14},0,0,0,0,0,0,0,1,0,0,2,1,0,2,3,1,2,2,0,0]
[387,"44168 Odón","44168",{"$f":"((SUM(E388:X388)))+0","v":106},4,3,4,3,4,5,3,2,6,11,6,8,8,3,12,12,7,1,3,1,{"$f":"((SUM(Z388:AS388))+0)+0","v":108},2,2,3,5,3,3,6,5,4,5,11,6,5,5,8,13,6,11,4,1]
[388,"44169 Ojos Negros","44169",{"$f":"((SUM(E389:X389)))+0","v":186},6,4,11,10,6,10,9,6,10,15,15,19,16,8,13,7,7,9,4,1,{"$f":"((SUM(Z389:AS389))+0)+0","v":142},3,3,5,9,3,4,2,4,9,17,4,11,10,8,12,7,15,7,7,2]
[389,"44171 Olba","44171",{"$f":"((SUM(E390:X390)))+0","v":142},8,7,15,5,2,3,5,11,8,21,5,10,12,11,6,4,2,3,4,0,{"$f":"((SUM(Z390:AS390))+0)+0","v":124},5,14,3,3,2,1,7,7,18,11,11,6,10,10,3,4,3,3,3,0]
[390,"44172 Oliete","44172",{"$f":"((SUM(E391:X391)))+0","v":180},7,3,5,2,10,8,4,15,10,7,12,11,15,19,10,9,11,10,10,2,{"$f":"((SUM(Z391:AS391))+0)+0","v":150},2,1,2,5,7,6,7,8,5,6,11,11,15,10,9,10,8,17,7,3]
[391,"44173 Olmos (Los)","44173",{"$f":"((SUM(E392:X392)))+0","v":67},2,3,4,2,7,2,2,4,5,4,6,5,6,1,4,2,5,1,2,0,{"$f":"((SUM(Z392:AS392))+0)+0","v":53},0,2,0,1,5,1,1,3,3,3,6,3,5,3,1,7,2,5,2,0]
[392,"44174 Orihuela del Tremedal","44174",{"$f":"((SUM(E393:X393)))+0","v":253},7,4,7,6,11,19,24,9,17,17,18,37,21,16,8,12,3,10,5,2,{"$f":"((SUM(Z393:AS393))+0)+0","v":201},2,4,5,4,9,13,11,12,12,13,14,21,16,12,6,10,16,8,11,2]
[393,"44175 Orrios","44175",{"$f":"((SUM(E394:X394)))+0","v":67},0,0,1,1,1,4,6,7,4,5,4,8,5,5,3,6,4,2,1,0,{"$f":"((SUM(Z394:AS394))+0)+0","v":56},1,0,0,0,1,4,9,1,1,4,3,4,4,4,5,3,2,5,4,1]
[394,"44176 Palomar de Arroyos","44176",{"$f":"((SUM(E395:X395)))+0","v":102},4,1,1,1,6,5,6,14,10,6,3,7,10,8,5,3,3,6,1,2,{"$f":"((SUM(Z395:AS395))+0)+0","v":70},3,2,0,0,4,4,5,3,4,1,4,7,8,4,6,3,6,4,1,1]
[395,"44177 Pancrudo","44177",{"$f":"((SUM(E396:X396)))+0","v":72},2,2,4,3,1,2,3,4,2,5,6,11,5,6,4,2,1,5,3,1,{"$f":"((SUM(Z396:AS396))+0)+0","v":51},1,0,5,4,2,2,4,2,1,8,4,4,0,2,2,1,3,6,0,0]
[396,"44178 Parras de Castellote (Las)","44178",{"$f":"((SUM(E397:X397)))+0","v":35},0,0,0,0,0,1,1,1,3,4,4,5,5,4,2,3,1,1,0,0,{"$f":"((SUM(Z397:AS397))+0)+0","v":25},0,0,0,0,0,0,0,1,2,1,1,3,4,4,4,2,0,2,1,0]
[397,"44179 Peñarroya de Tastavins","44179",{"$f":"((SUM(E398:X398)))+0","v":239},9,11,10,9,17,13,8,18,20,19,21,14,13,20,10,10,7,6,3,1,{"$f":"((SUM(Z398:AS398))+0)+0","v":211},12,10,8,8,10,16,7,10,10,9,14,17,15,19,13,6,10,12,4,1]
[398,"44180 Peracense","44180",{"$f":"((SUM(E399:X399)))+0","v":42},0,0,1,2,0,3,1,0,3,3,7,5,4,1,3,3,4,2,0,0,{"$f":"((SUM(Z399:AS399))+0)+0","v":36},0,0,1,0,3,0,3,0,0,2,7,2,1,2,3,4,3,2,1,2]
[399,"44181 Peralejos","44181",{"$f":"((SUM(E400:X400)))+0","v":44},0,2,2,1,4,0,4,1,5,2,1,4,3,3,5,3,1,1,2,0,{"$f":"((SUM(Z400:AS400))+0)+0","v":41},2,0,1,3,2,0,3,5,1,3,2,1,5,2,2,4,1,1,1,2]
[400,"44182 Perales del Alfambra","44182",{"$f":"((SUM(E401:X401)))+0","v":130},4,1,2,3,8,15,10,5,4,8,11,14,10,9,6,7,5,4,4,0,{"$f":"((SUM(Z401:AS401))+0)+0","v":134},8,3,1,7,8,11,13,3,2,6,5,17,10,6,7,3,12,6,5,1]
[401,"44183 Pitarque","44183",{"$f":"((SUM(E402:X402)))+0","v":35},0,0,2,0,2,0,4,2,1,0,2,5,6,3,3,0,1,3,1,0,{"$f":"((SUM(Z402:AS402))+0)+0","v":34},0,0,0,2,2,2,1,1,0,3,4,6,4,4,1,0,0,3,1,0]
[402,"44184 Plou","44184",{"$f":"((SUM(E403:X403)))+0","v":29},0,2,0,0,0,0,0,2,3,4,3,3,2,2,4,2,1,0,1,0,{"$f":"((SUM(Z403:AS403))+0)+0","v":18},0,0,0,0,0,2,0,0,0,2,1,0,2,4,1,3,1,1,0,1]
[403,"44185 Pobo (El)","44185",{"$f":"((SUM(E404:X404)))+0","v":70},2,2,2,4,1,3,2,2,2,10,3,11,7,4,5,4,2,4,0,0,{"$f":"((SUM(Z404:AS404))+0)+0","v":36},0,0,4,1,2,0,1,1,6,2,4,1,1,1,4,3,3,1,1,0]
[404,"44187 Portellada (La)","44187",{"$f":"((SUM(E405:X405)))+0","v":120},4,5,5,0,0,4,5,8,11,5,9,9,8,9,14,10,2,9,3,0,{"$f":"((SUM(Z405:AS405))+0)+0","v":116},4,8,8,2,3,3,6,8,8,3,6,7,8,12,8,8,7,4,0,3]
[405,"44189 Pozondón","44189",{"$f":"((SUM(E406:X406)))+0","v":29},0,0,0,0,0,1,3,1,2,6,3,3,5,2,1,1,0,0,1,0,{"$f":"((SUM(Z406:AS406))+0)+0","v":19},0,0,0,0,0,0,1,0,1,1,6,1,1,1,3,0,1,3,0,0]
[406,"44190 Pozuel del Campo","44190",{"$f":"((SUM(E407:X407)))+0","v":32},0,0,0,0,1,3,4,1,1,0,0,3,3,2,2,2,4,3,3,0,{"$f":"((SUM(Z407:AS407))+0)+0","v":28},1,0,0,0,0,3,3,1,0,1,0,3,1,0,3,1,3,6,2,0]
[407,"44191 Puebla de Híjar (La)","44191",{"$f":"((SUM(E408:X408)))+0","v":470},18,26,25,20,12,29,28,23,33,30,37,45,37,32,20,24,10,18,3,0,{"$f":"((SUM(Z408:AS408))+0)+0","v":444},10,18,23,20,19,23,16,24,30,26,41,23,37,20,22,25,21,28,13,5]
[408,"44192 Puebla de Valverde (La)","44192",{"$f":"((SUM(E409:X409)))+0","v":240},6,5,7,14,8,11,12,19,20,20,17,27,23,10,12,6,11,8,4,0,{"$f":"((SUM(Z409:AS409))+0)+0","v":208},8,9,11,10,12,14,13,17,15,12,15,16,17,3,5,11,5,8,6,1]
[409,"44193 Puertomingalvo","44193",{"$f":"((SUM(E410:X410)))+0","v":73},4,3,2,0,3,3,8,5,9,6,3,6,7,3,4,1,2,2,2,0,{"$f":"((SUM(Z410:AS410))+0)+0","v":68},6,4,6,4,3,4,7,3,4,5,2,2,3,4,5,2,1,3,0,0]
[410,"44194 Ráfales","44194",{"$f":"((SUM(E411:X411)))+0","v":85},4,5,4,3,3,2,0,4,7,4,6,6,8,7,7,6,4,4,1,0,{"$f":"((SUM(Z411:AS411))+0)+0","v":61},0,6,4,3,0,1,1,3,5,4,4,3,5,6,5,7,3,1,0,0]
[411,"44195 Rillo","44195",{"$f":"((SUM(E412:X412)))+0","v":52},0,1,1,1,1,4,2,1,6,7,10,7,2,3,2,0,1,3,0,0,{"$f":"((SUM(Z412:AS412))+0)+0","v":34},0,1,0,0,1,2,2,1,4,1,2,7,4,2,2,0,1,2,2,0]
[412,"44196 Riodeva","44196",{"$f":"((SUM(E413:X413)))+0","v":64},0,1,1,2,3,4,5,3,5,5,5,2,4,2,5,6,1,5,5,0,{"$f":"((SUM(Z413:AS413))+0)+0","v":72},4,2,2,1,4,4,2,2,5,3,3,6,1,2,7,6,8,8,2,0]
[413,"44197 Ródenas","44197",{"$f":"((SUM(E414:X414)))+0","v":34},0,2,0,0,1,2,1,2,4,0,3,4,4,2,1,1,2,2,3,0,{"$f":"((SUM(Z414:AS414))+0)+0","v":28},0,0,1,0,1,3,1,2,1,0,2,2,3,2,1,2,1,3,2,1]
[414,"44198 Royuela","44198",{"$f":"((SUM(E415:X415)))+0","v":119},2,2,6,9,11,5,4,7,4,12,9,9,9,3,5,6,8,5,3,0,{"$f":"((SUM(Z415:AS415))+0)+0","v":106},1,3,5,4,5,1,4,6,4,8,11,9,7,5,8,10,6,7,1,1]
[415,"44199 Rubiales","44199",{"$f":"((SUM(E416:X416)))+0","v":24},1,0,0,0,3,0,1,1,2,0,3,3,2,4,3,0,0,0,1,0,{"$f":"((SUM(Z416:AS416))+0)+0","v":19},1,0,0,3,0,1,0,2,0,2,1,2,2,2,1,1,0,0,0,1]
[416,"44200 Rubielos de la Cérida","44200",{"$f":"((SUM(E417:X417)))+0","v":19},0,0,0,0,0,0,0,1,2,2,2,2,0,1,1,4,2,0,1,1,{"$f":"((SUM(Z417:AS417))+0)+0","v":13},0,0,0,0,0,2,0,0,0,0,4,1,1,0,3,0,0,1,0,1]
[417,"44201 Rubielos de Mora","44201",{"$f":"((SUM(E418:X418)))+0","v":324},5,17,10,10,15,22,26,15,24,26,25,34,32,16,16,8,12,5,3,3,{"$f":"((SUM(Z418:AS418))+0)+0","v":300},21,6,10,15,16,22,14,24,15,19,28,23,21,23,9,11,8,10,3,2]
[418,"44203 Salcedillo","44203",{"$f":"((SUM(E419:X419)))+0","v":7},0,0,0,0,0,0,1,1,0,0,0,2,2,1,0,0,0,0,0,0,{"$f":"((SUM(Z419:AS419))+0)+0","v":4},0,0,0,0,0,0,2,0,0,0,0,1,0,1,0,0,0,0,0,0]
[419,"44204 Saldón","44204",{"$f":"((SUM(E420:X420)))+0","v":15},0,0,0,0,0,1,0,0,0,1,1,3,2,3,0,2,2,0,0,0,{"$f":"((SUM(Z420:AS420))+0)+0","v":7},0,0,0,0,1,0,0,0,1,0,0,1,1,1,0,0,2,0,0,0]
[420,"44205 Samper de Calanda","44205",{"$f":"((SUM(E421:X421)))+0","v":378},8,9,11,16,20,21,11,11,26,44,31,35,31,14,23,17,21,19,10,0,{"$f":"((SUM(Z421:AS421))+0)+0","v":353},7,5,10,15,16,17,15,9,21,19,30,24,24,14,32,22,27,26,16,4]
[421,"44206 San Agustín","44206",{"$f":"((SUM(E422:X422)))+0","v":82},0,0,1,1,3,2,3,6,7,8,6,6,12,9,4,5,3,3,2,1,{"$f":"((SUM(Z422:AS422))+0)+0","v":52},3,1,2,1,1,4,3,1,4,5,4,6,4,1,2,4,2,1,3,0]
[422,"44207 San Martín del Río","44207",{"$f":"((SUM(E423:X423)))+0","v":70},0,0,0,0,2,1,3,1,2,3,4,7,9,10,11,5,5,5,2,0,{"$f":"((SUM(Z423:AS423))+0)+0","v":62},0,2,1,4,0,3,3,1,2,2,2,6,5,5,2,3,5,10,5,1]
[423,"44208 Santa Cruz de Nogueras","44208",{"$f":"((SUM(E424:X424)))+0","v":14},0,0,0,0,0,0,1,1,0,1,0,1,2,2,2,2,1,1,0,0,{"$f":"((SUM(Z424:AS424))+0)+0","v":11},0,0,0,0,1,0,0,0,1,0,0,2,2,2,1,0,0,1,0,1]
[424,"44209 Santa Eulalia","44209",{"$f":"((SUM(E425:X425)))+0","v":524},23,17,26,17,23,30,40,26,26,37,49,39,46,24,21,25,16,24,11,4,{"$f":"((SUM(Z425:AS425))+0)+0","v":509},15,10,18,16,22,29,35,19,29,29,40,40,35,22,25,36,23,36,23,7]
[425,"44210 Sarrión","44210",{"$f":"((SUM(E426:X426)))+0","v":618},30,41,32,25,33,39,36,53,59,46,38,42,31,27,37,16,12,12,8,1,{"$f":"((SUM(Z426:AS426))+0)+0","v":583},31,45,26,26,18,33,43,41,34,45,35,30,38,35,25,27,25,14,9,3]
[426,"44211 Segura de los Baños","44211",{"$f":"((SUM(E427:X427)))+0","v":27},1,2,0,1,0,1,0,1,0,5,0,4,4,1,3,1,1,2,0,0,{"$f":"((SUM(Z427:AS427))+0)+0","v":15},0,0,0,0,0,0,0,2,1,0,1,3,0,2,0,2,2,1,1,0]
[427,"44212 Seno","44212",{"$f":"((SUM(E428:X428)))+0","v":19},0,0,0,0,2,0,1,2,1,3,1,1,1,2,3,0,0,0,2,0,{"$f":"((SUM(Z428:AS428))+0)+0","v":24},0,1,0,0,1,1,1,0,3,0,1,4,3,2,0,2,3,1,1,0]
[428,"44213 Singra","44213",{"$f":"((SUM(E429:X429)))+0","v":47},0,0,1,1,4,2,2,4,1,3,5,8,4,3,1,0,2,3,2,1,{"$f":"((SUM(Z429:AS429))+0)+0","v":33},0,0,0,1,4,3,0,0,0,3,6,4,0,2,1,1,2,5,1,0]
[429,"44215 Terriente","44215",{"$f":"((SUM(E430:X430)))+0","v":110},3,0,3,3,4,6,7,3,5,11,9,12,12,6,6,7,4,5,2,2,{"$f":"((SUM(Z430:AS430))+0)+0","v":81},1,2,2,2,1,2,6,0,5,3,7,8,4,9,5,9,2,6,6,1]
[430,"44216 Teruel","44216",{"$f":"((SUM(E431:X431)))+0","v":17094},760,938,957,1004,954,984,954,1139,1287,1326,1244,1286,1237,934,671,528,315,337,194,45,{"$f":"((SUM(Z431:AS431))+0)+0","v":18806},735,839,983,909,973,942,973,1162,1399,1465,1475,1437,1321,1033,806,696,579,604,342,133]
[431,"44217 Toril y Masegoso","44217",{"$f":"((SUM(E432:X432)))+0","v":28},0,0,0,1,1,1,2,0,1,2,4,7,3,2,1,1,0,2,0,0,{"$f":"((SUM(Z432:AS432))+0)+0","v":9},0,0,0,1,0,1,1,0,0,0,0,0,2,0,1,2,1,0,0,0]
[432,"44218 Tormón","44218",{"$f":"((SUM(E433:X433)))+0","v":17},0,0,0,0,0,0,0,2,2,0,4,1,2,0,3,1,1,1,0,0,{"$f":"((SUM(Z433:AS433))+0)+0","v":9},0,0,0,0,0,0,0,1,0,0,0,0,2,0,2,2,2,0,0,0]
[433,"44219 Tornos","44219",{"$f":"((SUM(E434:X434)))+0","v":105},1,2,2,2,5,4,4,3,5,11,10,6,8,7,10,9,7,6,3,0,{"$f":"((SUM(Z434:AS434))+0)+0","v":91},4,2,0,5,4,2,3,3,3,6,6,9,5,8,5,7,5,10,3,1]
[434,"44220 Torralba de los Sisones","44220",{"$f":"((SUM(E435:X435)))+0","v":81},2,2,1,4,10,0,3,1,5,8,7,11,3,4,6,5,3,4,2,0,{"$f":"((SUM(Z435:AS435))+0)+0","v":70},3,2,2,8,7,5,3,1,6,4,8,5,3,2,0,5,2,3,1,0]
[435,"44221 Torrecilla de Alcañiz","44221",{"$f":"((SUM(E436:X436)))+0","v":244},12,6,5,4,13,12,18,6,17,12,16,24,15,21,19,11,14,7,11,1,{"$f":"((SUM(Z436:AS436))+0)+0","v":216},4,9,2,7,12,11,7,14,9,10,19,16,18,19,17,12,6,11,12,1]
[436,"44222 Torrecilla del Rebollar","44222",{"$f":"((SUM(E437:X437)))+0","v":78},0,0,1,1,1,4,2,1,6,4,7,10,9,6,8,8,3,5,1,1,{"$f":"((SUM(Z437:AS437))+0)+0","v":43},0,2,0,1,0,1,1,1,0,5,1,4,4,2,4,7,3,4,3,0]
[437,"44223 Torre de Arcas","44223",{"$f":"((SUM(E438:X438)))+0","v":38},0,0,1,1,0,1,2,4,3,2,4,3,2,4,3,4,1,1,2,0,{"$f":"((SUM(Z438:AS438))+0)+0","v":44},0,0,2,3,1,4,2,3,1,2,3,5,3,4,4,2,2,3,0,0]
[438,"44224 Torre de las Arcas","44224",{"$f":"((SUM(E439:X439)))+0","v":14},0,0,0,1,0,1,0,0,1,1,2,0,4,2,0,0,1,0,1,0,{"$f":"((SUM(Z439:AS439))+0)+0","v":10},0,1,0,0,2,1,0,0,0,2,0,1,0,1,0,0,1,1,0,0]
[439,"44225 Torre del Compte","44225",{"$f":"((SUM(E440:X440)))+0","v":65},1,1,0,0,2,3,4,5,1,4,3,5,2,14,13,3,1,2,1,0,{"$f":"((SUM(Z440:AS440))+0)+0","v":60},1,0,2,1,2,1,2,2,1,4,2,7,7,10,6,0,3,5,4,0]
[440,"44226 Torrelacárcel","44226",{"$f":"((SUM(E441:X441)))+0","v":78},2,2,1,1,1,0,2,6,7,9,5,7,13,1,6,9,2,2,2,0,{"$f":"((SUM(Z441:AS441))+0)+0","v":62},0,2,0,1,1,3,3,1,1,4,1,4,6,2,5,10,3,9,6,0]
[441,"44227 Torre los Negros","44227",{"$f":"((SUM(E442:X442)))+0","v":42},0,0,0,1,4,1,1,0,3,4,3,4,4,1,3,4,0,5,3,1,{"$f":"((SUM(Z442:AS442))+0)+0","v":39},0,0,1,0,3,2,2,0,1,2,4,0,3,4,6,4,3,1,1,2]
[442,"44228 Torremocha de Jiloca","44228",{"$f":"((SUM(E443:X443)))+0","v":58},0,0,1,2,3,5,6,2,4,2,6,4,4,7,3,1,1,4,3,0,{"$f":"((SUM(Z443:AS443))+0)+0","v":48},0,1,0,3,1,2,1,3,5,3,4,2,1,6,2,2,7,2,3,0]
[443,"44229 Torres de Albarracín","44229",{"$f":"((SUM(E444:X444)))+0","v":97},3,2,4,3,4,4,9,7,8,2,4,7,12,8,5,4,5,3,2,1,{"$f":"((SUM(Z444:AS444))+0)+0","v":71},1,2,1,6,5,2,6,4,3,5,9,4,2,4,3,2,3,6,3,0]
[444,"44230 Torrevelilla","44230",{"$f":"((SUM(E445:X445)))+0","v":88},1,3,2,3,7,4,4,5,4,5,9,11,8,4,3,1,3,6,3,2,{"$f":"((SUM(Z445:AS445))+0)+0","v":82},3,5,4,0,2,4,3,7,3,3,4,9,6,3,2,6,4,9,5,0]
[445,"44231 Torrijas","44231",{"$f":"((SUM(E446:X446)))+0","v":15},0,0,1,0,1,1,2,0,2,2,0,1,0,1,1,1,0,0,2,0,{"$f":"((SUM(Z446:AS446))+0)+0","v":20},2,0,0,1,2,2,0,1,4,1,1,1,0,1,3,1,0,0,0,0]
[446,"44232 Torrijo del Campo","44232",{"$f":"((SUM(E447:X447)))+0","v":253},8,8,9,7,6,10,19,15,19,15,17,19,25,18,12,19,8,15,3,1,{"$f":"((SUM(Z447:AS447))+0)+0","v":229},7,8,10,5,11,7,18,12,15,12,13,17,16,12,20,16,7,10,13,0]
[447,"44234 Tramacastiel","44234",{"$f":"((SUM(E448:X448)))+0","v":39},0,0,0,0,3,1,4,2,2,1,1,4,3,6,2,5,2,2,1,0,{"$f":"((SUM(Z448:AS448))+0)+0","v":27},0,0,0,0,0,0,2,3,3,1,1,1,4,3,3,1,0,1,2,2]
[448,"44235 Tramacastilla","44235",{"$f":"((SUM(E449:X449)))+0","v":57},0,1,3,0,3,2,3,3,4,5,4,5,5,2,2,3,4,5,3,0,{"$f":"((SUM(Z449:AS449))+0)+0","v":60},2,1,4,2,4,1,2,1,3,4,4,3,7,4,1,5,4,5,3,0]
[449,"44236 Tronchón","44236",{"$f":"((SUM(E450:X450)))+0","v":31},0,0,0,0,1,1,2,1,1,3,3,1,6,1,4,0,4,3,0,0,{"$f":"((SUM(Z450:AS450))+0)+0","v":30},0,0,2,0,2,1,2,1,1,1,1,2,3,0,4,6,0,2,2,0]
[450,"44237 Urrea de Gaén","44237",{"$f":"((SUM(E451:X451)))+0","v":223},4,6,10,9,8,11,10,18,17,14,13,10,17,20,17,16,10,6,4,3,{"$f":"((SUM(Z451:AS451))+0)+0","v":217},4,5,6,5,10,5,14,12,20,11,10,10,19,16,22,18,9,13,5,3]
[451,"44238 Utrillas","44238",{"$f":"((SUM(E452:X452)))+0","v":1540},50,65,79,73,76,86,100,115,116,120,124,124,135,115,50,44,33,25,9,1,{"$f":"((SUM(Z452:AS452))+0)+0","v":1471},59,67,77,69,62,81,100,109,98,99,102,130,101,85,69,43,37,54,27,2]
[452,"44239 Valacloche","44239",{"$f":"((SUM(E453:X453)))+0","v":14},0,0,0,0,1,2,0,0,2,0,0,1,3,1,1,0,1,0,2,0,{"$f":"((SUM(Z453:AS453))+0)+0","v":12},0,0,0,0,0,1,0,1,0,0,2,1,1,0,0,3,1,1,1,0]
[453,"44240 Valbona","44240",{"$f":"((SUM(E454:X454)))+0","v":108},2,3,3,2,4,4,3,7,7,12,5,4,10,8,12,9,9,3,1,0,{"$f":"((SUM(Z454:AS454))+0)+0","v":80},1,4,0,5,2,3,3,5,6,5,4,5,6,11,5,5,5,4,1,0]
[454,"44241 Valdealgorfa","44241",{"$f":"((SUM(E455:X455)))+0","v":289},14,7,15,5,15,9,10,20,16,20,20,29,19,15,25,21,15,8,5,1,{"$f":"((SUM(Z455:AS455))+0)+0","v":302},13,7,14,8,12,10,14,8,19,13,22,22,17,26,16,30,22,14,12,3]
[455,"44243 Valdecuenca","44243",{"$f":"((SUM(E456:X456)))+0","v":19},1,0,0,0,1,2,1,1,3,1,1,1,1,2,2,0,1,0,1,0,{"$f":"((SUM(Z456:AS456))+0)+0","v":12},1,0,0,1,0,0,2,0,0,1,2,0,1,3,0,0,0,0,0,1]
[456,"44244 Valdelinares","44244",{"$f":"((SUM(E457:X457)))+0","v":47},0,0,4,1,4,2,3,2,3,4,3,7,3,1,1,1,4,2,2,0,{"$f":"((SUM(Z457:AS457))+0)+0","v":31},1,0,1,1,5,2,2,1,2,2,3,2,5,0,1,1,0,2,0,0]
[457,"44245 Valdeltormo","44245",{"$f":"((SUM(E458:X458)))+0","v":144},5,2,4,1,7,3,6,8,13,14,11,11,8,9,11,11,12,4,3,1,{"$f":"((SUM(Z458:AS458))+0)+0","v":157},7,9,7,5,10,3,8,11,7,8,6,9,9,12,16,8,7,9,4,2]
[458,"44246 Valderrobres","44246",{"$f":"((SUM(E459:X459)))+0","v":1291},59,56,69,75,72,68,80,99,104,104,92,92,102,61,45,45,30,19,13,6,{"$f":"((SUM(Z459:AS459))+0)+0","v":1207},39,75,65,54,51,53,79,69,88,92,88,83,89,64,53,38,39,52,28,8]
[459,"44247 Valjunquera","44247",{"$f":"((SUM(E460:X460)))+0","v":170},4,7,8,5,6,10,7,10,6,13,9,14,11,14,17,7,9,7,4,2,{"$f":"((SUM(Z460:AS460))+0)+0","v":167},5,5,6,5,16,9,8,2,10,11,6,14,10,12,10,12,9,9,5,3]
[460,"44249 Vallecillo (El)","44249",{"$f":"((SUM(E461:X461)))+0","v":25},0,0,0,0,1,1,1,2,2,2,3,2,2,0,4,2,2,0,1,0,{"$f":"((SUM(Z461:AS461))+0)+0","v":16},0,0,0,1,1,0,1,1,0,0,1,0,3,2,4,1,1,0,0,0]
[461,"44250 Veguillas de la Sierra","44250",{"$f":"((SUM(E462:X462)))+0","v":13},0,0,0,0,0,0,0,1,0,0,3,3,2,1,0,1,1,0,0,1,{"$f":"((SUM(Z462:AS462))+0)+0","v":8},0,0,0,0,0,0,0,0,0,1,3,0,1,0,2,0,0,0,1,0]
[462,"44251 Villafranca del Campo","44251",{"$f":"((SUM(E463:X463)))+0","v":155},2,4,6,1,7,11,7,15,9,11,16,12,12,7,13,6,8,4,3,1,{"$f":"((SUM(Z463:AS463))+0)+0","v":146},7,3,6,9,9,5,9,10,2,5,13,4,8,10,4,9,12,14,4,3]
[463,"44252 Villahermosa del Campo","44252",{"$f":"((SUM(E464:X464)))+0","v":55},0,1,3,1,0,4,2,5,3,5,3,5,4,7,5,3,1,2,0,1,{"$f":"((SUM(Z464:AS464))+0)+0","v":35},2,3,0,1,2,0,1,4,0,2,4,1,4,3,3,4,0,0,1,0]
[464,"44256 Villanueva del Rebollar de la Sierra","44256",{"$f":"((SUM(E465:X465)))+0","v":25},0,0,1,2,2,0,1,1,0,3,4,1,3,1,0,1,1,4,0,0,{"$f":"((SUM(Z465:AS465))+0)+0","v":19},0,0,1,0,0,1,1,0,1,1,2,1,1,1,1,2,1,5,0,0]
[465,"44257 Villar del Cobo","44257",{"$f":"((SUM(E466:X466)))+0","v":97},2,1,1,1,5,2,2,7,8,5,9,10,8,6,11,6,8,4,1,0,{"$f":"((SUM(Z466:AS466))+0)+0","v":68},2,0,2,2,4,6,2,2,3,2,6,7,3,4,6,4,5,6,2,0]
[466,"44258 Villar del Salz","44258",{"$f":"((SUM(E467:X467)))+0","v":38},0,0,1,0,2,2,3,2,3,1,3,2,8,2,3,2,1,1,2,0,{"$f":"((SUM(Z467:AS467))+0)+0","v":25},2,0,2,1,1,0,0,4,1,0,1,0,1,0,4,2,1,2,3,0]
[467,"44260 Villarluengo","44260",{"$f":"((SUM(E468:X468)))+0","v":100},1,9,1,2,2,5,3,6,11,11,7,8,10,5,10,2,3,2,2,0,{"$f":"((SUM(Z468:AS468))+0)+0","v":74},5,3,3,3,2,6,6,6,5,1,1,7,5,9,4,0,3,2,2,1]
[468,"44261 Villarquemado","44261",{"$f":"((SUM(E469:X469)))+0","v":450},16,14,11,14,21,26,30,32,30,28,29,47,32,31,28,21,11,20,7,2,{"$f":"((SUM(Z469:AS469))+0)+0","v":407},11,18,13,13,14,14,19,34,21,25,34,29,28,25,21,19,22,29,14,4]
[469,"44262 Villarroya de los Pinares","44262",{"$f":"((SUM(E470:X470)))+0","v":92},7,3,2,3,8,3,5,10,4,7,7,6,9,7,3,2,2,3,1,0,{"$f":"((SUM(Z470:AS470))+0)+0","v":80},2,2,4,5,4,5,3,6,5,2,7,7,8,5,1,2,3,5,4,0]
[470,"44263 Villastar","44263",{"$f":"((SUM(E471:X471)))+0","v":271},15,19,15,8,10,11,18,26,37,19,14,25,18,17,2,5,5,4,3,0,{"$f":"((SUM(Z471:AS471))+0)+0","v":272},22,19,15,10,15,12,15,24,26,17,18,14,12,10,9,4,7,11,9,3]
[471,"44264 Villel","44264",{"$f":"((SUM(E472:X472)))+0","v":183},5,4,5,6,10,10,17,10,20,16,13,11,11,17,8,8,6,3,1,2,{"$f":"((SUM(Z472:AS472))+0)+0","v":146},12,7,7,6,4,8,9,8,10,10,10,4,12,6,9,12,5,4,3,0]
[472,"44265 Vinaceite","44265",{"$f":"((SUM(E473:X473)))+0","v":113},1,6,2,4,7,5,7,6,10,5,8,4,11,5,11,7,7,5,1,1,{"$f":"((SUM(Z473:AS473))+0)+0","v":98},2,2,2,4,3,7,6,5,6,6,3,8,7,12,6,5,3,6,3,2]
[473,"44266 Visiedo","44266",{"$f":"((SUM(E474:X474)))+0","v":55},2,1,1,0,1,1,1,0,3,3,0,4,9,6,7,7,5,4,0,0,{"$f":"((SUM(Z474:AS474))+0)+0","v":63},2,3,1,3,2,2,3,1,1,3,1,2,7,4,10,3,4,5,5,1]
[474,"44267 Vivel del Río Martín","44267",{"$f":"((SUM(E475:X475)))+0","v":37},0,0,0,1,2,0,4,1,3,5,2,4,0,1,3,4,5,2,0,0,{"$f":"((SUM(Z475:AS475))+0)+0","v":31},2,0,0,0,0,1,1,1,3,1,1,1,1,4,5,4,2,0,2,2]
[475,"44268 Zoma (La)","44268",{"$f":"((SUM(E476:X476)))+0","v":16},0,0,0,0,2,0,3,0,1,1,3,1,1,2,1,0,1,0,0,0,{"$f":"((SUM(Z476:AS476))+0)+0","v":14},0,0,0,0,1,1,0,0,0,2,0,2,1,1,0,3,2,1,0,0]
[476,"50001 Abanto","50001",{"$f":"((SUM(E477:X477)))+0","v":55},1,2,0,1,2,0,4,1,4,5,7,5,2,6,5,3,2,2,3,0,{"$f":"((SUM(Z477:AS477))+0)+0","v":34},0,0,0,0,0,0,1,1,0,2,1,3,8,1,5,5,2,2,3,0]
[477,"50002 Acered","50002",{"$f":"((SUM(E478:X478)))+0","v":78},0,1,0,2,4,3,4,2,4,9,6,7,3,6,10,5,4,7,1,0,{"$f":"((SUM(Z478:AS478))+0)+0","v":60},2,1,1,0,3,4,2,1,1,3,8,4,4,4,6,4,4,4,4,0]
[478,"50003 Agón","50003",{"$f":"((SUM(E479:X479)))+0","v":79},1,0,4,5,3,1,3,3,3,9,12,6,5,4,7,9,2,1,1,0,{"$f":"((SUM(Z479:AS479))+0)+0","v":60},2,1,0,0,6,1,1,3,4,6,5,5,4,5,7,3,4,3,0,0]
[479,"50004 Aguarón","50004",{"$f":"((SUM(E480:X480)))+0","v":324},4,7,8,13,17,13,18,18,13,30,35,39,26,23,16,16,14,10,4,0,{"$f":"((SUM(Z480:AS480))+0)+0","v":286},8,6,8,14,7,14,9,11,20,19,29,21,29,18,7,22,15,19,7,3]
[480,"50005 Aguilón","50005",{"$f":"((SUM(E481:X481)))+0","v":138},0,2,1,4,4,8,9,4,7,12,8,14,10,12,18,6,7,5,6,1,{"$f":"((SUM(Z481:AS481))+0)+0","v":106},1,0,2,2,1,2,3,0,8,9,7,9,13,10,6,12,9,5,7,0]
[481,"50006 Ainzón","50006",{"$f":"((SUM(E482:X482)))+0","v":551},20,16,20,19,44,29,20,45,34,41,45,57,49,40,24,14,20,12,1,1,{"$f":"((SUM(Z482:AS482))+0)+0","v":515},16,11,22,21,27,21,31,25,29,27,34,45,49,29,25,25,31,24,17,6]
[482,"50007 Aladrén","50007",{"$f":"((SUM(E483:X483)))+0","v":39},1,1,1,1,3,2,2,2,2,1,3,4,4,2,2,5,1,1,1,0,{"$f":"((SUM(Z483:AS483))+0)+0","v":20},0,0,0,1,0,2,0,1,1,1,2,1,4,1,3,0,1,2,0,0]
[483,"50008 Alagón","50008",{"$f":"((SUM(E484:X484)))+0","v":3602},140,161,208,206,164,209,224,252,299,315,322,293,235,168,162,104,71,53,15,1,{"$f":"((SUM(Z484:AS484))+0)+0","v":3576},118,177,204,186,165,159,208,236,305,297,282,246,226,191,156,140,113,89,52,26]
[484,"50009 Alarba","50009",{"$f":"((SUM(E485:X485)))+0","v":59},0,2,0,1,1,1,0,6,4,4,6,4,3,4,5,4,4,5,4,1,{"$f":"((SUM(Z485:AS485))+0)+0","v":45},0,1,0,2,3,3,2,2,1,2,4,1,6,2,2,4,3,5,1,1]
[485,"50010 Alberite de San Juan","50010",{"$f":"((SUM(E486:X486)))+0","v":44},0,1,1,1,2,2,4,0,0,1,3,9,5,3,3,3,5,0,1,0,{"$f":"((SUM(Z486:AS486))+0)+0","v":34},1,0,2,1,1,4,4,0,0,2,1,4,4,0,3,2,1,3,0,1]
[486,"50011 Albeta","50011",{"$f":"((SUM(E487:X487)))+0","v":71},3,1,3,1,6,3,7,6,3,3,7,4,4,4,5,5,2,3,1,0,{"$f":"((SUM(Z487:AS487))+0)+0","v":73},2,1,3,2,2,6,7,3,6,1,6,7,7,5,4,1,4,5,1,0]
[487,"50012 Alborge","50012",{"$f":"((SUM(E488:X488)))+0","v":60},1,3,3,2,2,4,2,5,5,4,7,5,5,4,1,3,1,2,1,0,{"$f":"((SUM(Z488:AS488))+0)+0","v":51},1,0,1,0,2,1,3,4,4,4,2,4,2,5,0,5,6,5,2,0]
[488,"50013 Alcalá de Ebro","50013",{"$f":"((SUM(E489:X489)))+0","v":114},0,6,4,5,1,4,7,4,16,12,6,14,5,12,4,6,3,3,2,0,{"$f":"((SUM(Z489:AS489))+0)+0","v":125},1,4,7,6,3,9,2,8,9,11,8,11,7,7,8,5,11,5,3,0]
[489,"50014 Alcalá de Moncayo","50014",{"$f":"((SUM(E490:X490)))+0","v":88},0,1,5,4,2,3,2,4,6,8,10,13,10,1,5,6,3,4,1,0,{"$f":"((SUM(Z490:AS490))+0)+0","v":69},0,2,5,1,0,4,1,4,6,8,7,6,2,3,4,8,3,2,3,0]
[490,"50015 Alconchel de Ariza","50015",{"$f":"((SUM(E491:X491)))+0","v":47},0,2,0,1,1,0,1,2,1,5,8,6,5,2,2,1,2,5,3,0,{"$f":"((SUM(Z491:AS491))+0)+0","v":33},1,0,0,1,0,0,1,0,4,1,3,4,1,1,3,4,3,4,1,1]
[491,"50016 Aldehuela de Liestos","50016",{"$f":"((SUM(E492:X492)))+0","v":38},0,0,0,0,0,3,2,3,2,4,3,5,1,7,3,2,2,0,1,0,{"$f":"((SUM(Z492:AS492))+0)+0","v":14},0,0,0,0,0,0,1,0,0,0,1,2,2,1,2,1,2,1,1,0]
[492,"50017 Alfajarín","50017",{"$f":"((SUM(E493:X493)))+0","v":1238},55,72,77,65,57,49,60,76,112,113,103,97,84,65,58,41,22,26,5,1,{"$f":"((SUM(Z493:AS493))+0)+0","v":1196},51,61,69,55,55,51,62,73,122,97,94,83,70,67,40,38,45,34,23,6]
[493,"50018 Alfamén","50018",{"$f":"((SUM(E494:X494)))+0","v":764},25,32,45,36,37,43,66,48,62,57,73,58,51,49,28,18,14,14,8,0,{"$f":"((SUM(Z494:AS494))+0)+0","v":713},26,33,39,38,28,54,50,46,43,46,53,61,52,32,23,25,25,21,15,3]
[494,"50019 Alforque","50019",{"$f":"((SUM(E495:X495)))+0","v":38},0,0,0,1,1,1,2,1,3,4,5,4,4,4,3,2,2,0,1,0,{"$f":"((SUM(Z495:AS495))+0)+0","v":26},0,0,0,0,0,1,1,0,2,3,0,4,3,4,4,0,2,1,0,1]
[495,"50020 Alhama de Aragón","50020",{"$f":"((SUM(E496:X496)))+0","v":508},12,18,21,34,27,25,22,26,36,45,49,42,26,29,31,26,14,14,10,1,{"$f":"((SUM(Z496:AS496))+0)+0","v":456},10,20,23,17,25,19,21,19,36,38,42,31,33,27,29,25,18,14,8,1]
[496,"50021 Almochuel","50021",{"$f":"((SUM(E497:X497)))+0","v":12},0,0,0,0,0,0,0,4,1,0,0,1,1,3,1,1,0,0,0,0,{"$f":"((SUM(Z497:AS497))+0)+0","v":10},0,0,0,0,0,0,1,0,0,0,0,1,2,2,2,0,1,1,0,0]
[497,"50022 Almolda (La)","50022",{"$f":"((SUM(E498:X498)))+0","v":272},4,6,3,4,15,15,11,20,15,19,15,22,28,27,19,21,13,9,6,0,{"$f":"((SUM(Z498:AS498))+0)+0","v":277},8,6,4,7,13,17,11,13,18,21,17,17,22,26,18,19,17,17,5,1]
[498,"50023 Almonacid de la Cuba","50023",{"$f":"((SUM(E499:X499)))+0","v":117},4,1,3,7,6,4,5,4,4,14,5,12,10,5,8,7,6,9,2,1,{"$f":"((SUM(Z499:AS499))+0)+0","v":117},0,3,2,9,5,7,6,4,9,9,8,8,7,6,7,9,4,12,2,0]
[499,"50024 Almonacid de la Sierra","50024",{"$f":"((SUM(E500:X500)))+0","v":429},18,14,20,15,16,25,21,31,46,36,31,36,34,21,15,21,15,8,4,2,{"$f":"((SUM(Z500:AS500))+0)+0","v":327},15,7,11,7,23,14,14,23,22,22,14,23,20,22,20,16,22,15,11,6]
[500,"50025 Almunia de Doña Godina (La)","50025",{"$f":"((SUM(E501:X501)))+0","v":4135},187,199,250,245,254,217,232,288,318,403,385,303,247,185,129,115,78,63,33,4,{"$f":"((SUM(Z501:AS501))+0)+0","v":3808},183,187,214,211,204,213,218,234,313,342,329,268,215,153,139,125,104,83,50,23]
[501,"50026 Alpartir","50026",{"$f":"((SUM(E502:X502)))+0","v":318},10,11,13,12,14,20,16,21,22,23,26,31,19,18,13,22,12,12,1,2,{"$f":"((SUM(Z502:AS502))+0)+0","v":284},11,12,14,10,18,14,12,19,24,21,28,18,14,10,19,11,10,11,7,1]
[502,"50027 Ambel","50027",{"$f":"((SUM(E503:X503)))+0","v":127},1,3,2,4,5,2,6,8,8,11,13,10,7,5,11,14,12,3,2,0,{"$f":"((SUM(Z503:AS503))+0)+0","v":126},3,3,4,4,5,2,3,10,14,8,10,3,7,9,17,8,8,6,2,0]
[503,"50028 Anento","50028",{"$f":"((SUM(E504:X504)))+0","v":71},1,0,0,6,7,4,6,5,8,3,7,5,5,6,2,5,0,1,0,0,{"$f":"((SUM(Z504:AS504))+0)+0","v":30},0,0,0,1,1,0,2,1,0,3,2,4,5,5,2,1,0,2,0,1]
[504,"50029 Aniñón","50029",{"$f":"((SUM(E505:X505)))+0","v":342},4,6,12,12,18,21,23,15,16,30,28,30,23,15,19,23,24,15,8,0,{"$f":"((SUM(Z505:AS505))+0)+0","v":317},7,7,6,10,18,17,13,7,14,18,24,26,25,14,26,28,26,16,14,1]
[505,"50030 Añón de Moncayo","50030",{"$f":"((SUM(E506:X506)))+0","v":119},0,3,5,1,4,4,4,6,7,9,8,7,11,13,7,13,3,7,4,3,{"$f":"((SUM(Z506:AS506))+0)+0","v":83},3,3,3,0,3,1,3,3,6,5,6,5,6,10,5,5,3,5,4,4]
[506,"50031 Aranda de Moncayo","50031",{"$f":"((SUM(E507:X507)))+0","v":83},0,1,0,1,3,4,4,6,2,3,4,11,12,10,11,2,2,4,2,1,{"$f":"((SUM(Z507:AS507))+0)+0","v":49},1,1,0,1,0,6,0,1,3,1,2,10,5,2,1,3,4,5,2,1]
[507,"50032 Arándiga","50032",{"$f":"((SUM(E508:X508)))+0","v":155},5,1,5,3,8,11,6,7,7,18,14,10,11,6,8,8,10,8,6,3,{"$f":"((SUM(Z508:AS508))+0)+0","v":132},1,6,3,7,5,6,7,5,4,9,4,9,6,7,6,13,10,15,4,5]
[508,"50033 Ardisa","50033",{"$f":"((SUM(E509:X509)))+0","v":47},0,0,0,2,0,1,1,1,3,3,10,1,6,4,5,7,1,0,0,2,{"$f":"((SUM(Z509:AS509))+0)+0","v":27},0,0,0,0,0,2,1,0,1,2,1,2,4,2,5,4,1,0,2,0]
[509,"50034 Ariza","50034",{"$f":"((SUM(E510:X510)))+0","v":533},13,19,35,27,18,28,26,35,34,43,44,46,33,29,24,35,14,16,9,5,{"$f":"((SUM(Z510:AS510))+0)+0","v":512},20,17,27,20,19,18,18,25,35,45,30,31,30,22,32,41,16,37,22,7]
[510,"50035 Artieda","50035",{"$f":"((SUM(E511:X511)))+0","v":47},1,0,1,1,1,0,7,5,4,1,3,1,4,5,2,6,1,1,3,0,{"$f":"((SUM(Z511:AS511))+0)+0","v":35},1,1,2,1,1,1,7,3,3,0,0,1,5,3,2,1,1,0,2,0]
[511,"50036 Asín","50036",{"$f":"((SUM(E512:X512)))+0","v":57},2,1,0,0,0,1,0,3,7,4,3,2,5,8,7,6,3,1,4,0,{"$f":"((SUM(Z512:AS512))+0)+0","v":47},1,0,1,0,0,1,8,1,1,1,1,5,5,6,7,2,2,2,3,0]
[512,"50037 Atea","50037",{"$f":"((SUM(E513:X513)))+0","v":84},0,2,2,6,3,1,2,3,7,5,5,7,8,5,9,4,10,3,1,1,{"$f":"((SUM(Z513:AS513))+0)+0","v":57},1,1,1,3,5,2,0,2,3,3,5,4,7,3,1,3,3,5,4,1]
[513,"50038 Ateca","50038",{"$f":"((SUM(E514:X514)))+0","v":872},15,21,42,54,42,48,39,34,47,59,98,77,67,59,50,49,37,21,10,3,{"$f":"((SUM(Z514:AS514))+0)+0","v":818},15,17,21,36,35,35,37,37,36,68,61,81,67,58,60,62,42,24,20,6]
[514,"50039 Azuara","50039",{"$f":"((SUM(E515:X515)))+0","v":301},8,6,7,8,8,18,18,22,13,28,35,34,21,12,13,18,16,10,3,3,{"$f":"((SUM(Z515:AS515))+0)+0","v":238},9,4,3,14,13,15,8,9,8,18,19,19,16,14,13,7,19,17,9,4]
[515,"50040 Badules","50040",{"$f":"((SUM(E516:X516)))+0","v":41},0,0,0,0,1,3,2,1,0,6,4,5,3,1,2,3,3,3,4,0,{"$f":"((SUM(Z516:AS516))+0)+0","v":33},0,2,0,2,0,1,1,0,1,3,5,1,3,1,3,1,2,5,1,1]
[516,"50041 Bagüés","50041",{"$f":"((SUM(E517:X517)))+0","v":7},0,0,0,0,1,0,0,0,1,0,1,0,2,1,1,0,0,0,0,0,{"$f":"((SUM(Z517:AS517))+0)+0","v":8},0,0,1,1,0,0,0,0,0,0,2,1,0,0,1,0,1,0,1,0]
[517,"50042 Balconchán","50042",{"$f":"((SUM(E518:X518)))+0","v":6},0,0,0,0,0,1,0,0,1,0,0,1,1,1,0,0,0,1,0,0,{"$f":"((SUM(Z518:AS518))+0)+0","v":12},0,0,0,0,0,0,0,1,0,0,1,1,2,1,3,0,1,1,1,0]
[518,"50043 Bárboles","50043",{"$f":"((SUM(E519:X519)))+0","v":168},3,6,6,7,7,10,7,11,16,14,14,13,19,8,8,9,6,4,0,0,{"$f":"((SUM(Z519:AS519))+0)+0","v":129},0,3,8,2,6,9,5,9,10,10,6,11,8,11,8,8,5,7,3,0]
[519,"50044 Bardallur","50044",{"$f":"((SUM(E520:X520)))+0","v":123},1,3,4,6,3,1,7,10,8,10,16,6,9,15,9,7,3,4,1,0,{"$f":"((SUM(Z520:AS520))+0)+0","v":126},2,3,4,2,8,5,4,2,11,7,8,7,15,12,6,13,5,6,6,0]
[520,"50045 Belchite","50045",{"$f":"((SUM(E521:X521)))+0","v":768},22,17,32,42,54,36,31,38,55,66,60,69,47,51,53,41,18,25,9,2,{"$f":"((SUM(Z521:AS521))+0)+0","v":765},19,24,28,40,35,31,28,36,47,53,66,52,42,61,42,59,46,35,18,3]
[521,"50046 Belmonte de Gracián","50046",{"$f":"((SUM(E522:X522)))+0","v":100},0,2,4,3,7,3,3,2,7,6,5,15,7,3,8,7,6,6,6,0,{"$f":"((SUM(Z522:AS522))+0)+0","v":83},2,1,0,4,3,1,3,1,7,7,5,5,2,5,4,10,10,10,1,2]
[522,"50047 Berdejo","50047",{"$f":"((SUM(E523:X523)))+0","v":29},0,0,1,1,0,1,0,1,1,3,3,2,3,6,3,1,3,0,0,0,{"$f":"((SUM(Z523:AS523))+0)+0","v":13},0,0,0,1,0,0,0,0,0,2,1,1,1,4,1,2,0,0,0,0]
[523,"50048 Berrueco","50048",{"$f":"((SUM(E524:X524)))+0","v":19},0,0,0,0,1,2,0,0,1,1,2,3,1,2,1,0,1,2,1,1,{"$f":"((SUM(Z524:AS524))+0)+0","v":13},0,0,0,0,0,1,0,1,0,0,0,4,1,1,1,2,2,0,0,0]
[524,"50050 Bijuesca","50050",{"$f":"((SUM(E525:X525)))+0","v":62},0,1,0,0,2,5,4,2,6,8,7,6,9,6,3,2,1,0,0,0,{"$f":"((SUM(Z525:AS525))+0)+0","v":27},0,0,1,0,1,2,1,0,1,1,3,6,4,0,4,1,1,1,0,0]
[525,"50051 Biota","50051",{"$f":"((SUM(E526:X526)))+0","v":443},10,9,17,16,37,15,15,23,25,35,49,39,36,29,20,26,21,15,4,2,{"$f":"((SUM(Z526:AS526))+0)+0","v":431},12,9,8,23,25,17,17,19,23,28,36,39,32,21,25,32,19,26,16,4]
[526,"50052 Bisimbre","50052",{"$f":"((SUM(E527:X527)))+0","v":43},0,0,1,1,1,0,2,3,3,4,4,3,5,7,3,1,2,3,0,0,{"$f":"((SUM(Z527:AS527))+0)+0","v":37},0,0,2,1,3,2,1,0,0,3,2,3,3,4,5,2,3,2,1,0]
[527,"50053 Boquiñeni","50053",{"$f":"((SUM(E528:X528)))+0","v":398},9,14,14,13,13,22,25,28,32,19,30,37,23,37,27,23,13,11,7,1,{"$f":"((SUM(Z528:AS528))+0)+0","v":392},9,6,14,15,17,11,22,18,22,24,34,25,44,31,23,27,16,20,13,1]
[528,"50054 Bordalba","50054",{"$f":"((SUM(E529:X529)))+0","v":30},0,0,0,0,0,2,0,0,3,2,5,3,0,1,4,4,4,1,1,0,{"$f":"((SUM(Z529:AS529))+0)+0","v":19},0,0,0,0,0,1,0,0,2,0,2,2,2,2,2,2,2,1,1,0]
[529,"50055 Borja","50055",{"$f":"((SUM(E530:X530)))+0","v":2601},99,146,166,172,127,138,126,183,198,214,210,212,156,129,119,88,49,42,26,1,{"$f":"((SUM(Z530:AS530))+0)+0","v":2453},88,114,148,134,110,105,123,144,194,212,173,171,178,108,134,105,81,77,38,16]
[530,"50056 Botorrita","50056",{"$f":"((SUM(E531:X531)))+0","v":289},10,13,12,4,13,8,16,17,26,23,34,28,23,19,19,8,6,7,3,0,{"$f":"((SUM(Z531:AS531))+0)+0","v":237},10,10,12,12,8,10,15,18,13,18,17,19,23,10,14,12,8,6,2,0]
[531,"50057 Brea de Aragón","50057",{"$f":"((SUM(E532:X532)))+0","v":779},16,26,30,46,37,28,38,40,60,66,66,59,59,57,46,45,34,19,4,3,{"$f":"((SUM(Z532:AS532))+0)+0","v":768},14,21,35,34,35,40,31,31,55,44,63,67,55,60,37,51,47,30,12,6]
[532,"50058 Bubierca","50058",{"$f":"((SUM(E533:X533)))+0","v":30},0,0,0,1,0,0,0,0,1,4,5,4,2,4,1,5,0,0,2,1,{"$f":"((SUM(Z533:AS533))+0)+0","v":30},0,0,0,0,1,0,0,1,4,6,1,5,4,2,2,3,0,0,1,0]
[533,"50059 Bujaraloz","50059",{"$f":"((SUM(E534:X534)))+0","v":526},13,25,22,25,33,35,23,36,43,44,41,48,37,25,16,20,16,20,4,0,{"$f":"((SUM(Z534:AS534))+0)+0","v":487},17,11,29,23,27,22,19,29,32,28,43,46,29,23,22,27,25,20,15,0]
[534,"50060 Bulbuente","50060",{"$f":"((SUM(E535:X535)))+0","v":132},2,3,6,4,8,5,8,8,10,13,6,20,11,6,3,6,3,10,0,0,{"$f":"((SUM(Z535:AS535))+0)+0","v":112},5,1,4,4,4,3,10,6,3,11,4,14,16,3,6,3,6,7,0,2]
[535,"50061 Bureta","50061",{"$f":"((SUM(E536:X536)))+0","v":110},4,4,0,1,5,5,3,4,12,11,6,4,10,10,9,10,9,2,1,0,{"$f":"((SUM(Z536:AS536))+0)+0","v":103},3,1,4,1,5,3,2,6,11,6,3,6,6,11,7,8,9,6,4,1]
[536,"50062 Burgo de Ebro (El)","50062",{"$f":"((SUM(E537:X537)))+0","v":1294},55,67,75,64,67,46,67,101,119,128,120,98,68,80,49,36,23,19,11,1,{"$f":"((SUM(Z537:AS537))+0)+0","v":1297},47,80,79,67,59,61,79,80,138,121,85,80,75,79,51,45,27,31,8,5]
[537,"50063 Buste (El)","50063",{"$f":"((SUM(E538:X538)))+0","v":41},0,1,1,1,1,2,2,1,2,5,6,4,2,4,0,0,6,2,1,0,{"$f":"((SUM(Z538:AS538))+0)+0","v":30},0,2,1,2,0,0,2,0,3,1,1,1,3,2,3,5,2,2,0,0]
[538,"50064 Cabañas de Ebro","50064",{"$f":"((SUM(E539:X539)))+0","v":256},11,5,7,9,14,11,14,13,16,14,22,20,25,14,10,18,11,12,9,1,{"$f":"((SUM(Z539:AS539))+0)+0","v":235},6,5,8,7,9,8,8,4,17,12,25,16,20,13,19,13,20,14,9,2]
[539,"50065 Cabolafuente","50065",{"$f":"((SUM(E540:X540)))+0","v":28},0,0,0,0,1,0,0,0,1,5,1,6,1,3,3,2,1,3,1,0,{"$f":"((SUM(Z540:AS540))+0)+0","v":21},0,0,0,0,1,0,0,1,2,1,1,0,3,0,3,2,3,3,1,0]
[540,"50066 Cadrete","50066",{"$f":"((SUM(E541:X541)))+0","v":2355},116,131,165,122,93,82,155,181,262,259,215,185,124,92,53,60,30,27,1,2,{"$f":"((SUM(Z541:AS541))+0)+0","v":2118},101,130,155,101,80,105,150,190,238,206,172,133,103,80,54,51,34,21,10,4]
[541,"50067 Calatayud","50067",{"$f":"((SUM(E542:X542)))+0","v":9734},340,453,557,512,557,549,751,591,738,775,834,701,639,505,381,311,219,206,85,30,{"$f":"((SUM(Z542:AS542))+0)+0","v":10042},342,382,504,512,486,484,505,629,746,778,831,774,690,521,483,418,327,365,204,61]
[542,"50068 Calatorao","50068",{"$f":"((SUM(E543:X543)))+0","v":1502},63,71,75,67,77,64,83,96,143,148,129,123,91,59,75,48,43,29,17,1,{"$f":"((SUM(Z543:AS543))+0)+0","v":1380},58,70,69,67,59,73,67,103,106,99,89,96,87,82,60,61,50,54,25,5]
[543,"50069 Calcena","50069",{"$f":"((SUM(E544:X544)))+0","v":43},0,0,0,0,0,1,1,5,2,1,5,6,4,5,3,5,2,1,1,1,{"$f":"((SUM(Z544:AS544))+0)+0","v":31},0,1,0,0,0,2,2,1,1,2,3,4,4,4,2,1,2,0,1,1]
[544,"50070 Calmarza","50070",{"$f":"((SUM(E545:X545)))+0","v":35},0,1,3,1,0,0,1,0,2,4,5,2,1,6,2,4,1,2,0,0,{"$f":"((SUM(Z545:AS545))+0)+0","v":28},0,1,2,2,0,0,2,1,2,3,2,0,0,2,3,1,2,0,4,1]
[545,"50071 Campillo de Aragón","50071",{"$f":"((SUM(E546:X546)))+0","v":74},0,0,0,1,5,0,2,2,6,5,7,7,8,9,5,3,5,6,2,1,{"$f":"((SUM(Z546:AS546))+0)+0","v":53},2,2,0,5,2,3,1,1,3,4,4,2,4,5,2,1,4,2,6,0]
[546,"50072 Carenas","50072",{"$f":"((SUM(E547:X547)))+0","v":101},0,0,0,3,5,3,3,0,8,9,8,11,18,7,8,7,7,4,0,0,{"$f":"((SUM(Z547:AS547))+0)+0","v":77},0,0,1,0,2,1,2,2,7,4,4,5,11,6,7,4,8,4,7,2]
[547,"50073 Cariñena","50073",{"$f":"((SUM(E548:X548)))+0","v":1686},67,69,84,81,94,94,95,109,142,165,160,122,104,82,81,60,38,20,15,4,{"$f":"((SUM(Z548:AS548))+0)+0","v":1659},66,85,106,80,96,79,93,106,122,135,128,98,107,94,67,61,58,41,28,9]
[548,"50074 Caspe","50074",{"$f":"((SUM(E549:X549)))+0","v":5402},234,301,299,291,342,332,315,375,453,455,418,379,317,261,217,160,134,86,24,9,{"$f":"((SUM(Z549:AS549))+0)+0","v":4818},239,256,247,260,257,233,279,300,341,378,317,309,297,260,251,201,136,147,85,25]
[549,"50075 Castejón de Alarba","50075",{"$f":"((SUM(E550:X550)))+0","v":47},0,1,0,0,2,0,2,0,2,3,4,7,7,5,2,1,4,2,5,0,{"$f":"((SUM(Z550:AS550))+0)+0","v":26},0,0,0,0,0,1,0,0,2,1,1,0,3,1,3,1,6,4,2,1]
[550,"50076 Castejón de las Armas","50076",{"$f":"((SUM(E551:X551)))+0","v":43},0,0,0,2,0,1,2,3,3,6,2,5,2,3,7,2,2,1,2,0,{"$f":"((SUM(Z551:AS551))+0)+0","v":38},1,0,0,1,1,0,0,3,3,2,1,5,3,3,8,2,4,1,0,0]
[551,"50077 Castejón de Valdejasa","50077",{"$f":"((SUM(E552:X552)))+0","v":102},2,2,1,1,2,1,8,6,14,9,4,8,10,4,8,9,3,5,5,0,{"$f":"((SUM(Z552:AS552))+0)+0","v":107},2,2,1,1,0,6,7,1,7,7,5,12,12,4,9,9,8,6,6,2]
[552,"50078 Castiliscar","50078",{"$f":"((SUM(E553:X553)))+0","v":118},2,3,1,4,5,4,5,6,6,8,11,11,9,10,5,12,10,4,2,0,{"$f":"((SUM(Z553:AS553))+0)+0","v":112},2,2,3,2,2,1,7,4,5,4,6,4,11,10,12,5,15,9,6,2]
[553,"50079 Cervera de la Cañada","50079",{"$f":"((SUM(E554:X554)))+0","v":146},3,4,7,5,4,6,3,4,11,16,15,15,8,5,9,15,8,7,0,1,{"$f":"((SUM(Z554:AS554))+0)+0","v":118},2,4,4,3,4,4,9,6,6,7,10,4,7,3,11,8,10,12,4,0]
[554,"50080 Cerveruela","50080",{"$f":"((SUM(E555:X555)))+0","v":25},0,0,1,0,0,0,0,1,2,3,7,2,2,4,2,1,0,0,0,0,{"$f":"((SUM(Z555:AS555))+0)+0","v":14},2,0,0,0,0,1,0,2,0,0,0,3,1,1,1,2,0,1,0,0]
[555,"50081 Cetina","50081",{"$f":"((SUM(E556:X556)))+0","v":285},5,8,13,10,17,12,11,12,9,21,29,29,25,12,18,13,10,16,10,5,{"$f":"((SUM(Z556:AS556))+0)+0","v":285},6,12,11,10,14,22,24,14,15,15,25,22,20,10,13,9,12,17,9,5]
[556,"50082 Cimballa","50082",{"$f":"((SUM(E557:X557)))+0","v":42},2,0,1,0,0,1,1,7,0,2,2,5,4,6,4,1,0,3,3,0,{"$f":"((SUM(Z557:AS557))+0)+0","v":44},0,5,1,0,1,4,1,2,2,1,0,5,2,2,4,3,2,5,3,1]
[557,"50083 Cinco Olivas","50083",{"$f":"((SUM(E558:X558)))+0","v":50},0,1,1,0,3,1,2,5,4,4,1,7,4,6,2,3,3,2,1,0,{"$f":"((SUM(Z558:AS558))+0)+0","v":52},1,1,3,2,2,2,3,2,5,3,5,2,5,7,1,3,2,1,2,0]
[558,"50084 Clarés de Ribota","50084",{"$f":"((SUM(E559:X559)))+0","v":39},0,0,0,1,0,0,2,3,4,3,4,4,1,7,4,2,3,0,1,0,{"$f":"((SUM(Z559:AS559))+0)+0","v":32},0,0,0,0,2,1,1,3,3,1,3,3,2,1,2,3,3,2,2,0]
[559,"50085 Codo","50085",{"$f":"((SUM(E560:X560)))+0","v":109},1,4,5,7,1,4,4,8,5,8,11,14,4,7,7,7,6,5,0,1,{"$f":"((SUM(Z560:AS560))+0)+0","v":99},0,3,2,3,4,4,3,4,7,8,9,3,3,6,8,10,6,9,6,1]
[560,"50086 Codos","50086",{"$f":"((SUM(E561:X561)))+0","v":156},1,5,17,21,7,9,3,8,12,3,5,8,6,7,8,8,7,12,6,3,{"$f":"((SUM(Z561:AS561))+0)+0","v":76},1,3,2,2,6,3,1,2,3,4,5,6,10,6,4,5,4,5,3,1]
[561,"50087 Contamina","50087",{"$f":"((SUM(E562:X562)))+0","v":18},0,1,0,0,0,0,0,1,1,1,1,0,2,4,1,4,1,0,1,0,{"$f":"((SUM(Z562:AS562))+0)+0","v":13},0,1,0,0,0,0,1,0,1,1,1,0,2,2,1,0,1,0,1,1]
[562,"50088 Cosuenda","50088",{"$f":"((SUM(E563:X563)))+0","v":167},6,3,7,4,4,5,5,9,17,14,15,16,12,14,10,12,6,6,2,0,{"$f":"((SUM(Z563:AS563))+0)+0","v":159},3,8,6,8,4,5,5,12,10,15,11,8,8,14,10,9,10,9,2,2]
[563,"50089 Cuarte de Huerva","50089",{"$f":"((SUM(E564:X564)))+0","v":7218},471,666,612,418,283,268,410,636,942,828,604,369,256,183,131,56,45,27,11,2,{"$f":"((SUM(Z564:AS564))+0)+0","v":6951},413,627,591,368,260,322,468,669,925,760,504,298,249,171,134,74,52,41,21,4]
[564,"50090 Cubel","50090",{"$f":"((SUM(E565:X565)))+0","v":72},4,2,3,2,3,2,1,3,3,5,11,4,8,0,6,5,4,4,2,0,{"$f":"((SUM(Z565:AS565))+0)+0","v":81},1,2,4,4,4,1,4,4,6,4,7,2,3,3,4,11,6,8,2,1]
[565,"50091 Cuerlas (Las)","50091",{"$f":"((SUM(E566:X566)))+0","v":21},0,0,0,1,0,1,0,1,1,1,2,3,5,0,3,1,0,1,1,0,{"$f":"((SUM(Z566:AS566))+0)+0","v":18},0,0,0,0,0,1,0,0,1,1,1,2,3,0,2,0,2,4,0,1]
[566,"50092 Chiprana","50092",{"$f":"((SUM(E567:X567)))+0","v":267},6,9,9,14,16,14,15,19,33,30,29,17,16,9,7,12,5,4,3,0,{"$f":"((SUM(Z567:AS567))+0)+0","v":248},11,20,10,9,12,15,10,19,21,20,21,14,15,4,15,9,8,12,1,2]
[567,"50093 Chodes","50093",{"$f":"((SUM(E568:X568)))+0","v":53},1,0,1,2,2,2,2,0,4,9,7,4,2,1,4,5,1,5,1,0,{"$f":"((SUM(Z568:AS568))+0)+0","v":43},0,2,2,1,1,3,3,2,1,2,6,2,1,4,1,3,3,3,2,1]
[568,"50094 Daroca","50094",{"$f":"((SUM(E569:X569)))+0","v":943},31,39,51,40,35,53,61,57,59,64,79,81,75,58,41,37,34,23,23,2,{"$f":"((SUM(Z569:AS569))+0)+0","v":978},30,37,28,41,42,43,58,64,51,64,71,73,74,47,43,56,48,58,39,11]
[569,"50095 Ejea de los Caballeros","50095",{"$f":"((SUM(E570:X570)))+0","v":8835},335,378,447,425,500,484,554,587,754,766,723,714,607,479,413,274,178,142,65,10,{"$f":"((SUM(Z570:AS570))+0)+0","v":8289},344,373,412,398,407,429,465,541,594,620,641,622,595,467,358,332,257,262,137,35]
[570,"50096 Embid de Ariza","50096",{"$f":"((SUM(E571:X571)))+0","v":18},0,0,0,0,0,1,0,0,1,1,1,3,2,4,2,0,1,0,2,0,{"$f":"((SUM(Z571:AS571))+0)+0","v":13},0,0,1,0,0,1,0,0,0,0,2,1,3,0,1,0,2,0,1,1]
[571,"50098 Encinacorba","50098",{"$f":"((SUM(E572:X572)))+0","v":95},1,0,4,0,7,2,3,4,6,7,7,11,11,6,11,5,2,4,3,1,{"$f":"((SUM(Z572:AS572))+0)+0","v":90},2,2,0,3,3,3,7,3,2,5,3,11,10,7,6,2,8,8,4,1]
[572,"50099 Épila","50099",{"$f":"((SUM(E573:X573)))+0","v":2287},103,123,132,126,138,129,143,132,191,189,188,158,142,108,80,78,59,50,15,3,{"$f":"((SUM(Z573:AS573))+0)+0","v":2160},118,132,126,115,114,121,125,130,154,146,146,154,115,98,95,88,68,60,44,11]
[573,"50100 Erla","50100",{"$f":"((SUM(E574:X574)))+0","v":183},2,3,11,3,7,10,8,12,14,14,10,17,23,4,16,13,7,7,2,0,{"$f":"((SUM(Z574:AS574))+0)+0","v":177},6,5,6,4,10,9,8,4,11,3,10,17,12,16,10,19,7,13,7,0]
[574,"50101 Escatrón","50101",{"$f":"((SUM(E575:X575)))+0","v":579},18,18,15,24,23,28,42,53,40,40,37,35,61,47,32,27,19,13,7,0,{"$f":"((SUM(Z575:AS575))+0)+0","v":577},27,36,23,19,21,25,37,37,32,35,28,56,44,31,30,21,28,25,16,6]
[575,"50102 Fabara","50102",{"$f":"((SUM(E576:X576)))+0","v":594},17,24,21,26,30,33,35,28,47,50,49,43,37,31,37,26,23,25,10,2,{"$f":"((SUM(Z576:AS576))+0)+0","v":494},10,14,25,15,25,22,15,23,36,40,26,41,35,30,38,29,26,26,15,3]
[576,"50104 Farlete","50104",{"$f":"((SUM(E577:X577)))+0","v":186},4,4,6,9,3,5,9,15,9,9,12,17,16,22,15,12,11,5,2,1,{"$f":"((SUM(Z577:AS577))+0)+0","v":190},0,3,3,11,8,9,7,10,4,16,15,21,12,15,14,17,6,13,6,0]
[577,"50105 Fayón","50105",{"$f":"((SUM(E578:X578)))+0","v":219},8,13,6,5,13,16,13,15,12,26,13,10,14,19,15,10,5,4,1,1,{"$f":"((SUM(Z578:AS578))+0)+0","v":178},13,10,6,2,3,5,11,14,12,11,8,9,14,14,18,8,8,6,4,2]
[578,"50106 Fayos (Los)","50106",{"$f":"((SUM(E579:X579)))+0","v":72},0,4,1,1,0,4,6,5,2,4,6,5,7,10,4,4,4,3,2,0,{"$f":"((SUM(Z579:AS579))+0)+0","v":59},0,2,0,1,3,3,2,1,5,0,1,4,5,2,9,4,4,9,3,1]
[579,"50107 Figueruelas","50107",{"$f":"((SUM(E580:X580)))+0","v":607},15,27,33,35,29,31,43,39,29,49,58,52,52,32,25,24,12,8,12,2,{"$f":"((SUM(Z580:AS580))+0)+0","v":619},17,24,25,31,31,37,52,35,32,51,49,56,51,34,25,24,15,16,12,2]
[580,"50108 Fombuena","50108",{"$f":"((SUM(E581:X581)))+0","v":35},0,0,0,0,2,0,2,3,6,2,3,6,3,3,3,2,0,0,0,0,{"$f":"((SUM(Z581:AS581))+0)+0","v":24},2,0,0,0,2,0,1,0,2,4,3,0,3,0,1,1,4,0,1,0]
[581,"50109 Frago (El)","50109",{"$f":"((SUM(E582:X582)))+0","v":74},0,0,2,1,2,5,1,4,7,5,14,7,3,8,5,3,1,2,4,0,{"$f":"((SUM(Z582:AS582))+0)+0","v":43},1,0,1,1,1,1,3,0,1,5,2,6,4,6,3,1,2,4,1,0]
[582,"50110 Frasno (El)","50110",{"$f":"((SUM(E583:X583)))+0","v":205},1,2,5,4,9,9,9,14,12,17,19,21,17,17,13,11,12,7,6,0,{"$f":"((SUM(Z583:AS583))+0)+0","v":174},2,1,3,9,7,6,4,6,9,14,22,11,15,13,11,13,7,9,9,3]
[583,"50111 Fréscano","50111",{"$f":"((SUM(E584:X584)))+0","v":114},4,3,0,1,7,7,4,4,9,6,11,14,14,10,4,9,3,0,2,2,{"$f":"((SUM(Z584:AS584))+0)+0","v":90},2,5,2,2,4,4,3,6,6,3,7,10,8,10,3,3,6,4,2,0]
[584,"50113 Fuendejalón","50113",{"$f":"((SUM(E585:X585)))+0","v":414},13,16,15,13,27,27,23,25,29,40,26,29,28,26,16,34,17,6,4,0,{"$f":"((SUM(Z585:AS585))+0)+0","v":349},10,5,10,17,20,13,17,15,25,27,29,21,22,30,23,35,15,11,3,1]
[585,"50114 Fuendetodos","50114",{"$f":"((SUM(E586:X586)))+0","v":82},0,0,6,5,1,1,5,3,8,7,7,10,7,8,7,3,0,3,1,0,{"$f":"((SUM(Z586:AS586))+0)+0","v":62},0,2,0,2,2,1,2,5,1,3,8,7,9,4,4,3,4,4,1,0]
[586,"50115 Fuentes de Ebro","50115",{"$f":"((SUM(E587:X587)))+0","v":2387},102,121,121,136,154,117,103,151,195,213,207,165,167,121,93,98,56,50,16,1,{"$f":"((SUM(Z587:AS587))+0)+0","v":2226},95,106,116,131,103,107,130,135,196,188,168,164,135,95,108,98,65,63,20,3]
[587,"50116 Fuentes de Jiloca","50116",{"$f":"((SUM(E588:X588)))+0","v":117},1,1,5,5,9,1,4,6,8,9,13,8,9,6,6,9,10,6,1,0,{"$f":"((SUM(Z588:AS588))+0)+0","v":91},1,1,2,1,5,2,5,4,5,3,9,3,10,3,8,9,8,9,3,0]
[588,"50117 Gallocanta","50117",{"$f":"((SUM(E589:X589)))+0","v":67},0,1,2,1,3,6,2,2,5,2,7,8,4,6,5,5,3,4,1,0,{"$f":"((SUM(Z589:AS589))+0)+0","v":53},0,0,2,1,0,6,4,2,1,5,3,4,4,0,6,4,3,5,2,1]
[589,"50118 Gallur","50118",{"$f":"((SUM(E590:X590)))+0","v":1300},43,46,60,56,63,57,68,82,98,109,104,109,123,87,66,48,39,30,10,2,{"$f":"((SUM(Z590:AS590))+0)+0","v":1263},32,36,57,51,55,59,65,73,90,92,82,115,100,80,68,70,56,50,28,4]
[590,"50119 Gelsa","50119",{"$f":"((SUM(E591:X591)))+0","v":533},10,22,21,23,16,23,34,22,27,39,44,59,42,45,20,35,17,20,11,3,{"$f":"((SUM(Z591:AS591))+0)+0","v":474},12,17,16,18,17,22,23,24,25,27,36,39,41,42,26,18,26,27,12,6]
[591,"50120 Godojos","50120",{"$f":"((SUM(E592:X592)))+0","v":27},0,0,0,1,0,3,3,0,0,3,2,3,2,1,1,2,3,3,0,0,{"$f":"((SUM(Z592:AS592))+0)+0","v":22},0,0,0,1,3,4,0,1,1,0,1,4,1,2,0,3,1,0,0,0]
[592,"50121 Gotor","50121",{"$f":"((SUM(E593:X593)))+0","v":148},0,2,3,8,7,7,7,4,6,14,18,19,6,8,8,14,9,5,3,0,{"$f":"((SUM(Z593:AS593))+0)+0","v":142},1,2,3,5,9,8,5,5,2,8,13,16,9,7,10,10,15,4,8,2]
[593,"50122 Grisel","50122",{"$f":"((SUM(E594:X594)))+0","v":49},0,2,0,1,0,3,2,1,4,6,8,5,6,2,5,3,0,1,0,0,{"$f":"((SUM(Z594:AS594))+0)+0","v":33},0,3,2,0,0,2,1,2,3,1,0,4,4,3,2,3,2,0,1,0]
[594,"50123 Grisén","50123",{"$f":"((SUM(E595:X595)))+0","v":323},10,22,14,16,19,25,29,19,28,22,23,26,22,18,11,5,5,6,2,1,{"$f":"((SUM(Z595:AS595))+0)+0","v":300},8,14,20,15,12,17,16,16,21,27,19,27,27,8,10,18,5,12,4,4]
[595,"50124 Herrera de los Navarros","50124",{"$f":"((SUM(E596:X596)))+0","v":290},9,17,10,11,9,14,13,8,17,19,36,31,23,15,13,10,12,13,8,2,{"$f":"((SUM(Z596:AS596))+0)+0","v":233},5,10,8,8,16,11,7,11,14,16,23,19,13,14,16,6,13,13,10,0]
[596,"50125 Ibdes","50125",{"$f":"((SUM(E597:X597)))+0","v":201},2,5,4,11,10,11,7,10,8,19,14,23,17,9,19,16,8,4,4,0,{"$f":"((SUM(Z597:AS597))+0)+0","v":183},6,6,3,10,9,6,7,12,10,6,17,12,16,9,11,10,12,7,11,3]
[597,"50126 Illueca","50126",{"$f":"((SUM(E598:X598)))+0","v":1390},20,37,61,80,75,72,58,75,97,122,135,140,111,97,65,64,33,39,9,0,{"$f":"((SUM(Z598:AS598))+0)+0","v":1356},26,37,49,72,81,67,63,50,75,125,133,119,98,97,71,65,52,37,32,7]
[598,"50128 Isuerre","50128",{"$f":"((SUM(E599:X599)))+0","v":17},0,1,1,2,0,0,0,0,0,1,2,1,2,1,2,1,2,0,1,0,{"$f":"((SUM(Z599:AS599))+0)+0","v":16},0,0,0,0,0,2,1,0,1,1,2,0,0,1,2,2,1,1,2,0]
[599,"50129 Jaraba","50129",{"$f":"((SUM(E600:X600)))+0","v":157},7,7,13,10,3,7,7,5,10,19,13,9,13,7,5,11,5,4,1,1,{"$f":"((SUM(Z600:AS600))+0)+0","v":123},3,3,7,7,5,9,2,3,10,13,9,14,10,3,8,7,8,2,0,0]
[600,"50130 Jarque de Moncayo","50130",{"$f":"((SUM(E601:X601)))+0","v":214},3,6,4,5,14,9,7,16,21,14,17,23,20,13,4,17,8,9,4,0,{"$f":"((SUM(Z601:AS601))+0)+0","v":193},6,8,5,6,14,9,8,9,14,10,16,17,15,10,10,7,10,14,4,1]
[601,"50131 Jaulín","50131",{"$f":"((SUM(E602:X602)))+0","v":150},5,2,5,7,3,7,9,7,4,15,14,18,10,5,9,7,10,6,6,1,{"$f":"((SUM(Z602:AS602))+0)+0","v":128},0,3,1,3,3,12,5,3,5,11,7,10,10,6,12,11,7,10,7,2]
[602,"50132 Joyosa (La)","50132",{"$f":"((SUM(E603:X603)))+0","v":566},21,39,45,31,26,26,37,34,61,64,58,35,30,24,18,6,4,6,1,0,{"$f":"((SUM(Z603:AS603))+0)+0","v":553},30,39,31,30,29,22,32,36,52,59,43,35,23,21,15,16,9,16,10,5]
[603,"50133 Lagata","50133",{"$f":"((SUM(E604:X604)))+0","v":58},0,1,1,2,2,2,3,2,3,5,4,8,8,4,6,2,0,3,2,0,{"$f":"((SUM(Z604:AS604))+0)+0","v":51},0,2,0,0,0,1,3,2,2,2,7,6,1,8,2,3,5,3,2,2]
[604,"50134 Langa del Castillo","50134",{"$f":"((SUM(E605:X605)))+0","v":60},0,2,1,0,1,4,3,4,5,3,4,4,3,5,6,9,2,3,0,1,{"$f":"((SUM(Z605:AS605))+0)+0","v":55},1,0,0,0,2,0,3,3,1,1,3,5,4,5,10,4,3,6,3,1]
[605,"50135 Layana","50135",{"$f":"((SUM(E606:X606)))+0","v":56},0,1,4,3,3,1,0,5,2,5,10,3,6,2,1,4,4,2,0,0,{"$f":"((SUM(Z606:AS606))+0)+0","v":40},0,1,0,3,2,1,1,1,4,2,3,3,2,1,5,4,5,1,1,0]
[606,"50136 Lécera","50136",{"$f":"((SUM(E607:X607)))+0","v":338},8,5,6,11,12,14,20,17,26,25,33,27,37,17,17,18,14,17,7,7,{"$f":"((SUM(Z607:AS607))+0)+0","v":296},8,10,8,3,22,11,16,10,14,14,17,23,22,23,18,22,12,23,16,4]
[607,"50137 Leciñena","50137",{"$f":"((SUM(E608:X608)))+0","v":567},21,22,20,27,21,16,19,27,41,34,50,56,37,44,37,39,24,24,8,0,{"$f":"((SUM(Z608:AS608))+0)+0","v":549},14,25,16,26,10,17,23,26,39,40,43,27,44,33,35,40,33,29,23,6]
[608,"50138 Lechón","50138",{"$f":"((SUM(E609:X609)))+0","v":28},0,0,0,0,0,2,2,1,4,2,2,4,2,1,3,2,2,1,0,0,{"$f":"((SUM(Z609:AS609))+0)+0","v":19},0,0,1,0,3,1,0,0,0,1,2,3,0,0,3,0,0,1,3,1]
[609,"50139 Letux","50139",{"$f":"((SUM(E610:X610)))+0","v":181},2,0,0,7,8,7,9,3,6,13,13,25,29,8,9,12,10,14,5,1,{"$f":"((SUM(Z610:AS610))+0)+0","v":156},2,2,5,3,8,5,5,2,7,11,11,12,11,12,10,16,9,13,8,4]
[610,"50140 Litago","50140",{"$f":"((SUM(E611:X611)))+0","v":113},4,0,3,2,6,2,2,12,4,9,12,5,15,8,7,8,7,5,2,0,{"$f":"((SUM(Z611:AS611))+0)+0","v":81},2,0,1,2,3,2,5,3,2,4,8,8,8,5,6,9,7,5,1,0]
[611,"50141 Lituénigo","50141",{"$f":"((SUM(E612:X612)))+0","v":64},3,2,2,2,1,3,4,6,1,5,2,8,8,5,6,1,3,1,0,1,{"$f":"((SUM(Z612:AS612))+0)+0","v":57},3,1,0,0,2,0,4,6,1,3,3,5,12,3,2,5,1,2,4,0]
[612,"50142 Lobera de Onsella","50142",{"$f":"((SUM(E613:X613)))+0","v":14},1,0,0,0,0,0,1,1,1,0,2,3,1,1,0,1,1,1,0,0,{"$f":"((SUM(Z613:AS613))+0)+0","v":12},0,0,0,2,0,0,0,1,0,1,0,0,3,1,0,0,2,2,0,0]
[613,"50143 Longares","50143",{"$f":"((SUM(E614:X614)))+0","v":537},11,10,13,15,39,38,65,44,45,50,56,37,35,23,12,20,12,6,6,0,{"$f":"((SUM(Z614:AS614))+0)+0","v":345},5,19,21,12,11,21,16,20,25,21,26,29,25,21,11,23,17,10,10,2]
[614,"50144 Longás","50144",{"$f":"((SUM(E615:X615)))+0","v":27},0,0,0,0,1,0,1,0,1,3,3,2,5,3,2,4,2,0,0,0,{"$f":"((SUM(Z615:AS615))+0)+0","v":15},0,0,0,0,0,1,1,0,1,0,3,3,0,0,3,2,0,1,0,0]
[615,"50146 Lucena de Jalón","50146",{"$f":"((SUM(E616:X616)))+0","v":124},1,5,9,8,2,4,3,4,9,11,15,6,13,8,5,9,5,5,2,0,{"$f":"((SUM(Z616:AS616))+0)+0","v":102},0,3,5,3,3,3,4,5,5,11,5,14,5,8,3,7,6,8,3,1]
[616,"50147 Luceni","50147",{"$f":"((SUM(E617:X617)))+0","v":485},19,23,20,23,23,28,28,29,30,40,47,36,45,26,19,21,11,11,4,2,{"$f":"((SUM(Z617:AS617))+0)+0","v":488},18,16,27,17,12,28,22,28,39,34,26,32,56,18,26,17,27,31,10,4]
[617,"50148 Luesia","50148",{"$f":"((SUM(E618:X618)))+0","v":179},5,2,2,2,8,13,12,7,6,15,15,18,17,12,13,12,9,7,3,1,{"$f":"((SUM(Z618:AS618))+0)+0","v":154},3,5,6,5,6,5,11,6,13,7,3,15,14,15,8,8,6,13,3,2]
[618,"50149 Luesma","50149",{"$f":"((SUM(E619:X619)))+0","v":21},0,0,0,0,2,0,0,1,0,2,4,3,3,2,0,3,0,1,0,0,{"$f":"((SUM(Z619:AS619))+0)+0","v":17},0,0,0,0,0,1,1,2,2,1,1,0,1,1,2,5,0,0,0,0]
[619,"50150 Lumpiaque","50150",{"$f":"((SUM(E620:X620)))+0","v":446},20,19,18,18,22,16,31,23,26,40,33,32,30,30,26,22,16,15,8,1,{"$f":"((SUM(Z620:AS620))+0)+0","v":395},16,19,16,17,12,15,24,26,22,30,24,23,33,28,15,24,22,16,9,4]
[620,"50151 Luna","50151",{"$f":"((SUM(E621:X621)))+0","v":363},9,5,8,8,27,20,15,16,14,26,33,35,34,36,20,22,18,10,7,0,{"$f":"((SUM(Z621:AS621))+0)+0","v":331},9,5,5,12,15,18,24,5,16,25,22,35,31,21,18,26,16,19,6,3]
[621,"50152 Maella","50152",{"$f":"((SUM(E622:X622)))+0","v":1153},44,42,55,55,54,55,61,102,100,100,98,69,71,63,51,56,29,28,16,4,{"$f":"((SUM(Z622:AS622))+0)+0","v":944},33,41,41,48,39,34,41,57,67,62,74,61,68,56,62,51,45,32,23,9]
[622,"50153 Magallón","50153",{"$f":"((SUM(E623:X623)))+0","v":576},16,16,24,23,23,36,31,34,41,50,55,43,36,35,30,27,19,24,12,1,{"$f":"((SUM(Z623:AS623))+0)+0","v":542},21,15,23,23,35,20,28,25,30,35,46,31,32,28,28,37,37,19,23,6]
[623,"50154 Mainar","50154",{"$f":"((SUM(E624:X624)))+0","v":95},4,3,4,3,7,3,11,4,2,8,5,8,6,8,3,8,4,3,1,0,{"$f":"((SUM(Z624:AS624))+0)+0","v":75},1,1,1,0,9,6,3,4,3,10,4,5,4,3,6,5,4,2,2,2]
[624,"50155 Malanquilla","50155",{"$f":"((SUM(E625:X625)))+0","v":56},0,0,1,0,0,1,2,4,5,5,6,3,3,10,5,3,3,4,1,0,{"$f":"((SUM(Z625:AS625))+0)+0","v":34},0,3,2,0,0,0,1,3,2,3,2,0,4,1,3,4,2,3,0,1]
[625,"50156 Maleján","50156",{"$f":"((SUM(E626:X626)))+0","v":137},3,4,8,5,4,9,12,8,10,8,9,8,11,10,13,6,0,8,1,0,{"$f":"((SUM(Z626:AS626))+0)+0","v":125},2,4,7,5,6,7,3,10,8,12,10,7,9,8,6,4,7,4,4,2]
[626,"50157 Malón","50157",{"$f":"((SUM(E627:X627)))+0","v":192},7,12,10,6,15,8,10,3,15,21,18,16,14,10,5,9,5,4,4,0,{"$f":"((SUM(Z627:AS627))+0)+0","v":200},7,10,7,11,12,10,10,14,12,8,17,9,10,7,7,12,15,13,5,4]
[627,"50159 Maluenda","50159",{"$f":"((SUM(E628:X628)))+0","v":454},14,13,21,20,27,18,29,31,30,38,44,37,21,26,29,21,15,15,3,2,{"$f":"((SUM(Z628:AS628))+0)+0","v":451},6,16,17,16,23,27,23,31,32,36,36,27,25,28,24,32,22,12,13,5]
[628,"50160 Mallén","50160",{"$f":"((SUM(E629:X629)))+0","v":1512},50,66,73,75,60,94,88,96,120,131,136,119,108,85,63,62,38,34,12,2,{"$f":"((SUM(Z629:AS629))+0)+0","v":1425},63,48,68,57,80,73,79,89,104,93,116,124,94,73,73,55,54,51,25,6]
[629,"50161 Manchones","50161",{"$f":"((SUM(E630:X630)))+0","v":56},1,1,1,0,4,1,2,0,6,3,7,5,4,3,4,5,7,1,1,0,{"$f":"((SUM(Z630:AS630))+0)+0","v":47},3,0,2,1,1,2,1,3,3,5,3,0,3,2,4,3,4,4,2,1]
[630,"50162 Mara","50162",{"$f":"((SUM(E631:X631)))+0","v":84},2,1,3,3,4,4,5,3,3,9,7,5,12,4,0,2,8,3,4,2,{"$f":"((SUM(Z631:AS631))+0)+0","v":84},4,1,2,4,2,3,4,4,4,8,5,10,5,2,5,4,5,7,3,2]
[631,"50163 María de Huerva","50163",{"$f":"((SUM(E632:X632)))+0","v":3101},171,276,288,205,121,95,144,256,342,415,268,170,108,76,67,43,23,17,14,2,{"$f":"((SUM(Z632:AS632))+0)+0","v":3067},214,263,285,207,98,97,186,267,370,368,230,147,79,74,61,35,32,26,12,16]
[632,"50164 Mediana de Aragón","50164",{"$f":"((SUM(E633:X633)))+0","v":227},8,4,9,3,10,15,16,17,13,15,17,23,12,19,13,14,9,6,2,2,{"$f":"((SUM(Z633:AS633))+0)+0","v":230},8,12,14,9,15,10,12,10,17,15,15,15,16,12,17,10,9,8,3,3]
[633,"50165 Mequinenza","50165",{"$f":"((SUM(E634:X634)))+0","v":1162},41,50,59,50,72,58,76,60,75,98,111,113,64,56,50,48,40,28,12,1,{"$f":"((SUM(Z634:AS634))+0)+0","v":1132},38,60,36,47,54,61,61,64,60,89,98,96,62,62,57,62,61,45,17,2]
[634,"50166 Mesones de Isuela","50166",{"$f":"((SUM(E635:X635)))+0","v":139},2,5,6,3,6,4,7,4,9,7,13,13,6,17,6,4,18,6,3,0,{"$f":"((SUM(Z635:AS635))+0)+0","v":133},2,1,2,1,6,2,7,13,6,5,10,10,14,10,6,10,9,10,7,2]
[635,"50167 Mezalocha","50167",{"$f":"((SUM(E636:X636)))+0","v":127},1,3,2,2,7,6,5,7,6,7,14,10,19,7,6,6,7,9,3,0,{"$f":"((SUM(Z636:AS636))+0)+0","v":105},4,1,2,1,2,5,6,1,2,7,10,11,10,10,9,7,9,5,2,1]
[636,"50168 Mianos","50168",{"$f":"((SUM(E637:X637)))+0","v":15},0,0,0,0,1,0,0,0,0,0,4,3,0,0,1,2,2,1,0,1,{"$f":"((SUM(Z637:AS637))+0)+0","v":13},0,0,0,0,1,0,0,1,1,3,1,0,0,1,0,1,2,2,0,0]
[637,"50169 Miedes de Aragón","50169",{"$f":"((SUM(E638:X638)))+0","v":225},3,2,10,6,16,9,16,14,15,21,21,20,12,16,11,8,11,8,6,0,{"$f":"((SUM(Z638:AS638))+0)+0","v":199},6,3,5,11,7,15,10,12,11,13,12,10,18,11,12,12,11,8,9,3]
[638,"50170 Monegrillo","50170",{"$f":"((SUM(E639:X639)))+0","v":216},1,4,4,5,6,17,9,13,20,19,20,20,16,15,16,9,13,9,0,0,{"$f":"((SUM(Z639:AS639))+0)+0","v":177},5,1,9,2,5,5,10,7,10,9,9,14,21,20,15,14,8,7,4,2]
[639,"50171 Moneva","50171",{"$f":"((SUM(E640:X640)))+0","v":69},1,1,0,0,3,4,1,7,4,2,5,5,7,4,8,8,3,4,2,0,{"$f":"((SUM(Z640:AS640))+0)+0","v":46},1,1,0,0,0,1,4,0,0,6,2,4,3,7,8,2,4,0,1,2]
[640,"50172 Monreal de Ariza","50172",{"$f":"((SUM(E641:X641)))+0","v":114},2,0,4,2,2,0,3,7,12,6,16,8,9,10,10,7,8,4,4,0,{"$f":"((SUM(Z641:AS641))+0)+0","v":79},0,0,1,0,4,3,11,2,2,6,6,9,4,5,6,8,5,5,2,0]
[641,"50173 Monterde","50173",{"$f":"((SUM(E642:X642)))+0","v":87},0,0,0,0,0,1,4,5,6,9,6,10,12,10,6,10,6,2,0,0,{"$f":"((SUM(Z642:AS642))+0)+0","v":46},0,0,0,1,0,3,2,0,0,2,5,3,4,5,6,7,5,1,2,0]
[642,"50174 Montón","50174",{"$f":"((SUM(E643:X643)))+0","v":55},0,1,1,0,0,3,1,1,5,4,7,4,2,2,6,5,2,5,5,1,{"$f":"((SUM(Z643:AS643))+0)+0","v":31},0,1,1,1,0,0,0,2,2,0,1,3,2,1,7,4,2,2,2,0]
[643,"50175 Morata de Jalón","50175",{"$f":"((SUM(E644:X644)))+0","v":546},11,17,16,19,19,23,35,30,43,48,46,50,52,27,35,27,21,25,2,0,{"$f":"((SUM(Z644:AS644))+0)+0","v":555},15,11,15,23,26,32,18,21,33,31,47,39,50,36,31,43,36,31,14,3]
[644,"50176 Morata de Jiloca","50176",{"$f":"((SUM(E645:X645)))+0","v":146},3,2,5,0,8,11,14,7,7,9,12,15,11,10,6,11,7,6,2,0,{"$f":"((SUM(Z645:AS645))+0)+0","v":104},2,2,1,0,5,6,13,5,6,3,7,8,12,3,4,9,9,5,3,1]
[645,"50177 Morés","50177",{"$f":"((SUM(E646:X646)))+0","v":174},2,2,5,8,9,7,5,9,15,13,12,13,16,18,15,5,7,6,6,1,{"$f":"((SUM(Z646:AS646))+0)+0","v":158},4,4,7,8,6,8,4,9,5,10,10,15,9,14,11,8,4,15,4,3]
[646,"50178 Moros","50178",{"$f":"((SUM(E647:X647)))+0","v":155},1,0,2,6,13,7,3,4,4,10,15,25,17,8,7,10,9,10,4,0,{"$f":"((SUM(Z647:AS647))+0)+0","v":144},0,1,1,5,15,12,5,2,4,7,15,12,7,2,9,14,16,14,2,1]
[647,"50179 Moyuela","50179",{"$f":"((SUM(E648:X648)))+0","v":141},1,0,3,0,3,3,5,2,5,11,11,13,21,13,19,11,8,8,3,1,{"$f":"((SUM(Z648:AS648))+0)+0","v":110},0,2,2,2,6,3,3,5,2,4,8,16,9,7,15,10,7,4,5,0]
[648,"50180 Mozota","50180",{"$f":"((SUM(E649:X649)))+0","v":65},4,1,1,1,1,2,5,3,6,5,8,5,4,5,1,6,3,4,0,0,{"$f":"((SUM(Z649:AS649))+0)+0","v":58},1,5,2,0,0,1,5,3,5,4,4,4,2,2,3,7,4,2,4,0]
[649,"50181 Muel","50181",{"$f":"((SUM(E650:X650)))+0","v":759},26,33,27,32,35,41,40,57,69,55,78,63,59,40,33,22,18,16,14,1,{"$f":"((SUM(Z650:AS650))+0)+0","v":720},32,41,37,41,34,39,41,45,48,52,53,49,39,45,31,30,19,19,16,9]
[650,"50182 Muela (La)","50182",{"$f":"((SUM(E651:X651)))+0","v":3245},171,246,241,182,118,135,250,299,391,342,253,181,127,106,82,57,30,26,6,2,{"$f":"((SUM(Z651:AS651))+0)+0","v":3002},189,222,253,152,110,159,245,266,367,276,201,139,120,105,75,47,25,35,12,4]
[651,"50183 Munébrega","50183",{"$f":"((SUM(E652:X652)))+0","v":193},5,2,2,6,13,11,10,13,15,15,15,24,11,7,11,9,11,7,5,1,{"$f":"((SUM(Z652:AS652))+0)+0","v":163},1,2,2,5,10,11,7,6,7,9,13,13,13,6,19,9,10,13,6,1]
[652,"50184 Murero","50184",{"$f":"((SUM(E653:X653)))+0","v":59},1,0,0,0,1,4,6,2,0,0,7,13,6,6,2,6,2,3,0,0,{"$f":"((SUM(Z653:AS653))+0)+0","v":45},1,1,0,2,1,3,2,1,2,3,2,4,5,3,2,3,4,5,0,1]
[653,"50185 Murillo de Gállego","50185",{"$f":"((SUM(E654:X654)))+0","v":114},4,5,6,3,3,8,5,0,13,13,9,8,7,11,7,4,2,6,0,0,{"$f":"((SUM(Z654:AS654))+0)+0","v":83},2,3,4,4,4,5,3,7,8,8,7,4,7,4,5,2,3,2,1,0]
[654,"50186 Navardún","50186",{"$f":"((SUM(E655:X655)))+0","v":21},0,0,0,0,1,0,0,1,1,2,1,6,2,1,2,0,1,1,1,1,{"$f":"((SUM(Z655:AS655))+0)+0","v":14},0,0,0,0,0,1,1,1,0,1,0,1,0,1,0,1,3,1,3,0]
[655,"50187 Nigüella","50187",{"$f":"((SUM(E656:X656)))+0","v":37},0,0,0,2,1,2,2,1,2,4,1,2,3,1,3,1,5,4,2,1,{"$f":"((SUM(Z656:AS656))+0)+0","v":22},0,0,0,0,0,0,0,1,2,1,3,0,1,3,3,4,2,1,1,0]
[656,"50188 Nombrevilla","50188",{"$f":"((SUM(E657:X657)))+0","v":21},0,0,0,0,1,0,0,1,2,2,0,1,1,3,5,2,2,1,0,0,{"$f":"((SUM(Z657:AS657))+0)+0","v":14},0,0,0,0,0,0,0,3,1,1,0,1,0,1,3,1,3,0,0,0]
[657,"50189 Nonaspe","50189",{"$f":"((SUM(E658:X658)))+0","v":544},23,13,20,21,35,40,29,30,44,38,38,33,39,45,30,26,18,12,10,0,{"$f":"((SUM(Z658:AS658))+0)+0","v":467},19,16,23,30,22,20,26,25,30,32,28,28,31,31,32,20,19,23,10,2]
[658,"50190 Novallas","50190",{"$f":"((SUM(E659:X659)))+0","v":450},14,12,21,21,27,23,29,27,40,40,27,33,31,40,17,23,6,14,4,1,{"$f":"((SUM(Z659:AS659))+0)+0","v":395},17,16,16,16,16,20,21,23,28,29,30,26,29,36,20,18,10,16,8,0]
[659,"50191 Novillas","50191",{"$f":"((SUM(E660:X660)))+0","v":256},5,4,6,13,7,15,9,14,19,13,17,29,24,13,23,20,7,15,3,0,{"$f":"((SUM(Z660:AS660))+0)+0","v":258},9,4,9,12,16,13,11,10,15,13,20,22,19,15,22,14,8,16,9,1]
[660,"50192 Nuévalos","50192",{"$f":"((SUM(E661:X661)))+0","v":154},0,6,6,7,5,8,9,4,13,14,21,13,11,4,5,12,11,4,1,0,{"$f":"((SUM(Z661:AS661))+0)+0","v":125},2,4,7,8,7,3,3,9,7,14,14,6,7,4,6,11,8,3,2,0]
[661,"50193 Nuez de Ebro","50193",{"$f":"((SUM(E662:X662)))+0","v":453},23,28,23,19,14,24,24,22,42,41,38,32,42,25,16,17,11,8,4,0,{"$f":"((SUM(Z662:AS662))+0)+0","v":436},16,19,24,29,20,17,26,29,37,31,34,29,34,24,16,16,12,15,7,1]
[662,"50194 Olvés","50194",{"$f":"((SUM(E663:X663)))+0","v":61},1,0,3,0,0,3,3,5,1,9,6,3,3,5,10,1,3,4,1,0,{"$f":"((SUM(Z663:AS663))+0)+0","v":49},1,1,3,4,3,1,5,3,1,3,3,1,2,3,4,4,4,2,1,0]
[663,"50195 Orcajo","50195",{"$f":"((SUM(E664:X664)))+0","v":36},0,0,0,0,1,2,3,3,1,3,1,0,7,2,6,3,2,1,1,0,{"$f":"((SUM(Z664:AS664))+0)+0","v":21},0,0,0,0,0,0,1,2,0,1,2,3,5,2,4,1,0,0,0,0]
[664,"50196 Orera","50196",{"$f":"((SUM(E665:X665)))+0","v":60},0,1,0,4,6,7,0,4,3,5,6,5,4,4,4,1,2,2,2,0,{"$f":"((SUM(Z665:AS665))+0)+0","v":56},1,1,2,0,5,3,2,0,2,3,10,4,4,3,3,1,3,5,3,1]
[665,"50197 Orés","50197",{"$f":"((SUM(E666:X666)))+0","v":59},2,0,0,4,1,4,3,1,1,5,6,5,4,2,6,4,4,6,1,0,{"$f":"((SUM(Z666:AS666))+0)+0","v":36},0,1,1,1,1,3,1,1,3,3,3,3,0,1,3,1,2,5,2,1]
[666,"50198 Oseja","50198",{"$f":"((SUM(E667:X667)))+0","v":34},0,0,0,2,2,0,1,1,2,4,5,2,2,3,2,5,2,1,0,0,{"$f":"((SUM(Z667:AS667))+0)+0","v":18},0,0,0,0,3,1,0,1,2,2,2,1,0,1,2,2,1,0,0,0]
[667,"50199 Osera de Ebro","50199",{"$f":"((SUM(E668:X668)))+0","v":212},5,9,5,7,10,7,13,19,15,21,21,21,19,9,10,10,5,4,1,1,{"$f":"((SUM(Z668:AS668))+0)+0","v":201},5,9,11,8,5,5,5,14,17,10,14,21,16,9,13,18,3,10,5,3]
[668,"50200 Paniza","50200",{"$f":"((SUM(E669:X669)))+0","v":326},8,16,12,7,10,16,14,19,32,28,26,24,30,22,16,20,10,11,5,0,{"$f":"((SUM(Z669:AS669))+0)+0","v":278},5,11,7,11,7,15,10,16,27,9,17,24,31,11,25,19,13,11,8,1]
[669,"50201 Paracuellos de Jiloca","50201",{"$f":"((SUM(E670:X670)))+0","v":304},6,10,15,17,19,15,21,19,37,26,20,20,18,15,11,17,8,7,3,0,{"$f":"((SUM(Z670:AS670))+0)+0","v":278},7,6,16,10,12,15,14,19,28,20,20,20,18,17,14,15,16,9,2,0]
[670,"50202 Paracuellos de la Ribera","50202",{"$f":"((SUM(E671:X671)))+0","v":72},0,0,0,0,0,0,3,10,9,4,6,8,7,5,8,6,2,3,1,0,{"$f":"((SUM(Z671:AS671))+0)+0","v":57},0,0,1,1,0,2,2,0,1,3,4,3,4,5,9,7,6,7,1,1]
[671,"50203 Pastriz","50203",{"$f":"((SUM(E672:X672)))+0","v":636},25,28,29,36,21,27,35,36,49,73,56,50,51,56,25,22,10,5,1,1,{"$f":"((SUM(Z672:AS672))+0)+0","v":664},15,20,41,36,38,29,42,39,50,64,60,52,47,40,27,27,11,9,13,4]
[672,"50204 Pedrola","50204",{"$f":"((SUM(E673:X673)))+0","v":1869},71,83,101,103,93,92,119,133,147,160,167,141,137,97,73,50,38,49,12,3,{"$f":"((SUM(Z673:AS673))+0)+0","v":1756},73,87,96,83,91,86,105,127,144,124,127,139,115,87,70,60,45,64,22,11]
[673,"50205 Pedrosas (Las)","50205",{"$f":"((SUM(E674:X674)))+0","v":48},0,2,1,0,1,2,1,4,1,9,7,6,5,2,0,5,1,0,0,1,{"$f":"((SUM(Z674:AS674))+0)+0","v":49},1,0,4,1,2,1,2,2,2,5,5,2,4,4,7,2,1,3,0,1]
[674,"50206 Perdiguera","50206",{"$f":"((SUM(E675:X675)))+0","v":297},5,11,13,23,12,11,15,11,23,23,29,30,25,10,15,14,11,12,3,1,{"$f":"((SUM(Z675:AS675))+0)+0","v":256},7,7,9,17,20,7,13,9,19,20,28,22,12,11,18,11,7,10,8,1]
[675,"50207 Piedratajada","50207",{"$f":"((SUM(E676:X676)))+0","v":52},0,0,0,0,2,4,3,1,2,5,8,2,8,5,5,3,2,1,1,0,{"$f":"((SUM(Z676:AS676))+0)+0","v":39},0,1,1,1,2,0,1,0,2,2,3,3,2,3,5,1,5,3,3,1]
[676,"50208 Pina de Ebro","50208",{"$f":"((SUM(E677:X677)))+0","v":1239},40,59,76,69,77,79,63,76,97,75,116,106,75,66,57,35,34,26,11,2,{"$f":"((SUM(Z677:AS677))+0)+0","v":1194},52,43,72,64,69,66,55,77,79,90,105,85,78,60,45,52,47,37,14,4]
[677,"50209 Pinseque","50209",{"$f":"((SUM(E678:X678)))+0","v":2188},104,148,168,112,106,91,131,186,221,227,197,126,110,99,66,37,29,18,11,1,{"$f":"((SUM(Z678:AS678))+0)+0","v":2090},97,136,142,108,72,117,132,197,252,217,122,109,129,79,61,43,26,31,14,6]
[678,"50210 Pintanos (Los)","50210",{"$f":"((SUM(E679:X679)))+0","v":25},0,0,0,0,0,0,1,0,0,1,2,3,2,2,3,2,3,4,2,0,{"$f":"((SUM(Z679:AS679))+0)+0","v":12},0,0,0,0,0,0,0,0,0,0,2,1,0,2,1,2,1,1,2,0]
[679,"50211 Plasencia de Jalón","50211",{"$f":"((SUM(E680:X680)))+0","v":177},2,5,3,4,11,10,12,18,10,17,19,12,13,8,9,10,7,5,2,0,{"$f":"((SUM(Z680:AS680))+0)+0","v":148},6,6,5,7,8,6,8,10,12,6,10,13,11,11,10,6,4,4,4,1]
[680,"50212 Pleitas","50212",{"$f":"((SUM(E681:X681)))+0","v":16},1,0,0,0,0,1,1,0,1,0,3,0,3,0,1,0,1,2,1,1,{"$f":"((SUM(Z681:AS681))+0)+0","v":22},1,2,0,0,0,1,1,0,3,1,0,2,2,0,1,1,1,6,0,0]
[681,"50213 Plenas","50213",{"$f":"((SUM(E682:X682)))+0","v":54},1,0,0,1,0,1,3,1,3,7,7,1,4,7,3,6,5,3,1,0,{"$f":"((SUM(Z682:AS682))+0)+0","v":46},0,1,2,1,1,1,2,3,3,1,3,1,4,3,6,4,4,4,1,1]
[682,"50214 Pomer","50214",{"$f":"((SUM(E683:X683)))+0","v":19},0,0,0,1,2,2,1,0,0,1,1,2,3,1,0,2,1,1,1,0,{"$f":"((SUM(Z683:AS683))+0)+0","v":7},0,0,0,0,0,0,0,0,0,0,3,0,0,2,0,0,1,0,1,0]
[683,"50215 Pozuel de Ariza","50215",{"$f":"((SUM(E684:X684)))+0","v":13},1,0,0,0,0,0,0,3,1,0,2,2,0,1,0,1,0,1,1,0,{"$f":"((SUM(Z684:AS684))+0)+0","v":11},1,1,0,0,0,0,1,1,0,1,0,1,0,3,0,0,1,0,1,0]
[684,"50216 Pozuelo de Aragón","50216",{"$f":"((SUM(E685:X685)))+0","v":137},1,2,6,8,5,12,6,5,8,6,13,13,14,9,10,5,6,5,3,0,{"$f":"((SUM(Z685:AS685))+0)+0","v":126},3,2,4,3,7,7,4,4,14,9,6,11,11,6,5,7,7,10,6,0]
[685,"50217 Pradilla de Ebro","50217",{"$f":"((SUM(E686:X686)))+0","v":297},4,8,9,12,16,24,22,16,32,18,25,19,24,16,20,13,8,9,1,1,{"$f":"((SUM(Z686:AS686))+0)+0","v":244},5,6,5,9,12,10,13,16,12,16,15,25,24,18,16,10,6,11,12,3]
[686,"50218 Puebla de Albortón","50218",{"$f":"((SUM(E687:X687)))+0","v":76},0,1,0,3,5,4,2,2,5,6,8,4,9,7,3,6,6,4,0,1,{"$f":"((SUM(Z687:AS687))+0)+0","v":53},0,0,1,4,3,3,1,3,4,2,6,4,3,3,4,4,3,2,3,0]
[687,"50219 Puebla de Alfindén (La)","50219",{"$f":"((SUM(E688:X688)))+0","v":3289},150,236,309,229,129,115,169,255,374,403,298,207,142,89,76,43,29,27,8,1,{"$f":"((SUM(Z688:AS688))+0)+0","v":3153},149,244,259,216,120,149,167,270,352,391,243,140,110,96,73,57,48,47,19,3]
[688,"50220 Puendeluna","50220",{"$f":"((SUM(E689:X689)))+0","v":30},0,0,0,0,1,0,0,0,2,1,6,6,5,1,3,0,2,1,1,1,{"$f":"((SUM(Z689:AS689))+0)+0","v":18},0,0,0,0,1,2,0,0,1,1,2,1,2,2,1,2,1,1,1,0]
[689,"50221 Purujosa","50221",{"$f":"((SUM(E690:X690)))+0","v":17},0,0,0,0,1,0,0,0,1,2,1,6,4,0,2,0,0,0,0,0,{"$f":"((SUM(Z690:AS690))+0)+0","v":10},0,0,0,0,0,1,0,0,0,0,3,0,0,2,2,0,2,0,0,0]
[690,"50222 Quinto","50222",{"$f":"((SUM(E691:X691)))+0","v":976},46,42,45,54,43,58,52,66,58,70,61,72,80,74,54,51,26,15,6,3,{"$f":"((SUM(Z691:AS691))+0)+0","v":940},28,40,39,43,44,44,52,50,75,51,65,71,82,61,53,46,35,39,18,4]
[691,"50223 Remolinos","50223",{"$f":"((SUM(E692:X692)))+0","v":525},9,13,19,23,30,22,22,34,36,42,44,40,40,39,29,39,18,17,9,0,{"$f":"((SUM(Z692:AS692))+0)+0","v":510},11,14,18,18,21,24,16,29,38,27,39,29,33,39,40,33,25,43,12,1]
[692,"50224 Retascón","50224",{"$f":"((SUM(E693:X693)))+0","v":32},2,0,0,0,1,1,0,4,1,2,3,2,4,4,0,2,2,4,0,0,{"$f":"((SUM(Z693:AS693))+0)+0","v":28},1,1,0,0,1,0,1,2,3,3,1,1,3,1,4,2,2,0,2,0]
[693,"50225 Ricla","50225",{"$f":"((SUM(E694:X694)))+0","v":1585},70,57,47,72,105,114,106,90,151,155,173,130,95,62,42,43,32,29,10,2,{"$f":"((SUM(Z694:AS694))+0)+0","v":1347},52,36,49,68,89,75,78,89,122,141,127,104,69,54,44,54,38,37,17,4]
[694,"50227 Romanos","50227",{"$f":"((SUM(E695:X695)))+0","v":64},2,0,0,0,2,1,4,0,5,9,9,1,5,7,8,1,3,4,2,1,{"$f":"((SUM(Z695:AS695))+0)+0","v":55},1,0,4,1,0,3,1,3,2,4,4,2,6,3,2,5,2,3,7,2]
[695,"50228 Rueda de Jalón","50228",{"$f":"((SUM(E696:X696)))+0","v":168},3,8,7,4,9,10,7,9,15,9,9,20,13,17,14,4,6,1,2,1,{"$f":"((SUM(Z696:AS696))+0)+0","v":149},6,6,6,2,4,5,9,10,7,6,13,10,15,14,10,8,7,3,6,2]
[696,"50229 Ruesca","50229",{"$f":"((SUM(E697:X697)))+0","v":31},0,0,0,2,2,3,1,0,3,3,3,5,6,0,0,1,0,1,1,0,{"$f":"((SUM(Z697:AS697))+0)+0","v":38},0,2,0,1,5,3,3,0,1,1,7,2,6,2,1,0,1,1,1,1]
[697,"50230 Sádaba","50230",{"$f":"((SUM(E698:X698)))+0","v":656},11,16,27,22,40,35,29,37,35,47,55,83,65,50,34,25,21,17,6,1,{"$f":"((SUM(Z698:AS698))+0)+0","v":635},17,10,18,26,35,31,24,29,40,42,46,56,53,43,35,42,28,30,21,9]
[698,"50231 Salillas de Jalón","50231",{"$f":"((SUM(E699:X699)))+0","v":175},7,9,7,7,6,6,13,10,19,16,11,13,10,9,11,4,8,6,3,0,{"$f":"((SUM(Z699:AS699))+0)+0","v":180},13,6,7,4,11,4,10,13,13,13,17,9,7,8,9,11,10,9,3,3]
[699,"50232 Salvatierra de Esca","50232",{"$f":"((SUM(E700:X700)))+0","v":99},3,6,3,3,6,6,6,6,7,5,9,7,10,3,5,3,2,3,6,0,{"$f":"((SUM(Z700:AS700))+0)+0","v":100},4,7,6,4,7,4,5,5,4,6,5,9,6,5,8,5,2,4,2,2]
[700,"50233 Samper del Salz","50233",{"$f":"((SUM(E701:X701)))+0","v":50},0,1,1,0,2,3,2,1,5,3,4,7,2,1,10,6,2,0,0,0,{"$f":"((SUM(Z701:AS701))+0)+0","v":46},1,2,1,0,1,1,2,1,1,3,3,3,4,5,8,3,2,1,1,3]
[701,"50234 San Martín de la Virgen de Moncayo","50234",{"$f":"((SUM(E702:X702)))+0","v":162},7,7,6,6,9,4,11,10,15,13,7,11,11,12,13,11,1,7,1,0,{"$f":"((SUM(Z702:AS702))+0)+0","v":121},3,7,6,2,2,4,7,8,9,10,3,9,9,10,9,5,7,5,3,3]
[702,"50235 San Mateo de Gállego","50235",{"$f":"((SUM(E703:X703)))+0","v":1766},85,104,93,84,88,92,96,130,151,175,149,111,111,90,69,59,32,27,16,4,{"$f":"((SUM(Z703:AS703))+0)+0","v":1686},65,93,74,92,87,88,90,109,137,157,135,118,95,74,88,68,30,48,31,7]
[703,"50236 Santa Cruz de Grío","50236",{"$f":"((SUM(E704:X704)))+0","v":63},1,0,0,0,3,2,5,6,4,3,2,6,6,9,6,3,2,3,1,1,{"$f":"((SUM(Z704:AS704))+0)+0","v":31},1,1,1,1,1,1,3,1,0,0,0,3,6,3,0,2,1,3,2,1]
[704,"50237 Santa Cruz de Moncayo","50237",{"$f":"((SUM(E705:X705)))+0","v":68},0,6,3,3,2,2,2,5,6,9,2,4,4,8,5,3,2,2,0,0,{"$f":"((SUM(Z705:AS705))+0)+0","v":57},0,1,4,5,3,2,2,3,5,7,6,3,5,6,1,2,2,0,0,0]
[705,"50238 Santa Eulalia de Gállego","50238",{"$f":"((SUM(E706:X706)))+0","v":59},1,1,0,0,3,3,0,3,4,5,7,10,6,6,4,2,3,0,0,1,{"$f":"((SUM(Z706:AS706))+0)+0","v":43},1,1,3,0,0,4,2,3,2,0,3,4,4,4,3,2,3,2,1,1]
[706,"50239 Santed","50239",{"$f":"((SUM(E707:X707)))+0","v":42},0,0,0,0,0,0,1,2,4,5,7,2,3,8,3,3,2,2,0,0,{"$f":"((SUM(Z707:AS707))+0)+0","v":24},1,0,0,0,0,1,1,2,0,2,1,1,5,2,3,0,2,2,1,0]
[707,"50240 Sástago","50240",{"$f":"((SUM(E708:X708)))+0","v":551},22,30,21,15,21,27,27,32,37,46,39,39,38,34,43,29,17,25,9,0,{"$f":"((SUM(Z708:AS708))+0)+0","v":542},10,24,15,16,24,23,16,27,35,30,44,42,29,43,39,37,34,33,14,7]
[708,"50241 Saviñán","50241",{"$f":"((SUM(E709:X709)))+0","v":355},7,10,14,14,15,13,13,24,24,34,38,23,27,18,24,18,18,14,7,0,{"$f":"((SUM(Z709:AS709))+0)+0","v":320},9,8,12,13,8,9,21,7,19,17,27,20,21,23,18,24,17,26,16,5]
[709,"50242 Sediles","50242",{"$f":"((SUM(E710:X710)))+0","v":61},1,0,1,3,1,1,2,2,4,4,10,5,5,5,4,1,7,4,1,0,{"$f":"((SUM(Z710:AS710))+0)+0","v":45},0,3,1,1,1,0,1,1,2,2,4,4,3,2,6,6,5,1,2,0]
[710,"50243 Sestrica","50243",{"$f":"((SUM(E711:X711)))+0","v":199},4,2,4,6,14,12,6,15,9,10,16,24,22,14,7,11,9,9,4,1,{"$f":"((SUM(Z711:AS711))+0)+0","v":150},1,0,1,3,4,6,8,6,5,8,18,17,13,11,5,16,13,10,5,0]
[711,"50244 Sierra de Luna","50244",{"$f":"((SUM(E712:X712)))+0","v":145},13,2,3,5,9,14,6,4,10,11,14,17,8,5,9,4,4,3,3,1,{"$f":"((SUM(Z712:AS712))+0)+0","v":136},8,5,5,4,9,11,3,3,5,10,11,6,8,3,7,10,10,7,10,1]
[712,"50245 Sigüés","50245",{"$f":"((SUM(E713:X713)))+0","v":39},0,1,1,2,2,0,0,3,1,4,4,8,1,1,4,1,1,3,2,0,{"$f":"((SUM(Z713:AS713))+0)+0","v":34},1,1,2,0,0,1,0,1,1,3,3,2,2,2,5,1,2,3,3,1]
[713,"50246 Sisamón","50246",{"$f":"((SUM(E714:X714)))+0","v":27},0,0,0,0,1,0,0,1,2,2,1,6,5,5,0,1,0,2,1,0,{"$f":"((SUM(Z714:AS714))+0)+0","v":18},0,0,0,0,1,0,0,1,0,0,1,4,5,1,0,1,1,2,0,1]
[714,"50247 Sobradiel","50247",{"$f":"((SUM(E715:X715)))+0","v":538},25,29,38,35,14,34,29,49,45,44,43,37,25,26,23,15,15,6,5,1,{"$f":"((SUM(Z715:AS715))+0)+0","v":605},21,47,34,24,23,24,36,41,56,55,40,40,32,27,23,18,17,24,13,10]
[715,"50248 Sos del Rey Católico","50248",{"$f":"((SUM(E716:X716)))+0","v":301},9,7,6,5,13,7,10,13,23,25,18,24,36,25,21,19,11,22,5,2,{"$f":"((SUM(Z716:AS716))+0)+0","v":267},4,11,8,6,11,10,12,12,14,21,19,25,11,17,22,19,17,15,6,7]
[716,"50249 Tabuenca","50249",{"$f":"((SUM(E717:X717)))+0","v":188},3,3,3,6,7,5,13,7,8,15,17,17,18,11,13,15,14,9,4,0,{"$f":"((SUM(Z717:AS717))+0)+0","v":122},1,0,1,6,2,1,4,10,6,4,9,14,12,5,11,12,9,9,4,2]
[717,"50250 Talamantes","50250",{"$f":"((SUM(E718:X718)))+0","v":33},1,2,0,1,1,2,0,3,1,2,1,6,6,1,2,1,2,1,0,0,{"$f":"((SUM(Z718:AS718))+0)+0","v":31},0,3,2,0,1,0,1,2,3,1,2,3,6,1,3,0,2,0,0,1]
[718,"50251 Tarazona","50251",{"$f":"((SUM(E719:X719)))+0","v":5261},184,254,312,296,284,303,279,316,378,434,420,411,346,270,241,220,158,115,32,8,{"$f":"((SUM(Z719:AS719))+0)+0","v":5304},158,228,271,245,280,261,284,305,342,434,401,383,357,270,278,288,192,203,98,26]
[719,"50252 Tauste","50252",{"$f":"((SUM(E720:X720)))+0","v":3405},101,146,173,193,169,190,194,209,224,263,268,316,269,225,134,131,80,78,38,4,{"$f":"((SUM(Z720:AS720))+0)+0","v":3412},128,143,145,171,164,175,181,171,243,227,261,270,282,176,187,145,120,148,60,15]
[720,"50253 Terrer","50253",{"$f":"((SUM(E721:X721)))+0","v":314},8,12,15,8,12,14,20,21,25,26,30,26,30,15,16,12,14,5,5,0,{"$f":"((SUM(Z721:AS721))+0)+0","v":251},8,8,10,6,9,11,13,18,14,22,25,15,12,11,15,20,14,9,8,3]
[721,"50254 Tierga","50254",{"$f":"((SUM(E722:X722)))+0","v":101},2,1,1,3,5,3,2,3,2,12,12,14,11,7,8,2,5,5,2,1,{"$f":"((SUM(Z722:AS722))+0)+0","v":78},0,1,0,2,5,5,1,4,5,7,6,10,5,5,5,8,3,2,3,1]
[722,"50255 Tobed","50255",{"$f":"((SUM(E723:X723)))+0","v":120},2,1,4,1,6,4,4,9,4,14,10,11,9,10,7,8,7,6,2,1,{"$f":"((SUM(Z723:AS723))+0)+0","v":95},4,1,1,2,1,4,7,3,7,5,10,1,12,6,5,6,6,8,3,3]
[723,"50256 Torralba de los Frailes","50256",{"$f":"((SUM(E724:X724)))+0","v":40},0,0,0,0,0,2,3,4,4,0,4,1,4,5,3,3,3,3,1,0,{"$f":"((SUM(Z724:AS724))+0)+0","v":33},1,1,1,0,0,0,2,2,0,2,2,3,3,3,4,3,4,2,0,0]
[724,"50257 Torralba de Ribota","50257",{"$f":"((SUM(E725:X725)))+0","v":93},0,0,1,2,0,6,4,4,7,5,12,8,9,9,4,8,6,4,3,1,{"$f":"((SUM(Z725:AS725))+0)+0","v":75},2,1,1,2,2,1,5,5,6,2,5,4,7,3,3,6,4,6,8,2]
[725,"50258 Torralbilla","50258",{"$f":"((SUM(E726:X726)))+0","v":33},0,0,0,0,1,3,2,0,1,3,4,4,2,2,4,2,3,1,0,1,{"$f":"((SUM(Z726:AS726))+0)+0","v":18},0,0,0,0,1,0,0,0,0,2,2,4,1,2,2,1,1,1,0,1]
[726,"50259 Torrehermosa","50259",{"$f":"((SUM(E727:X727)))+0","v":34},0,0,2,3,2,0,1,0,0,2,5,3,3,1,2,3,2,3,1,1,{"$f":"((SUM(Z727:AS727))+0)+0","v":36},0,0,1,2,2,3,2,1,3,2,2,2,2,0,2,2,4,4,1,1]
[727,"50260 Torrelapaja","50260",{"$f":"((SUM(E728:X728)))+0","v":24},0,0,0,0,0,0,0,1,0,3,3,4,2,1,2,1,5,2,0,0,{"$f":"((SUM(Z728:AS728))+0)+0","v":11},0,0,0,0,0,0,0,0,0,0,1,3,0,1,1,3,1,1,0,0]
[728,"50261 Torrellas","50261",{"$f":"((SUM(E729:X729)))+0","v":122},0,6,6,7,5,6,2,7,10,11,11,8,11,7,2,7,6,7,2,1,{"$f":"((SUM(Z729:AS729))+0)+0","v":114},3,4,6,3,2,2,2,7,6,6,15,7,6,5,8,8,8,7,7,2]
[729,"50262 Torres de Berrellén","50262",{"$f":"((SUM(E730:X730)))+0","v":768},32,31,51,37,28,37,29,51,63,81,70,43,48,57,41,27,21,13,4,4,{"$f":"((SUM(Z730:AS730))+0)+0","v":708},20,28,47,25,32,27,42,39,62,64,54,47,57,32,39,31,26,19,14,3]
[730,"50263 Torrijo de la Cañada","50263",{"$f":"((SUM(E731:X731)))+0","v":118},3,3,0,0,5,3,8,3,7,10,7,10,11,11,15,3,9,7,3,0,{"$f":"((SUM(Z731:AS731))+0)+0","v":83},1,3,0,2,3,4,6,3,4,2,10,6,4,8,3,12,4,5,3,0]
[731,"50264 Tosos","50264",{"$f":"((SUM(E732:X732)))+0","v":95},2,1,2,2,3,2,3,7,8,6,7,11,9,12,7,1,4,2,4,2,{"$f":"((SUM(Z732:AS732))+0)+0","v":67},1,0,2,2,4,6,3,1,3,3,6,7,5,6,3,4,1,4,4,2]
[732,"50265 Trasmoz","50265",{"$f":"((SUM(E733:X733)))+0","v":45},0,0,4,2,0,3,1,4,2,2,5,5,3,5,5,1,2,1,0,0,{"$f":"((SUM(Z733:AS733))+0)+0","v":44},2,1,2,3,2,1,2,1,0,8,4,4,1,4,2,1,3,1,2,0]
[733,"50266 Trasobares","50266",{"$f":"((SUM(E734:X734)))+0","v":74},1,0,1,0,1,2,5,3,5,6,5,5,6,4,7,8,7,6,1,1,{"$f":"((SUM(Z734:AS734))+0)+0","v":51},1,1,0,1,1,1,2,1,1,5,5,5,2,4,5,4,6,4,1,1]
[734,"50267 Uncastillo","50267",{"$f":"((SUM(E735:X735)))+0","v":295},2,5,3,9,9,5,11,25,19,20,25,34,29,22,24,14,12,16,9,2,{"$f":"((SUM(Z735:AS735))+0)+0","v":333},4,3,13,17,17,19,16,14,14,12,19,30,34,35,12,12,13,27,15,7]
[735,"50268 Undués de Lerda","50268",{"$f":"((SUM(E736:X736)))+0","v":30},0,1,2,0,3,2,1,1,1,4,1,3,4,2,1,0,4,0,0,0,{"$f":"((SUM(Z736:AS736))+0)+0","v":22},0,1,1,1,2,1,0,2,4,6,1,1,0,0,1,1,0,0,0,0]
[736,"50269 Urrea de Jalón","50269",{"$f":"((SUM(E737:X737)))+0","v":250},5,16,9,12,8,8,12,10,21,29,24,25,19,15,10,12,6,4,4,1,{"$f":"((SUM(Z737:AS737))+0)+0","v":198},9,11,11,5,10,8,9,8,16,13,14,10,8,9,11,7,10,16,9,4]
[737,"50270 Urriés","50270",{"$f":"((SUM(E738:X738)))+0","v":24},0,2,1,0,0,1,2,2,1,2,1,2,1,0,1,5,1,1,1,0,{"$f":"((SUM(Z738:AS738))+0)+0","v":25},1,0,1,0,1,0,2,2,1,0,0,3,3,2,3,2,0,2,0,2]
[738,"50271 Used","50271",{"$f":"((SUM(E739:X739)))+0","v":144},2,3,0,2,8,7,9,4,16,19,7,10,8,14,10,12,6,5,1,1,{"$f":"((SUM(Z739:AS739))+0)+0","v":125},1,3,2,6,7,3,3,3,6,7,11,5,11,12,9,11,11,9,4,1]
[739,"50272 Utebo","50272",{"$f":"((SUM(E740:X740)))+0","v":9376},362,529,769,681,483,410,495,564,858,1070,833,651,509,385,307,225,124,84,30,7,{"$f":"((SUM(Z740:AS740))+0)+0","v":9505},366,529,718,623,480,394,466,592,947,1069,817,592,507,432,321,249,183,136,63,21]
[740,"50273 Valdehorna","50273",{"$f":"((SUM(E741:X741)))+0","v":15},0,0,0,0,0,3,1,0,1,1,1,1,2,1,0,1,0,2,0,1,{"$f":"((SUM(Z741:AS741))+0)+0","v":12},0,0,0,0,0,0,0,1,0,3,0,3,0,1,0,1,0,1,0,2]
[741,"50274 Val de San Martín","50274",{"$f":"((SUM(E742:X742)))+0","v":36},0,0,0,0,3,0,1,3,1,3,5,4,2,7,2,2,1,1,1,0,{"$f":"((SUM(Z742:AS742))+0)+0","v":24},1,0,0,0,0,0,1,1,2,0,5,1,2,4,1,2,0,4,0,0]
[742,"50275 Valmadrid","50275",{"$f":"((SUM(E743:X743)))+0","v":67},0,1,1,3,3,2,3,3,4,4,5,8,4,8,1,6,3,5,2,1,{"$f":"((SUM(Z743:AS743))+0)+0","v":43},0,0,0,1,1,3,1,0,1,2,0,4,5,3,2,1,4,7,6,2]
[743,"50276 Valpalmas","50276",{"$f":"((SUM(E744:X744)))+0","v":64},0,1,0,0,3,1,4,2,3,6,8,8,9,6,4,3,2,3,1,0,{"$f":"((SUM(Z744:AS744))+0)+0","v":70},1,0,0,2,1,6,4,3,2,1,2,10,2,5,4,6,7,7,7,0]
[744,"50277 Valtorres","50277",{"$f":"((SUM(E745:X745)))+0","v":33},1,2,1,2,2,0,2,0,3,3,4,3,2,0,1,4,0,2,0,1,{"$f":"((SUM(Z745:AS745))+0)+0","v":31},0,1,0,1,3,0,1,1,3,2,1,4,3,0,2,1,3,2,1,2]
[745,"50278 Velilla de Ebro","50278",{"$f":"((SUM(E746:X746)))+0","v":107},2,2,5,9,2,4,3,6,6,15,6,9,9,10,9,5,0,4,1,0,{"$f":"((SUM(Z746:AS746))+0)+0","v":93},0,3,7,3,3,4,4,6,3,5,8,2,13,6,8,6,4,5,1,2]
[746,"50279 Velilla de Jiloca","50279",{"$f":"((SUM(E747:X747)))+0","v":35},0,0,1,1,1,4,0,3,1,0,5,4,3,4,2,2,0,2,2,0,{"$f":"((SUM(Z747:AS747))+0)+0","v":36},0,1,0,1,2,5,2,0,1,1,3,7,2,2,2,1,4,2,0,0]
[747,"50280 Vera de Moncayo","50280",{"$f":"((SUM(E748:X748)))+0","v":169},2,4,3,5,7,8,11,10,9,8,11,18,17,18,10,8,8,8,4,0,{"$f":"((SUM(Z748:AS748))+0)+0","v":147},3,2,1,3,1,5,2,9,3,12,10,16,20,9,9,10,11,12,8,1]
[748,"50281 Vierlas","50281",{"$f":"((SUM(E749:X749)))+0","v":45},2,0,1,2,3,4,4,5,0,2,2,6,5,2,1,2,1,2,0,1,{"$f":"((SUM(Z749:AS749))+0)+0","v":35},0,1,0,1,1,3,1,3,2,2,3,4,1,1,1,1,1,7,2,0]
[749,"50282 Vilueña (La)","50282",{"$f":"((SUM(E750:X750)))+0","v":33},0,2,2,0,0,0,2,4,3,1,1,3,4,3,3,1,1,2,1,0,{"$f":"((SUM(Z750:AS750))+0)+0","v":32},0,2,2,1,0,2,2,1,1,2,2,2,3,3,3,2,1,1,2,0]
[750,"50283 Villadoz","50283",{"$f":"((SUM(E751:X751)))+0","v":49},1,2,2,0,2,2,3,3,3,4,5,5,4,0,2,0,6,4,1,0,{"$f":"((SUM(Z751:AS751))+0)+0","v":41},2,1,2,5,2,2,1,2,1,3,6,1,0,0,2,5,4,1,1,0]
[751,"50284 Villafeliche","50284",{"$f":"((SUM(E752:X752)))+0","v":92},2,0,1,5,5,5,7,2,3,5,13,6,9,6,4,8,4,3,3,1,{"$f":"((SUM(Z752:AS752))+0)+0","v":62},0,1,2,2,5,0,3,2,2,6,6,7,1,4,2,5,4,6,3,1]
[752,"50285 Villafranca de Ebro","50285",{"$f":"((SUM(E753:X753)))+0","v":427},18,16,18,19,25,20,22,25,32,29,46,35,43,29,16,14,10,7,2,1,{"$f":"((SUM(Z753:AS753))+0)+0","v":421},17,9,21,23,22,18,27,20,39,31,39,31,28,20,17,13,13,21,11,1]
[753,"50286 Villalba de Perejil","50286",{"$f":"((SUM(E754:X754)))+0","v":46},1,3,0,1,1,1,1,1,6,6,2,4,4,3,3,7,1,1,0,0,{"$f":"((SUM(Z754:AS754))+0)+0","v":54},2,5,4,2,2,0,4,2,4,3,3,2,3,6,5,5,1,0,0,1]
[754,"50287 Villalengua","50287",{"$f":"((SUM(E755:X755)))+0","v":156},0,4,7,4,5,8,7,6,9,10,16,17,16,12,9,7,4,13,2,0,{"$f":"((SUM(Z755:AS755))+0)+0","v":131},2,2,5,3,6,8,6,7,5,8,13,14,7,14,5,11,5,7,3,0]
[755,"50288 Villanueva de Gállego","50288",{"$f":"((SUM(E756:X756)))+0","v":2389},82,107,170,195,141,132,126,141,160,204,236,209,154,117,70,64,36,26,18,1,{"$f":"((SUM(Z756:AS756))+0)+0","v":2380},80,125,144,151,125,96,129,147,167,214,219,196,154,98,75,71,52,86,36,15]
[756,"50289 Villanueva de Jiloca","50289",{"$f":"((SUM(E757:X757)))+0","v":33},0,1,0,1,1,0,2,3,1,3,4,1,4,1,2,4,2,1,1,1,{"$f":"((SUM(Z757:AS757))+0)+0","v":35},0,1,0,0,1,3,0,2,1,2,2,3,2,2,3,6,3,2,1,1]
[757,"50290 Villanueva de Huerva","50290",{"$f":"((SUM(E758:X758)))+0","v":210},1,2,4,10,13,11,10,5,9,16,23,29,26,7,11,11,7,9,4,2,{"$f":"((SUM(Z758:AS758))+0)+0","v":179},4,3,6,3,5,6,9,2,5,13,15,24,15,11,10,9,11,15,12,1]
[758,"50291 Villar de los Navarros","50291",{"$f":"((SUM(E759:X759)))+0","v":77},0,1,5,7,2,2,4,5,5,3,6,5,10,7,4,2,4,3,1,1,{"$f":"((SUM(Z759:AS759))+0)+0","v":64},1,2,2,4,5,1,5,1,4,3,5,5,4,5,5,3,4,4,1,0]
[759,"50292 Villarreal de Huerva","50292",{"$f":"((SUM(E760:X760)))+0","v":149},7,7,10,2,7,7,22,12,18,8,12,5,7,6,4,4,5,6,0,0,{"$f":"((SUM(Z760:AS760))+0)+0","v":117},7,6,1,6,5,14,6,8,12,8,5,4,8,7,4,6,4,4,2,0]
[760,"50293 Villarroya de la Sierra","50293",{"$f":"((SUM(E761:X761)))+0","v":231},4,6,6,7,14,10,12,10,12,10,25,12,20,25,16,12,18,9,2,1,{"$f":"((SUM(Z761:AS761))+0)+0","v":204},1,4,3,6,9,8,9,4,12,10,12,18,12,17,18,20,8,17,13,3]
[761,"50294 Villarroya del Campo","50294",{"$f":"((SUM(E762:X762)))+0","v":47},1,1,0,0,0,3,0,4,4,4,4,4,4,7,0,5,0,3,2,1,{"$f":"((SUM(Z762:AS762))+0)+0","v":35},0,2,1,0,1,0,1,1,0,5,2,3,2,1,3,4,4,3,1,1]
[762,"50295 Vistabella","50295",{"$f":"((SUM(E763:X763)))+0","v":31},0,0,0,0,2,0,1,0,1,2,0,5,4,7,2,4,1,2,0,0,{"$f":"((SUM(Z763:AS763))+0)+0","v":21},0,0,0,0,0,2,0,1,0,1,0,3,2,6,2,2,0,1,1,0]
[763,"50296 Zaida (La)","50296",{"$f":"((SUM(E764:X764)))+0","v":222},5,6,4,9,9,14,7,18,10,15,17,21,24,18,13,14,9,7,2,0,{"$f":"((SUM(Z764:AS764))+0)+0","v":213},3,8,7,4,9,11,12,11,14,13,11,16,21,26,12,9,8,8,7,3]
[764,"50297 Zaragoza","50297",{"$f":"((SUM(E765:X765)))+0","v":321957},13188,16148,17679,17411,17007,17147,17751,20519,25412,27917,25171,23863,21135,17491,15362,12630,7747,5658,2230,491,{"$f":"((SUM(Z765:AS765))+0)+0","v":351053},12295,15291,16638,16438,16063,16942,18127,21242,26307,28182,26847,25544,23968,21145,19430,16926,11690,10618,5531,1829]
[765,"50298 Zuera","50298",{"$f":"((SUM(E766:X766)))+0","v":4423},195,244,253,220,247,256,294,340,409,417,340,298,268,193,158,127,78,58,24,4,{"$f":"((SUM(Z766:AS766))+0)+0","v":4209},188,237,242,216,219,237,266,310,388,351,306,286,235,194,150,133,94,94,50,13]
[766,"50901 Biel","50901",{"$f":"((SUM(E767:X767)))+0","v":102},1,0,0,2,4,6,5,3,5,7,9,11,11,12,9,12,2,2,0,1,{"$f":"((SUM(Z767:AS767))+0)+0","v":68},1,1,2,0,3,4,6,2,3,3,4,8,6,4,10,1,3,3,2,2]
[767,"50902 Marracos","50902",{"$f":"((SUM(E768:X768)))+0","v":47},2,0,1,0,1,1,4,2,4,6,5,3,2,4,3,5,1,3,0,0,{"$f":"((SUM(Z768:AS768))+0)+0","v":44},1,1,0,1,3,1,1,4,2,4,5,3,2,3,2,8,2,1,0,0]
[768,"50903 Villamayor de Gállego","50903",{"$f":"((SUM(E769:X769)))+0","v":1426},57,40,61,67,99,73,95,76,94,115,110,132,118,94,61,60,33,26,12,3,{"$f":"((SUM(Z769:AS769))+0)+0","v":1401},59,49,55,68,76,75,70,71,92,108,122,115,106,87,73,60,42,45,26,2]
[]
[]
[]
[null,null,null,null,0]

{"sheet":"datosext","index":2,"n_rows":769,"n_cols":47,"rows_kept":769,"cut":false,"hidden":true,"merged":[]}
[null,"referencia geográfica","código","TOTAL VARONES","01- de 0 a 4","02- de 5 a 9","03- de 10 a 14","04- de 15 a 19","05- de 20 a 24","06- de 25 a 29","07- de 30 a 34","08- de 35 a 39","09- de 40 a 44","10- de 45 a 49","11- de 50 a 54","12- de 55 a 59","13- de 60 a 64","14- de 65 a 69","15- de 70 a 74","16- de 75 a 79","17- de 80 a 84","18- de 85 a 89","19- de 90 a 94","20- de 95 y más","TOTAL MUJERES","01- de 0 a 4","02- de 5 a 9","03- de 10 a 14","04- de 15 a 19","05- de 20 a 24","06- de 25 a 29","07- de 30 a 34","08- de 35 a 39","09- de 40 a 44","10- de 45 a 49","11- de 50 a 54","12- de 55 a 59","13- de 60 a 64","14- de 65 a 69","15- de 70 a 74","16- de 75 a 79","17- de 80 a 84","18- de 85 a 89","19- de 90 a 94","20- de 95 y más"]
[1,"ARAGÓN",2,{"$f":"((SUM(E2:X2)))+0","v":84233},4593,4757,4359,4526,6402,7658,8255,9137,10244,8860,6650,4016,2440,1278,558,270,152,61,15,2,80529,4335,4440,3950,3784,5586,7377,9119,9694,9420,7584,5999,3613,2442,1529,832,435,221,120,37,12]
[2,"PROVINCIA DE HUESCA",22,{"$f":"((SUM(E3:X3)))+0","v":15945},830,847,778,842,1188,1478,1555,1813,2067,1738,1246,716,404,225,112,68,22,12,3,1,{"$f":"(SUM(Z3:AS3))+0","v":13846},780,743,646,635,964,1248,1584,1705,1642,1298,1047,664,365,245,129,73,37,29,8,4]
[3,"PROVINCIA DE TERUEL",44,{"$f":"((SUM(E4:X4)))+0","v":8042},490,545,452,455,673,637,700,829,980,823,590,388,248,120,66,26,12,5,3,0,{"$f":"(SUM(Z4:AS4))+0","v":7562},505,536,415,394,530,658,803,773,835,693,576,295,245,147,73,33,35,12,3,1]
[4,"PROVINCIA DE ZARAGOZA",50,{"$f":"((SUM(E5:X5)))+0","v":60246},3273,3365,3129,3229,4541,5543,6000,6495,7197,6299,4814,2912,1788,933,380,176,118,44,9,1,{"$f":"(SUM(Z5:AS5))+0","v":59121},3050,3161,2889,2755,4092,5471,6732,7216,6943,5593,4376,2654,1832,1137,630,329,149,79,26,7]
[5,"LA JACETANIA",1,{"$f":"((SUM(E6:X6)))+0","v":582},18,20,29,31,39,57,58,69,67,62,44,38,21,9,12,5,1,2,0,0,{"$f":"(SUM(Z6:AS6))+0","v":699},22,28,28,34,63,66,81,69,95,53,57,42,20,10,16,7,5,1,0,2]
[6,"ALTO GÁLLEGO",2,{"$f":"((SUM(E7:X7)))+0","v":778},35,47,45,35,54,66,60,71,93,94,72,37,37,17,7,6,0,2,0,0,{"$f":"(SUM(Z7:AS7))+0","v":767},40,40,32,41,43,57,81,101,87,80,58,43,25,18,8,6,3,3,1,0]
[7,"SOBRARBE",3,{"$f":"((SUM(E8:X8)))+0","v":490},25,33,33,25,29,28,44,51,58,38,41,37,18,17,8,5,0,0,0,0,{"$f":"(SUM(Z8:AS8))+0","v":485},20,14,15,17,29,32,71,54,43,47,52,40,21,13,8,5,2,2,0,0]
[8,"LA RIBAGORZA",4,{"$f":"((SUM(E9:X9)))+0","v":838},45,41,32,26,59,75,89,92,102,96,67,44,26,19,12,8,5,0,0,0,{"$f":"(SUM(Z9:AS9))+0","v":835},30,37,35,32,56,80,81,100,108,87,73,48,31,18,9,6,2,1,1,0]
[9,"CINCO VILLAS",5,{"$f":"((SUM(E10:X10)))+0","v":2563},130,140,133,132,206,259,251,263,300,284,213,122,76,35,12,4,1,1,1,0,{"$f":"(SUM(Z10:AS10))+0","v":2021},140,131,131,116,127,196,213,230,219,161,141,93,65,29,16,6,5,2,0,0]
[10,"HOYA DE HUESCA/PLANA DE UESCA",6,{"$f":"((SUM(E11:X11)))+0","v":3402},175,220,185,223,264,331,343,381,397,312,236,133,92,62,21,17,3,4,2,1,{"$f":"(SUM(Z11:AS11))+0","v":3435},180,190,169,155,233,320,384,433,416,317,236,156,90,68,44,19,13,8,3,1]
[11,"SOMONTANO DE BARBASTRO",7,{"$f":"((SUM(E12:X12)))+0","v":1333},77,68,62,78,93,110,123,146,193,138,91,62,39,20,18,10,3,1,1,0,{"$f":"(SUM(Z12:AS12))+0","v":1296},56,52,55,48,92,129,168,163,147,111,87,73,41,34,18,9,5,7,0,1]
[12,"CINCA MEDIO",8,{"$f":"((SUM(E13:X13)))+0","v":2241},131,122,120,133,157,205,193,264,272,251,195,106,52,19,10,6,5,0,0,0,{"$f":"(SUM(Z13:AS13))+0","v":1824},111,118,90,87,130,197,204,203,207,181,133,82,34,24,10,7,4,2,0,0]
[13,"LA LITERA/LA LLITERA",9,{"$f":"((SUM(E14:X14)))+0","v":1945},84,80,73,105,158,216,202,211,291,237,144,79,29,15,14,3,3,1,0,0,{"$f":"(SUM(Z14:AS14))+0","v":1215},91,59,74,57,93,106,139,162,143,110,73,48,27,18,5,7,1,2,0,0]
[14,"LOS MONEGROS",10,{"$f":"((SUM(E15:X15)))+0","v":1240},71,59,61,64,84,128,148,129,168,133,95,37,28,22,5,4,2,2,0,0,{"$f":"(SUM(Z15:AS15))+0","v":1105},78,73,44,56,56,86,116,149,121,103,87,54,37,22,12,3,3,2,3,0]
[15,"BAJO CINCA/BAIX CINCA",11,{"$f":"((SUM(E16:X16)))+0","v":3399},180,175,153,139,258,291,328,425,463,411,293,163,70,34,7,6,2,1,0,0,{"$f":"(SUM(Z16:AS16))+0","v":2447},167,151,113,120,181,195,289,301,305,233,211,92,52,28,3,4,0,1,1,0]
[16,"TARAZONA Y EL  MONCAYO",12,{"$f":"((SUM(E17:X17)))+0","v":633},38,41,29,35,50,62,58,82,70,58,39,34,18,11,5,3,0,0,0,0,{"$f":"(SUM(Z17:AS17))+0","v":568},38,29,26,23,42,52,73,77,63,42,28,22,34,7,5,6,0,0,1,0]
[17,"CAMPO DE BORJA",13,{"$f":"((SUM(E18:X18)))+0","v":935},52,68,62,56,57,90,73,105,112,102,71,54,17,8,7,1,0,0,0,0,{"$f":"(SUM(Z18:AS18))+0","v":754},56,40,47,38,48,66,92,90,91,73,50,23,20,5,3,7,4,1,0,0]
[18,"ARANDA",14,{"$f":"((SUM(E19:X19)))+0","v":258},6,9,10,17,18,16,20,25,35,41,30,13,10,4,3,1,0,0,0,0,{"$f":"(SUM(Z19:AS19))+0","v":256},6,10,11,14,12,19,25,34,32,33,25,11,12,7,4,0,0,1,0,0]
[19,"RIBERA ALTA DEL EBRO",15,{"$f":"((SUM(E20:X20)))+0","v":1617},66,72,76,81,91,126,142,184,194,189,187,100,62,26,8,9,4,0,0,0,{"$f":"(SUM(Z20:AS20))+0","v":1554},56,97,81,68,101,129,173,182,170,159,129,85,49,35,16,16,4,3,1,0]
[20,"VALDEJALÓN",16,{"$f":"((SUM(E21:X21)))+0","v":3835},231,202,185,166,251,279,382,389,487,442,408,193,124,69,17,4,4,2,0,0,{"$f":"(SUM(Z21:AS21))+0","v":3140},216,176,148,126,189,253,336,374,400,322,289,131,83,50,23,11,8,3,2,0]
[21,"CENTRAL",17,{"$f":"((SUM(E22:X22)))+0","v":42635},2376,2385,2246,2337,3283,4051,4304,4661,5049,4346,3174,2033,1209,636,281,127,92,37,7,1,{"$f":"(SUM(Z22:AS22))+0","v":44259},2103,2276,2089,2014,3153,4229,5145,5491,5236,4149,3201,2007,1349,862,497,251,116,66,20,5]
[22,"RIBERA BAJA DEL EBRO",18,{"$f":"((SUM(E23:X23)))+0","v":405},16,23,25,16,39,36,35,51,45,36,26,24,18,6,4,2,3,0,0,0,{"$f":"(SUM(Z23:AS23))+0","v":409},39,37,21,20,22,34,35,60,45,40,17,10,6,11,4,6,1,1,0,0]
[23,"BAJO ARAGÓN-CASPE/BAIX ARAGÓ-CASP",19,{"$f":"((SUM(E24:X24)))+0","v":2508},139,151,117,141,233,229,247,243,290,236,199,124,87,43,16,8,3,1,1,0,{"$f":"(SUM(Z24:AS24))+0","v":1678},147,117,108,108,113,141,174,174,157,152,113,69,51,28,13,8,3,1,0,1]
[24,"COMUNIDAD DE CALATAYUD",20,{"$f":"((SUM(E25:X25)))+0","v":2741},118,156,139,152,182,213,236,285,353,316,256,133,107,57,21,10,5,2,0,0,{"$f":"(SUM(Z25:AS25))+0","v":2679},118,126,133,127,168,194,278,306,332,285,250,129,108,66,40,14,3,1,0,1]
[25,"CAMPO DE CARIÑENA",21,{"$f":"((SUM(E26:X26)))+0","v":1248},54,62,60,44,86,107,148,125,151,152,134,52,39,26,3,3,2,0,0,0,{"$f":"(SUM(Z26:AS26))+0","v":1009},75,61,68,60,60,86,102,111,110,100,76,43,33,16,3,3,1,0,1,0]
[26,"CAMPO DE BELCHITE",22,{"$f":"((SUM(E27:X27)))+0","v":169},7,13,12,18,16,11,11,16,22,20,12,2,5,1,1,1,1,0,0,0,{"$f":"(SUM(Z27:AS27))+0","v":191},13,18,4,11,18,12,21,25,23,19,9,8,4,4,2,0,0,0,0,0]
[27,"BAJO MARTÍN",23,{"$f":"((SUM(E28:X28)))+0","v":397},31,27,19,26,33,34,32,42,44,39,30,15,15,6,3,1,0,0,0,0,{"$f":"(SUM(Z28:AS28))+0","v":352},28,34,27,23,28,30,38,24,32,29,22,10,11,5,5,1,2,3,0,0]
[28,"CAMPO DE DAROCA",24,{"$f":"((SUM(E29:X29)))+0","v":396},29,25,20,17,22,35,60,40,52,43,33,8,8,2,0,1,1,0,0,0,{"$f":"(SUM(Z29:AS29))+0","v":341},28,24,13,18,27,40,35,32,35,34,28,9,5,9,0,1,3,0,0,0]
[29,"JILOCA",25,{"$f":"((SUM(E30:X30)))+0","v":937},69,57,71,57,78,75,93,89,104,106,66,35,20,8,6,1,2,0,0,0,{"$f":"(SUM(Z30:AS30))+0","v":871},57,70,55,49,74,76,96,83,104,65,63,33,23,13,7,0,2,0,1,0]
[30,"CUENCAS MINERAS",26,{"$f":"((SUM(E31:X31)))+0","v":402},22,36,24,18,40,39,39,35,45,37,26,21,9,9,2,0,0,0,0,0,{"$f":"(SUM(Z31:AS31))+0","v":335},30,27,17,19,17,38,44,29,31,23,23,16,11,6,2,1,1,0,0,0]
[31,"ANDORRA-SIERRA DE ARCOS",27,{"$f":"((SUM(E32:X32)))+0","v":411},26,36,21,30,40,30,33,30,55,46,30,18,9,5,1,0,1,0,0,0,{"$f":"(SUM(Z32:AS32))+0","v":404},16,30,26,21,38,33,45,40,45,44,33,14,8,5,3,1,1,1,0,0]
[32,"BAJO ARAGÓN",28,{"$f":"((SUM(E33:X33)))+0","v":1978},104,128,123,104,150,148,168,218,263,216,158,92,56,28,14,3,2,2,1,0,{"$f":"(SUM(Z33:AS33))+0","v":1967},132,137,105,96,125,151,212,209,234,189,170,76,62,32,15,9,10,3,0,0]
[33,"COMUNIDAD DE TERUEL",29,{"$f":"((SUM(E34:X34)))+0","v":2385},145,169,117,135,232,213,226,231,254,227,166,121,82,34,16,10,4,1,2,0,{"$f":"(SUM(Z34:AS34))+0","v":2355},156,130,120,135,183,223,233,247,254,231,178,84,78,54,21,8,12,5,2,1]
[34,"MAESTRAZGO",30,{"$f":"((SUM(E35:X35)))+0","v":167},9,14,7,11,11,11,15,23,17,15,19,3,5,2,3,1,0,1,0,0,{"$f":"(SUM(Z35:AS35))+0","v":144},13,10,8,7,4,7,16,21,19,10,10,7,5,3,2,2,0,0,0,0]
[35,"SIERRA DE ALBARRACÍN",31,{"$f":"((SUM(E36:X36)))+0","v":122},8,3,3,10,7,8,5,19,19,12,7,13,5,2,0,0,0,1,0,0,{"$f":"(SUM(Z36:AS36))+0","v":119},5,6,7,2,4,7,11,15,16,14,8,7,7,3,3,3,1,0,0,0]
[36,"GÚDAR-JAVALAMBRE",32,{"$f":"((SUM(E37:X37)))+0","v":513},29,44,32,24,37,41,33,60,73,46,38,25,18,5,6,1,1,0,0,0,{"$f":"(SUM(Z37:AS37))+0","v":432},30,43,25,15,23,51,48,45,41,41,29,18,13,6,2,0,2,0,0,0]
[37,"MATARRAÑA/MATARRANYA",33,{"$f":"((SUM(E38:X38)))+0","v":730},47,31,35,40,45,38,56,82,106,79,50,45,29,21,15,9,2,0,0,0,{"$f":"(SUM(Z38:AS38))+0","v":583},38,49,25,27,34,42,60,60,59,47,40,30,27,20,13,8,4,0,0,0]
[38,"22001 Abiego","22001",{"$f":"((SUM(E39:X39)))+0","v":10},1,3,2,0,0,0,1,0,1,2,0,0,0,0,0,0,0,0,0,0,{"$f":"(SUM(Z39:AS39))+0","v":14},0,2,1,0,1,2,2,1,2,0,0,2,0,0,0,0,1,0,0,0,null,0]
[39,"22002 Abizanda","22002",{"$f":"((SUM(E40:X40)))+0","v":13},0,0,0,0,0,0,2,2,1,1,1,4,0,0,0,2,0,0,0,0,{"$f":"(SUM(Z40:AS40))+0","v":11},0,0,0,0,0,1,1,1,0,0,3,1,2,0,2,0,0,0,0,0]
[40,"22003 Adahuesca","22003",{"$f":"((SUM(E41:X41)))+0","v":11},0,2,0,1,0,1,0,1,2,2,1,1,0,0,0,0,0,0,0,0,{"$f":"(SUM(Z41:AS41))+0","v":6},0,0,0,0,0,1,1,1,2,0,0,1,0,0,0,0,0,0,0,0]
[41,"22004 Agüero","22004",{"$f":"((SUM(E42:X42)))+0","v":4},0,0,1,0,0,0,0,2,0,0,0,0,0,1,0,0,0,0,0,0,{"$f":"(SUM(Z42:AS42))+0","v":4},0,0,1,0,0,0,1,1,1,0,0,0,0,0,0,0,0,0,0,0]
[42,"22006 Aísa","22006",{"$f":"((SUM(E43:X43)))+0","v":9},0,0,0,0,1,1,1,0,2,3,0,0,0,0,0,0,0,1,0,0,{"$f":"(SUM(Z43:AS43))+0","v":11},0,1,1,1,1,1,2,0,2,0,0,1,1,0,0,0,0,0,0,0]
[43,"22007 Albalate de Cinca","22007",{"$f":"((SUM(E44:X44)))+0","v":173},7,6,3,5,13,14,16,27,12,16,31,7,11,2,3,0,0,0,0,0,{"$f":"(SUM(Z44:AS44))+0","v":99},4,7,3,4,2,12,14,12,10,15,10,4,1,1,0,0,0,0,0,0]
[44,"22008 Albalatillo","22008",{"$f":"((SUM(E45:X45)))+0","v":26},1,1,0,2,2,5,4,1,2,2,4,1,0,0,0,0,0,1,0,0,{"$f":"(SUM(Z45:AS45))+0","v":29},2,3,0,1,3,6,1,1,3,4,4,0,1,0,0,0,0,0,0,0]
[45,"22009 Albelda","22009",{"$f":"((SUM(E46:X46)))+0","v":26},1,4,1,1,2,1,2,4,3,3,0,1,3,0,0,0,0,0,0,0,{"$f":"(SUM(Z46:AS46))+0","v":16},2,0,0,0,1,0,1,1,2,3,3,2,1,0,0,0,0,0,0,0]
[46,"22011 Albero Alto","22011",{"$f":"((SUM(E47:X47)))+0","v":1},0,0,0,0,0,0,0,0,0,0,1,0,0,0,0,0,0,0,0,0,{"$f":"(SUM(Z47:AS47))+0","v":3},0,0,0,0,0,0,0,0,0,0,1,1,0,0,1,0,0,0,0,0]
[47,"22012 Albero Bajo","22012",{"$f":"((SUM(E48:X48)))+0","v":3},1,0,0,0,0,0,1,0,0,0,0,0,0,0,0,1,0,0,0,0,{"$f":"(SUM(Z48:AS48))+0","v":8},0,0,0,0,1,0,1,2,0,2,1,0,0,0,1,0,0,0,0,0]
[48,"22013 Alberuela de Tubo","22013",{"$f":"((SUM(E49:X49)))+0","v":5},0,0,1,0,0,0,1,0,1,1,1,0,0,0,0,0,0,0,0,0,{"$f":"(SUM(Z49:AS49))+0","v":7},0,0,0,1,0,1,0,1,2,0,0,1,1,0,0,0,0,0,0,0]
[49,"22014 Alcalá de Gurrea","22014",{"$f":"((SUM(E50:X50)))+0","v":1},0,0,0,0,1,0,0,0,0,0,0,0,0,0,0,0,0,0,0,0,{"$f":"(SUM(Z50:AS50))+0","v":2},0,0,0,0,1,0,0,1,0,0,0,0,0,0,0,0,0,0,0,0]
[50,"22015 Alcalá del Obispo","22015",{"$f":"((SUM(E51:X51)))+0","v":15},1,5,1,1,1,1,0,1,4,0,0,0,0,0,0,0,0,0,0,0,{"$f":"(SUM(Z51:AS51))+0","v":8},0,1,0,0,1,0,0,2,1,1,1,1,0,0,0,0,0,0,0,0]
[51,"22016 Alcampell","22016",{"$f":"((SUM(E52:X52)))+0","v":12},1,0,0,0,0,2,3,0,1,3,0,2,0,0,0,0,0,0,0,0,{"$f":"(SUM(Z52:AS52))+0","v":11},2,0,0,0,1,1,2,4,1,0,0,0,0,0,0,0,0,0,0,0]
[52,"22017 Alcolea de Cinca","22017",{"$f":"((SUM(E53:X53)))+0","v":134},8,2,1,5,8,10,14,17,24,24,12,6,3,0,0,0,0,0,0,0,{"$f":"(SUM(Z53:AS53))+0","v":73},4,3,6,3,9,13,5,5,6,7,6,4,1,1,0,0,0,0,0,0]
[53,"22018 Alcubierre","22018",{"$f":"((SUM(E54:X54)))+0","v":25},2,2,4,0,0,4,2,1,5,3,0,0,0,1,0,0,0,1,0,0,{"$f":"(SUM(Z54:AS54))+0","v":17},1,0,1,1,0,1,4,5,0,0,1,1,1,1,0,0,0,0,0,0]
[54,"22019 Alerre","22019",{"$f":"((SUM(E55:X55)))+0","v":5},0,0,1,0,0,0,0,0,2,0,1,0,1,0,0,0,0,0,0,0,{"$f":"(SUM(Z55:AS55))+0","v":5},0,0,0,1,0,0,1,0,0,1,0,0,1,0,1,0,0,0,0,0]
[55,"22020 Alfántega","22020",{"$f":"((SUM(E56:X56)))+0","v":7},0,0,0,0,0,2,2,0,0,2,0,1,0,0,0,0,0,0,0,0,{"$f":"(SUM(Z56:AS56))+0","v":4},0,0,0,0,0,1,1,0,0,1,0,0,0,0,1,0,0,0,0,0]
[56,"22021 Almudévar","22021",{"$f":"((SUM(E57:X57)))+0","v":74},2,8,2,7,7,3,9,9,8,4,8,1,2,0,1,1,1,1,0,0,{"$f":"(SUM(Z57:AS57))+0","v":84},4,5,6,5,4,9,11,9,13,4,8,2,1,1,1,1,0,0,0,0]
[57,"22022 Almunia de San Juan","22022",{"$f":"((SUM(E58:X58)))+0","v":22},2,0,2,2,1,2,1,3,3,1,3,0,0,1,1,0,0,0,0,0,{"$f":"(SUM(Z58:AS58))+0","v":26},1,2,0,1,3,4,2,2,4,0,3,2,1,0,1,0,0,0,0,0]
[58,"22023 Almuniente","22023",{"$f":"((SUM(E59:X59)))+0","v":15},0,0,1,0,0,1,2,4,3,2,0,0,2,0,0,0,0,0,0,0,{"$f":"(SUM(Z59:AS59))+0","v":18},0,4,2,1,1,1,4,1,0,1,1,2,0,0,0,0,0,0,0,0]
[59,"22024 Alquézar","22024",{"$f":"((SUM(E60:X60)))+0","v":36},3,0,3,1,0,3,3,5,2,0,1,2,6,4,1,1,0,1,0,0,{"$f":"(SUM(Z60:AS60))+0","v":42},3,1,0,1,3,2,3,5,7,2,1,2,4,3,0,1,3,0,0,1]
[60,"22025 Altorricón","22025",{"$f":"((SUM(E61:X61)))+0","v":173},5,12,5,7,18,16,18,25,20,23,12,9,2,0,1,0,0,0,0,0,{"$f":"(SUM(Z61:AS61))+0","v":90},8,4,6,6,6,9,10,12,10,8,5,4,2,0,0,0,0,0,0,0]
[61,"22027 Angüés","22027",{"$f":"((SUM(E62:X62)))+0","v":18},0,1,1,3,0,1,2,1,6,2,1,0,0,0,0,0,0,0,0,0,{"$f":"(SUM(Z62:AS62))+0","v":17},2,0,3,2,2,0,1,3,0,2,1,0,1,0,0,0,0,0,0,0]
[62,"22028 Ansó","22028",{"$f":"((SUM(E63:X63)))+0","v":3},0,0,0,0,0,0,0,0,0,1,0,1,1,0,0,0,0,0,0,0,{"$f":"(SUM(Z63:AS63))+0","v":4},0,0,0,0,1,0,1,0,2,0,0,0,0,0,0,0,0,0,0,0]
[63,"22029 Antillón","22029",{"$f":"((SUM(E64:X64)))+0","v":2},0,0,1,0,0,1,0,0,0,0,0,0,0,0,0,0,0,0,0,0,{"$f":"(SUM(Z64:AS64))+0","v":5},0,0,0,0,0,0,1,1,1,0,2,0,0,0,0,0,0,0,0,0]
[64,"22032 Aragüés del Puerto","22032",{"$f":"((SUM(E65:X65)))+0","v":0},0,0,0,0,0,0,0,0,0,0,0,0,0,0,0,0,0,0,0,0,{"$f":"(SUM(Z65:AS65))+0","v":0},0,0,0,0,0,0,0,0,0,0,0,0,0,0,0,0,0,0,0,0]
[65,"22035 Arén","22035",{"$f":"((SUM(E66:X66)))+0","v":27},0,0,0,0,0,4,2,2,5,7,2,1,2,0,1,0,1,0,0,0,{"$f":"(SUM(Z66:AS66))+0","v":24},0,1,0,0,0,3,4,5,2,3,2,1,2,0,1,0,0,0,0,0]
[66,"22036 Argavieso","22036",{"$f":"((SUM(E67:X67)))+0","v":11},0,0,2,2,3,0,1,0,0,3,0,0,0,0,0,0,0,0,0,0,{"$f":"(SUM(Z67:AS67))+0","v":3},0,0,0,0,0,0,0,0,0,2,1,0,0,0,0,0,0,0,0,0]
[67,"22037 Arguis","22037",{"$f":"((SUM(E68:X68)))+0","v":0},0,0,0,0,0,0,0,0,0,0,0,0,0,0,0,0,0,0,0,0,{"$f":"(SUM(Z68:AS68))+0","v":2},0,0,0,0,0,1,1,0,0,0,0,0,0,0,0,0,0,0,0,0]
[68,"22039 Ayerbe","22039",{"$f":"((SUM(E69:X69)))+0","v":34},3,3,3,1,2,3,2,2,8,2,0,2,0,1,1,0,0,1,0,0,{"$f":"(SUM(Z69:AS69))+0","v":45},2,4,2,4,2,0,8,7,9,2,2,1,1,0,0,0,0,1,0,0]
[69,"22040 Azanuy-Alins","22040",{"$f":"((SUM(E70:X70)))+0","v":5},1,0,0,0,0,0,2,0,0,0,0,1,0,1,0,0,0,0,0,0,{"$f":"(SUM(Z70:AS70))+0","v":4},1,0,0,0,0,0,0,1,1,0,0,0,0,1,0,0,0,0,0,0]
[70,"22041 Azara","22041",{"$f":"((SUM(E71:X71)))+0","v":2},0,0,0,0,0,0,0,0,0,0,0,2,0,0,0,0,0,0,0,0,{"$f":"(SUM(Z71:AS71))+0","v":1},0,0,0,0,0,0,0,0,0,0,0,0,1,0,0,0,0,0,0,0]
[71,"22042 Azlor","22042",{"$f":"((SUM(E72:X72)))+0","v":5},0,1,0,0,0,1,0,1,1,0,0,1,0,0,0,0,0,0,0,0,{"$f":"(SUM(Z72:AS72))+0","v":5},0,0,0,0,0,0,2,0,0,0,0,1,1,1,0,0,0,0,0,0]
[72,"22043 Baells","22043",{"$f":"((SUM(E73:X73)))+0","v":2},0,0,0,0,0,0,1,0,0,0,1,0,0,0,0,0,0,0,0,0,{"$f":"(SUM(Z73:AS73))+0","v":4},0,0,0,0,0,1,0,0,1,1,0,0,1,0,0,0,0,0,0,0]
[73,"22044 Bailo","22044",{"$f":"((SUM(E74:X74)))+0","v":11},0,0,1,1,0,0,0,2,1,2,0,1,1,0,1,0,1,0,0,0,{"$f":"(SUM(Z74:AS74))+0","v":7},0,0,0,0,0,0,0,1,1,0,0,1,0,0,2,1,1,0,0,0]
[74,"22045 Baldellou","22045",{"$f":"((SUM(E75:X75)))+0","v":2},0,0,0,0,0,1,0,0,0,1,0,0,0,0,0,0,0,0,0,0,{"$f":"(SUM(Z75:AS75))+0","v":2},0,0,0,0,0,0,0,1,1,0,0,0,0,0,0,0,0,0,0,0]
[75,"22046 Ballobar","22046",{"$f":"((SUM(E76:X76)))+0","v":52},2,1,2,2,3,7,5,4,10,9,2,3,2,0,0,0,0,0,0,0,{"$f":"(SUM(Z76:AS76))+0","v":28},2,3,0,1,2,4,1,3,3,2,5,1,1,0,0,0,0,0,0,0]
[76,"22047 Banastás","22047",{"$f":"((SUM(E77:X77)))+0","v":2},0,0,0,0,0,0,0,0,0,0,0,2,0,0,0,0,0,0,0,0,{"$f":"(SUM(Z77:AS77))+0","v":5},0,0,0,0,0,0,0,2,1,1,0,0,0,1,0,0,0,0,0,0]
[77,"22048 Barbastro","22048",{"$f":"((SUM(E78:X78)))+0","v":1076},68,53,46,72,77,100,96,118,166,114,71,44,23,10,11,5,2,0,0,0,{"$f":"(SUM(Z78:AS78))+0","v":1025},47,44,46,43,72,103,135,132,115,90,70,52,26,22,14,8,0,6,0,0]
[78,"22049 Barbués","22049",{"$f":"((SUM(E79:X79)))+0","v":3},0,0,1,0,0,0,0,1,0,1,0,0,0,0,0,0,0,0,0,0,{"$f":"(SUM(Z79:AS79))+0","v":3},0,0,0,1,0,0,0,1,0,0,1,0,0,0,0,0,0,0,0,0]
[79,"22050 Barbuñales","22050",{"$f":"((SUM(E80:X80)))+0","v":1},0,0,0,0,0,0,0,0,0,0,0,1,0,0,0,0,0,0,0,0,{"$f":"(SUM(Z80:AS80))+0","v":1},0,0,0,0,0,0,0,0,0,0,0,1,0,0,0,0,0,0,0,0]
[80,"22051 Bárcabo","22051",{"$f":"((SUM(E81:X81)))+0","v":9},0,0,0,0,0,0,0,0,1,2,0,1,0,4,0,1,0,0,0,0,{"$f":"(SUM(Z81:AS81))+0","v":9},0,0,0,0,0,0,1,0,1,1,0,1,0,3,1,1,0,0,0,0]
[81,"22052 Belver de Cinca","22052",{"$f":"((SUM(E82:X82)))+0","v":223},5,7,8,9,13,28,24,31,31,31,22,9,1,4,0,0,0,0,0,0,{"$f":"(SUM(Z82:AS82))+0","v":84},9,5,4,3,4,7,16,12,7,3,5,4,1,3,1,0,0,0,0,0]
[82,"22053 Benabarre","22053",{"$f":"((SUM(E83:X83)))+0","v":118},10,7,11,5,8,8,11,10,14,15,10,1,2,4,0,2,0,0,0,0,{"$f":"(SUM(Z83:AS83))+0","v":108},4,3,4,9,9,11,10,11,16,14,12,2,0,0,1,1,1,0,0,0]
[83,"22054 Benasque","22054",{"$f":"((SUM(E84:X84)))+0","v":91},2,2,6,3,7,9,8,13,16,12,6,4,2,1,0,0,0,0,0,0,{"$f":"(SUM(Z84:AS84))+0","v":114},0,4,7,2,14,12,12,20,18,11,8,1,2,1,1,0,0,1,0,0]
[84,"22055 Berbegal","22055",{"$f":"((SUM(E85:X85)))+0","v":10},0,0,1,1,0,0,1,2,2,1,2,0,0,0,0,0,0,0,0,0,{"$f":"(SUM(Z85:AS85))+0","v":10},0,0,0,0,1,1,1,3,2,1,1,0,0,0,0,0,0,0,0,0]
[85,"22057 Bielsa","22057",{"$f":"((SUM(E86:X86)))+0","v":22},0,0,3,0,0,2,1,4,4,4,1,1,0,0,2,0,0,0,0,0,{"$f":"(SUM(Z86:AS86))+0","v":21},0,0,0,1,1,3,2,1,2,2,2,1,1,3,1,0,0,1,0,0]
[86,"22058 Bierge","22058",{"$f":"((SUM(E87:X87)))+0","v":11},1,0,1,0,0,0,0,2,3,1,0,1,0,1,0,1,0,0,0,0,{"$f":"(SUM(Z87:AS87))+0","v":16},1,0,0,0,0,1,4,1,1,2,2,2,1,1,0,0,0,0,0,0]
[87,"22059 Biescas","22059",{"$f":"((SUM(E88:X88)))+0","v":78},1,8,5,2,2,4,6,10,5,12,5,6,8,3,1,0,0,0,0,0,{"$f":"(SUM(Z88:AS88))+0","v":80},3,1,4,4,3,10,8,12,9,7,4,8,1,4,1,0,0,1,0,0]
[88,"22060 Binaced","22060",{"$f":"((SUM(E89:X89)))+0","v":194},3,4,4,13,12,35,27,39,28,14,6,3,4,2,0,0,0,0,0,0,{"$f":"(SUM(Z89:AS89))+0","v":67},3,4,2,5,9,10,6,10,7,4,4,2,1,0,0,0,0,0,0,0]
[89,"22061 Binéfar","22061",{"$f":"((SUM(E90:X90)))+0","v":1269},56,49,49,72,100,143,132,134,208,148,92,49,16,12,6,2,1,0,0,0,{"$f":"(SUM(Z90:AS90))+0","v":765},60,37,45,38,57,66,88,103,96,66,46,30,13,10,3,6,0,1,0,0]
[90,"22062 Bisaurri","22062",{"$f":"((SUM(E91:X91)))+0","v":1},0,0,0,0,0,0,0,0,0,0,1,0,0,0,0,0,0,0,0,0,{"$f":"(SUM(Z91:AS91))+0","v":6},0,0,0,0,0,1,0,0,2,2,0,1,0,0,0,0,0,0,0,0]
[91,"22063 Biscarrués","22063",{"$f":"((SUM(E92:X92)))+0","v":6},0,1,0,1,1,1,0,0,1,0,1,0,0,0,0,0,0,0,0,0,{"$f":"(SUM(Z92:AS92))+0","v":5},0,0,0,1,0,0,0,0,1,0,2,0,0,1,0,0,0,0,0,0]
[92,"22064 Blecua y Torres","22064",{"$f":"((SUM(E93:X93)))+0","v":4},0,0,0,0,0,0,0,0,1,0,2,0,1,0,0,0,0,0,0,0,{"$f":"(SUM(Z93:AS93))+0","v":4},0,0,0,0,0,0,1,1,2,0,0,0,0,0,0,0,0,0,0,0]
[93,"22066 Boltaña","22066",{"$f":"((SUM(E94:X94)))+0","v":74},3,5,5,2,5,4,10,4,10,4,7,6,5,3,1,0,0,0,0,0,{"$f":"(SUM(Z94:AS94))+0","v":78},4,0,2,2,6,4,14,8,7,6,7,6,6,3,1,1,0,1,0,0]
[94,"22067 Bonansa","22067",{"$f":"((SUM(E95:X95)))+0","v":3},0,0,0,0,0,1,0,0,1,0,1,0,0,0,0,0,0,0,0,0,{"$f":"(SUM(Z95:AS95))+0","v":1},0,0,0,0,0,0,0,1,0,0,0,0,0,0,0,0,0,0,0,0]
[95,"22068 Borau","22068",{"$f":"((SUM(E96:X96)))+0","v":2},0,0,0,0,0,0,0,0,0,0,0,0,1,1,0,0,0,0,0,0,{"$f":"(SUM(Z96:AS96))+0","v":3},0,0,0,0,0,1,0,0,1,0,1,0,0,0,0,0,0,0,0,0]
[96,"22069 Broto","22069",{"$f":"((SUM(E97:X97)))+0","v":32},4,2,1,3,3,2,1,6,3,2,2,1,0,1,1,0,0,0,0,0,{"$f":"(SUM(Z97:AS97))+0","v":24},1,0,1,1,2,0,5,3,2,4,1,1,3,0,0,0,0,0,0,0]
[97,"22072 Caldearenas","22072",{"$f":"((SUM(E98:X98)))+0","v":3},0,0,0,0,0,0,0,1,1,0,0,0,0,1,0,0,0,0,0,0,{"$f":"(SUM(Z98:AS98))+0","v":4},0,0,0,0,0,0,0,1,0,0,0,1,1,0,1,0,0,0,0,0]
[98,"22074 Campo","22074",{"$f":"((SUM(E99:X99)))+0","v":40},1,2,1,0,5,5,4,4,3,3,10,1,0,1,0,0,0,0,0,0,{"$f":"(SUM(Z99:AS99))+0","v":39},2,2,2,0,1,6,2,3,8,7,3,1,1,1,0,0,0,0,0,0]
[99,"22075 Camporrells","22075",{"$f":"((SUM(E100:X100)))+0","v":2},0,0,0,0,0,0,0,0,0,0,1,0,1,0,0,0,0,0,0,0,{"$f":"(SUM(Z100:AS100))+0","v":11},0,1,0,0,1,1,0,1,0,1,2,2,1,0,1,0,0,0,0,0]
[100,"22076 Canal de Berdún","22076",{"$f":"((SUM(E101:X101)))+0","v":8},0,0,1,0,1,1,0,0,0,1,1,1,1,0,1,0,0,0,0,0,{"$f":"(SUM(Z101:AS101))+0","v":18},0,1,1,1,1,0,4,0,0,2,4,2,0,0,1,0,1,0,0,0]
[101,"22077 Candasnos","22077",{"$f":"((SUM(E102:X102)))+0","v":21},0,0,3,0,3,2,1,1,3,2,2,2,2,0,0,0,0,0,0,0,{"$f":"(SUM(Z102:AS102))+0","v":16},1,0,1,1,0,2,1,4,4,1,0,0,1,0,0,0,0,0,0,0]
[102,"22078 Canfranc","22078",{"$f":"((SUM(E103:X103)))+0","v":24},0,1,3,0,2,5,3,4,1,3,0,2,0,0,0,0,0,0,0,0,{"$f":"(SUM(Z103:AS103))+0","v":23},1,1,0,0,6,2,3,4,2,2,0,2,0,0,0,0,0,0,0,0]
[103,"22079 Capdesaso","22079",{"$f":"((SUM(E104:X104)))+0","v":13},0,0,0,1,0,1,1,0,3,4,1,2,0,0,0,0,0,0,0,0,{"$f":"(SUM(Z104:AS104))+0","v":60},0,0,0,0,0,1,5,11,7,15,14,6,1,0,0,0,0,0,0,0]
[104,"22080 Capella","22080",{"$f":"((SUM(E105:X105)))+0","v":40},1,4,0,1,4,6,4,4,3,4,4,0,1,2,1,0,1,0,0,0,{"$f":"(SUM(Z105:AS105))+0","v":29},1,1,0,1,1,4,3,3,7,1,1,1,2,1,1,1,0,0,0,0]
[105,"22081 Casbas de Huesca","22081",{"$f":"((SUM(E106:X106)))+0","v":6},0,0,0,0,0,0,1,1,0,1,0,1,0,1,0,1,0,0,0,0,{"$f":"(SUM(Z106:AS106))+0","v":8},0,0,0,0,0,0,1,1,0,1,4,0,0,1,0,0,0,0,0,0]
[106,"22082 Castejón del Puente","22082",{"$f":"((SUM(E107:X107)))+0","v":6},0,2,0,0,0,0,2,1,0,0,0,1,0,0,0,0,0,0,0,0,{"$f":"(SUM(Z107:AS107))+0","v":4},0,0,0,0,0,3,1,0,0,0,0,0,0,0,0,0,0,0,0,0]
[107,"22083 Castejón de Monegros","22083",{"$f":"((SUM(E108:X108)))+0","v":23},1,2,1,1,5,1,1,1,5,3,1,0,1,0,0,0,0,0,0,0,{"$f":"(SUM(Z108:AS108))+0","v":23},1,0,1,2,2,1,3,5,0,4,0,2,1,1,0,0,0,0,0,0]
[108,"22084 Castejón de Sos","22084",{"$f":"((SUM(E109:X109)))+0","v":28},1,4,1,1,2,2,2,4,2,4,1,2,0,0,1,0,1,0,0,0,{"$f":"(SUM(Z109:AS109))+0","v":33},1,1,1,1,3,2,6,2,6,5,3,1,1,0,0,0,0,0,0,0]
[109,"22085 Castelflorite","22085",{"$f":"((SUM(E110:X110)))+0","v":3},0,0,0,1,0,0,0,0,0,1,0,1,0,0,0,0,0,0,0,0,{"$f":"(SUM(Z110:AS110))+0","v":5},0,1,0,0,1,0,0,1,1,0,0,1,0,0,0,0,0,0,0,0]
[110,"22086 Castiello de Jaca","22086",{"$f":"((SUM(E111:X111)))+0","v":5},0,0,0,0,1,0,0,0,0,3,0,0,0,1,0,0,0,0,0,0,{"$f":"(SUM(Z111:AS111))+0","v":5},0,0,0,0,0,0,1,1,2,0,0,1,0,0,0,0,0,0,0,0]
[111,"22087 Castigaleu","22087",{"$f":"((SUM(E112:X112)))+0","v":10},1,1,0,0,1,1,2,2,1,0,1,0,0,0,0,0,0,0,0,0,{"$f":"(SUM(Z112:AS112))+0","v":8},0,0,0,0,0,3,1,1,0,2,0,0,1,0,0,0,0,0,0,0]
[112,"22088 Castillazuelo","22088",{"$f":"((SUM(E113:X113)))+0","v":7},1,0,1,0,0,0,2,0,2,0,0,1,0,0,0,0,0,0,0,0,{"$f":"(SUM(Z113:AS113))+0","v":2},0,0,0,0,0,0,0,1,0,0,1,0,0,0,0,0,0,0,0,0]
[113,"22089 Castillonroy","22089",{"$f":"((SUM(E114:X114)))+0","v":14},0,1,1,1,0,6,2,0,2,1,0,0,0,0,0,0,0,0,0,0,{"$f":"(SUM(Z114:AS114))+0","v":18},2,0,3,0,1,2,2,3,2,1,0,1,0,1,0,0,0,0,0,0]
[114,"22090 Colungo","22090",{"$f":"((SUM(E115:X115)))+0","v":8},0,0,1,1,0,0,1,1,0,2,0,0,0,0,0,1,1,0,0,0,{"$f":"(SUM(Z115:AS115))+0","v":13},1,0,0,0,1,1,1,1,4,0,1,1,0,0,1,0,0,1,0,0]
[115,"22094 Chalamera","22094",{"$f":"((SUM(E116:X116)))+0","v":3},0,1,0,0,0,0,0,1,0,1,0,0,0,0,0,0,0,0,0,0,{"$f":"(SUM(Z116:AS116))+0","v":5},1,0,1,0,1,0,0,1,0,0,0,1,0,0,0,0,0,0,0,0]
[116,"22095 Chía","22095",{"$f":"((SUM(E117:X117)))+0","v":1},0,0,0,0,0,0,0,0,0,0,0,0,0,0,1,0,0,0,0,0,{"$f":"(SUM(Z117:AS117))+0","v":1},0,0,0,0,0,0,0,0,1,0,0,0,0,0,0,0,0,0,0,0]
[117,"22096 Chimillas","22096",{"$f":"((SUM(E118:X118)))+0","v":5},1,0,0,1,0,0,0,1,1,0,1,0,0,0,0,0,0,0,0,0,{"$f":"(SUM(Z118:AS118))+0","v":3},0,0,1,0,0,0,0,0,1,0,1,0,0,0,0,0,0,0,0,0]
[118,"22099 Esplús","22099",{"$f":"((SUM(E119:X119)))+0","v":51},3,2,2,2,5,4,6,7,7,6,1,3,0,0,1,0,1,1,0,0,{"$f":"(SUM(Z119:AS119))+0","v":32},4,1,0,2,3,5,0,5,3,3,4,0,0,1,0,0,0,1,0,0]
[119,"22102 Estada","22102",{"$f":"((SUM(E120:X120)))+0","v":5},1,0,0,1,0,0,0,1,1,1,0,0,0,0,0,0,0,0,0,0,{"$f":"(SUM(Z120:AS120))+0","v":7},0,0,1,0,0,1,1,1,0,1,0,1,1,0,0,0,0,0,0,0]
[120,"22103 Estadilla","22103",{"$f":"((SUM(E121:X121)))+0","v":18},0,2,3,0,2,0,1,1,3,1,5,0,0,0,0,0,0,0,0,0,{"$f":"(SUM(Z121:AS121))+0","v":21},1,0,2,0,3,2,3,4,3,0,3,0,0,0,0,0,0,0,0,0]
[121,"22105 Estopiñán del Castillo","22105",{"$f":"((SUM(E122:X122)))+0","v":2},0,0,0,0,0,0,0,1,1,0,0,0,0,0,0,0,0,0,0,0,{"$f":"(SUM(Z122:AS122))+0","v":3},0,0,0,0,0,1,1,0,0,0,1,0,0,0,0,0,0,0,0,0]
[122,"22106 Fago","22106",{"$f":"((SUM(E123:X123)))+0","v":1},0,0,0,0,0,0,0,0,0,1,0,0,0,0,0,0,0,0,0,0,{"$f":"(SUM(Z123:AS123))+0","v":0},0,0,0,0,0,0,0,0,0,0,0,0,0,0,0,0,0,0,0,0]
[123,"22107 Fanlo","22107",{"$f":"((SUM(E124:X124)))+0","v":3},0,1,1,0,0,0,0,0,1,0,0,0,0,0,0,0,0,0,0,0,{"$f":"(SUM(Z124:AS124))+0","v":4},0,0,0,0,0,0,1,0,0,1,2,0,0,0,0,0,0,0,0,0]
[124,"22109 Fiscal","22109",{"$f":"((SUM(E125:X125)))+0","v":10},0,1,0,0,0,1,0,1,1,0,3,2,0,1,0,0,0,0,0,0,{"$f":"(SUM(Z125:AS125))+0","v":16},0,0,2,2,0,1,0,2,2,1,4,1,0,0,1,0,0,0,0,0]
[125,"22110 Fonz","22110",{"$f":"((SUM(E126:X126)))+0","v":42},3,2,2,2,8,5,3,4,2,6,3,1,0,0,0,0,1,0,0,0,{"$f":"(SUM(Z126:AS126))+0","v":29},0,3,1,0,3,1,5,4,4,2,2,2,0,1,0,1,0,0,0,0]
[126,"22111 Foradada del Toscar","22111",{"$f":"((SUM(E127:X127)))+0","v":12},1,0,1,1,1,2,1,3,0,1,0,1,0,0,0,0,0,0,0,0,{"$f":"(SUM(Z127:AS127))+0","v":11},1,0,0,0,2,0,1,2,1,1,1,2,0,0,0,0,0,0,0,0]
[127,"22112 Fraga","22112",{"$f":"((SUM(E128:X128)))+0","v":2104},139,135,115,92,159,151,179,255,280,256,171,97,45,20,5,5,0,0,0,0,{"$f":"(SUM(Z128:AS128))+0","v":1668},115,116,89,82,118,124,206,216,210,154,121,60,32,17,2,4,0,1,1,0]
[128,"22113 Fueva (La)","22113",{"$f":"((SUM(E129:X129)))+0","v":20},0,1,3,2,0,2,2,1,4,0,1,1,2,1,0,0,0,0,0,0,{"$f":"(SUM(Z129:AS129))+0","v":16},0,0,0,1,2,1,3,3,3,1,1,0,0,1,0,0,0,0,0,0]
[129,"22114 Gistaín","22114",{"$f":"((SUM(E130:X130)))+0","v":0},0,0,0,0,0,0,0,0,0,0,0,0,0,0,0,0,0,0,0,0,{"$f":"(SUM(Z130:AS130))+0","v":1},0,0,0,0,0,0,0,0,1,0,0,0,0,0,0,0,0,0,0,0]
[130,"22115 Grado (El)","22115",{"$f":"((SUM(E131:X131)))+0","v":14},0,1,0,0,1,0,3,1,0,1,2,1,0,1,2,0,0,0,1,0,{"$f":"(SUM(Z131:AS131))+0","v":17},1,1,1,0,1,2,4,0,0,2,2,0,1,1,1,0,0,0,0,0]
[131,"22116 Grañén","22116",{"$f":"((SUM(E132:X132)))+0","v":113},5,5,7,8,7,10,9,11,10,18,12,3,6,1,1,0,0,0,0,0,{"$f":"(SUM(Z132:AS132))+0","v":117},14,3,5,8,9,9,8,16,14,8,8,5,3,1,2,2,0,1,1,0]
[132,"22117 Graus","22117",{"$f":"((SUM(E133:X133)))+0","v":315},24,13,11,13,20,23,35,34,36,38,20,20,12,8,2,4,2,0,0,0,{"$f":"(SUM(Z133:AS133))+0","v":302},14,21,15,17,15,27,26,31,33,26,31,22,14,5,1,3,0,0,1,0]
[133,"22119 Gurrea de Gállego","22119",{"$f":"((SUM(E134:X134)))+0","v":38},2,1,1,0,1,2,5,7,6,4,3,5,0,0,1,0,0,0,0,0,{"$f":"(SUM(Z134:AS134))+0","v":44},4,3,0,0,3,1,3,5,2,7,10,2,0,1,2,1,0,0,0,0]
[134,"22122 Hoz de Jaca","22122",{"$f":"((SUM(E135:X135)))+0","v":0},0,0,0,0,0,0,0,0,0,0,0,0,0,0,0,0,0,0,0,0,{"$f":"(SUM(Z135:AS135))+0","v":0},0,0,0,0,0,0,0,0,0,0,0,0,0,0,0,0,0,0,0,0]
[135,"22124 Huerto","22124",{"$f":"((SUM(E136:X136)))+0","v":13},0,1,2,1,1,2,1,2,2,0,0,0,0,0,0,1,0,0,0,0,{"$f":"(SUM(Z136:AS136))+0","v":12},0,1,1,2,0,1,2,2,0,0,1,1,1,0,0,0,0,0,0,0]
[136,"22125 Huesca","22125",{"$f":"((SUM(E137:X137)))+0","v":2948},152,184,163,192,237,300,301,341,337,274,202,114,78,45,14,9,0,2,2,1,{"$f":"(SUM(Z137:AS137))+0","v":2992},162,170,150,132,212,297,333,374,363,281,187,137,78,52,31,13,10,6,3,1]
[137,"22126 Ibieca","22126",{"$f":"((SUM(E138:X138)))+0","v":2},0,0,0,0,0,0,1,1,0,0,0,0,0,0,0,0,0,0,0,0,{"$f":"(SUM(Z138:AS138))+0","v":0},0,0,0,0,0,0,0,0,0,0,0,0,0,0,0,0,0,0,0,0]
[138,"22127 Igriés","22127",{"$f":"((SUM(E139:X139)))+0","v":14},0,0,0,2,1,1,1,2,2,2,1,0,1,1,0,0,0,0,0,0,{"$f":"(SUM(Z139:AS139))+0","v":14},0,0,0,0,0,0,3,1,1,3,0,2,0,2,1,1,0,0,0,0]
[139,"22128 Ilche","22128",{"$f":"((SUM(E140:X140)))+0","v":5},0,0,0,0,1,0,2,0,0,0,0,0,2,0,0,0,0,0,0,0,{"$f":"(SUM(Z140:AS140))+0","v":4},0,0,0,0,0,0,0,0,0,0,1,3,0,0,0,0,0,0,0,0]
[140,"22129 Isábena","22129",{"$f":"((SUM(E141:X141)))+0","v":30},0,0,0,1,3,5,7,4,3,1,3,2,1,0,0,0,0,0,0,0,{"$f":"(SUM(Z141:AS141))+0","v":27},0,0,2,0,3,3,4,3,1,3,1,3,2,2,0,0,0,0,0,0]
[141,"22130 Jaca","22130",{"$f":"((SUM(E142:X142)))+0","v":463},16,17,21,27,32,49,49,58,52,42,37,29,15,5,10,3,0,1,0,0,{"$f":"(SUM(Z142:AS142))+0","v":563},19,20,26,30,49,58,60,57,75,43,48,34,17,7,10,6,1,1,0,2]
[142,"22131 Jasa","22131",{"$f":"((SUM(E143:X143)))+0","v":1},0,0,0,0,0,0,0,0,0,0,0,1,0,0,0,0,0,0,0,0,{"$f":"(SUM(Z143:AS143))+0","v":2},0,0,0,0,1,0,0,0,1,0,0,0,0,0,0,0,0,0,0,0]
[143,"22133 Labuerda","22133",{"$f":"((SUM(E144:X144)))+0","v":14},0,4,0,1,0,2,1,2,1,1,0,1,0,1,0,0,0,0,0,0,{"$f":"(SUM(Z144:AS144))+0","v":13},1,0,1,1,0,1,2,2,0,0,3,1,1,0,0,0,0,0,0,0]
[144,"22135 Laluenga","22135",{"$f":"((SUM(E145:X145)))+0","v":3},0,1,0,0,1,1,0,0,0,0,0,0,0,0,0,0,0,0,0,0,{"$f":"(SUM(Z145:AS145))+0","v":6},0,0,1,0,0,2,2,0,0,0,1,0,0,0,0,0,0,0,0,0]
[145,"22136 Lalueza","22136",{"$f":"((SUM(E146:X146)))+0","v":42},3,0,0,3,8,3,5,2,7,3,4,0,0,2,1,0,1,0,0,0,{"$f":"(SUM(Z146:AS146))+0","v":45},2,8,1,1,1,5,4,7,5,5,3,0,2,1,0,0,0,0,0,0]
[146,"22137 Lanaja","22137",{"$f":"((SUM(E147:X147)))+0","v":58},3,3,3,1,5,7,8,6,9,5,4,0,3,1,0,0,0,0,0,0,{"$f":"(SUM(Z147:AS147))+0","v":47},1,5,2,2,4,3,4,8,6,7,1,1,1,0,1,0,0,0,1,0]
[147,"22139 Laperdiguera","22139",{"$f":"((SUM(E148:X148)))+0","v":4},0,0,0,0,0,0,0,0,1,0,0,0,3,0,0,0,0,0,0,0,{"$f":"(SUM(Z148:AS148))+0","v":3},0,0,0,0,1,0,0,0,1,0,0,1,0,0,0,0,0,0,0,0]
[148,"22141 Lascellas-Ponzano","22141",{"$f":"((SUM(E149:X149)))+0","v":0},0,0,0,0,0,0,0,0,0,0,0,0,0,0,0,0,0,0,0,0,{"$f":"(SUM(Z149:AS149))+0","v":2},0,0,0,0,1,0,0,0,0,0,0,0,1,0,0,0,0,0,0,0]
[149,"22142 Lascuarre","22142",{"$f":"((SUM(E150:X150)))+0","v":10},0,0,1,0,2,2,1,1,1,0,0,1,0,1,0,0,0,0,0,0,{"$f":"(SUM(Z150:AS150))+0","v":10},0,1,0,0,2,0,1,0,1,0,0,1,1,2,0,0,1,0,0,0]
[150,"22143 Laspaúles","22143",{"$f":"((SUM(E151:X151)))+0","v":10},0,2,0,0,0,1,0,2,1,1,1,1,0,0,1,0,0,0,0,0,{"$f":"(SUM(Z151:AS151))+0","v":14},0,0,1,2,0,1,1,3,1,2,2,1,0,0,0,0,0,0,0,0]
[151,"22144 Laspuña","22144",{"$f":"((SUM(E152:X152)))+0","v":3},0,0,0,0,0,0,0,0,1,0,1,1,0,0,0,0,0,0,0,0,{"$f":"(SUM(Z152:AS152))+0","v":3},0,0,0,0,0,0,1,0,1,0,0,0,0,0,0,0,1,0,0,0]
[152,"22149 Loarre","22149",{"$f":"((SUM(E153:X153)))+0","v":1},0,0,0,0,0,0,0,0,1,0,0,0,0,0,0,0,0,0,0,0,{"$f":"(SUM(Z153:AS153))+0","v":4},0,0,0,1,0,0,0,0,1,1,1,0,0,0,0,0,0,0,0,0]
[153,"22150 Loporzano","22150",{"$f":"((SUM(E154:X154)))+0","v":8},0,0,1,0,1,1,0,0,0,0,1,0,1,0,1,2,0,0,0,0,{"$f":"(SUM(Z154:AS154))+0","v":10},0,0,0,0,1,0,0,0,3,1,1,0,0,1,1,1,1,0,0,0]
[154,"22151 Loscorrales","22151",{"$f":"((SUM(E155:X155)))+0","v":0},0,0,0,0,0,0,0,0,0,0,0,0,0,0,0,0,0,0,0,0,{"$f":"(SUM(Z155:AS155))+0","v":1},0,0,0,0,0,0,1,0,0,0,0,0,0,0,0,0,0,0,0,0]
[155,"22155 Monesma y Cajigar","22155",{"$f":"((SUM(E156:X156)))+0","v":2},0,0,0,0,0,0,0,1,0,0,1,0,0,0,0,0,0,0,0,0,{"$f":"(SUM(Z156:AS156))+0","v":2},0,0,0,0,0,0,0,1,0,0,0,0,0,1,0,0,0,0,0,0]
[156,"22156 Monflorite-Lascasas","22156",{"$f":"((SUM(E157:X157)))+0","v":26},3,6,5,2,0,2,4,0,1,1,0,0,0,2,0,0,0,0,0,0,{"$f":"(SUM(Z157:AS157))+0","v":16},1,0,0,2,0,2,3,1,2,0,1,3,0,0,0,0,1,0,0,0]
[157,"22157 Montanuy","22157",{"$f":"((SUM(E158:X158)))+0","v":4},0,0,0,0,0,0,0,1,2,1,0,0,0,0,0,0,0,0,0,0,{"$f":"(SUM(Z158:AS158))+0","v":8},0,0,0,0,0,2,0,2,1,1,0,0,1,1,0,0,0,0,0,0]
[158,"22158 Monzón","22158",{"$f":"((SUM(E159:X159)))+0","v":1611},107,103,101,104,112,133,121,165,196,182,137,86,34,14,6,6,4,0,0,0,{"$f":"(SUM(Z159:AS159))+0","v":1462},94,95,77,71,97,152,159,162,172,147,104,65,28,19,8,6,4,2,0,0]
[159,"22160 Naval","22160",{"$f":"((SUM(E160:X160)))+0","v":14},0,0,0,0,1,1,0,1,1,0,4,1,1,0,3,1,0,0,0,0,{"$f":"(SUM(Z160:AS160))+0","v":8},0,0,0,0,0,1,0,1,1,1,1,0,1,1,1,0,0,0,0,0]
[160,"22162 Novales","22162",{"$f":"((SUM(E161:X161)))+0","v":14},2,2,0,1,0,0,2,3,1,0,0,1,1,0,0,1,0,0,0,0,{"$f":"(SUM(Z161:AS161))+0","v":9},0,0,2,2,0,2,0,2,0,0,1,0,0,0,0,0,0,0,0,0]
[161,"22163 Nueno","22163",{"$f":"((SUM(E162:X162)))+0","v":20},1,0,0,0,2,2,1,1,1,1,2,1,1,4,2,1,0,0,0,0,{"$f":"(SUM(Z162:AS162))+0","v":13},2,0,0,0,3,2,1,1,1,0,0,1,0,1,1,0,0,0,0,0]
[162,"22164 Olvena","22164",{"$f":"((SUM(E163:X163)))+0","v":1},0,0,0,0,0,0,0,0,1,0,0,0,0,0,0,0,0,0,0,0,{"$f":"(SUM(Z163:AS163))+0","v":2},0,0,0,0,1,0,0,0,0,1,0,0,0,0,0,0,0,0,0,0]
[163,"22165 Ontiñena","22165",{"$f":"((SUM(E164:X164)))+0","v":36},1,0,0,4,4,4,3,4,8,3,2,2,1,0,0,0,0,0,0,0,{"$f":"(SUM(Z164:AS164))+0","v":19},0,0,2,1,2,1,4,2,4,0,0,1,2,0,0,0,0,0,0,0]
[164,"22167 Osso de Cinca","22167",{"$f":"((SUM(E165:X165)))+0","v":105},4,0,1,4,5,5,9,19,16,13,11,9,6,3,0,0,0,0,0,0,{"$f":"(SUM(Z165:AS165))+0","v":40},0,2,0,3,4,3,4,3,4,7,6,3,1,0,0,0,0,0,0,0]
[165,"22168 Palo","22168",{"$f":"((SUM(E166:X166)))+0","v":0},0,0,0,0,0,0,0,0,0,0,0,0,0,0,0,0,0,0,0,0,{"$f":"(SUM(Z166:AS166))+0","v":3},0,0,0,0,0,0,0,1,0,0,0,1,1,0,0,0,0,0,0,0]
[166,"22170 Panticosa","22170",{"$f":"((SUM(E167:X167)))+0","v":16},0,0,0,0,2,2,1,1,1,4,4,1,0,0,0,0,0,0,0,0,{"$f":"(SUM(Z167:AS167))+0","v":16},1,0,1,0,2,0,3,2,2,0,3,1,0,0,0,0,1,0,0,0]
[167,"22172 Peñalba","22172",{"$f":"((SUM(E168:X168)))+0","v":173},2,1,4,3,24,26,42,16,22,18,7,6,1,0,1,0,0,0,0,0,{"$f":"(SUM(Z168:AS168))+0","v":47},6,1,0,1,3,4,4,4,6,7,4,3,1,1,2,0,0,0,0,0]
[168,"22173 Peñas de Riglos (Las)","22173",{"$f":"((SUM(E169:X169)))+0","v":8},0,1,0,0,0,1,0,0,1,1,0,1,1,1,0,0,1,0,0,0,{"$f":"(SUM(Z169:AS169))+0","v":8},0,0,0,0,0,1,1,2,0,1,0,0,1,0,0,1,0,1,0,0]
[169,"22174 Peralta de Alcofea","22174",{"$f":"((SUM(E170:X170)))+0","v":46},2,2,3,0,5,2,5,2,5,10,3,3,2,1,1,0,0,0,0,0,{"$f":"(SUM(Z170:AS170))+0","v":46},2,3,2,2,5,2,2,8,6,5,0,4,2,3,0,0,0,0,0,0]
[170,"22175 Peralta de Calasanz","22175",{"$f":"((SUM(E171:X171)))+0","v":8},0,0,0,0,0,0,0,0,2,1,3,2,0,0,0,0,0,0,0,0,{"$f":"(SUM(Z171:AS171))+0","v":9},0,0,0,0,2,1,0,0,2,1,1,0,2,0,0,0,0,0,0,0]
[171,"22176 Peraltilla","22176",{"$f":"((SUM(E172:X172)))+0","v":4},0,0,0,0,0,0,1,0,0,1,1,1,0,0,0,0,0,0,0,0,{"$f":"(SUM(Z172:AS172))+0","v":8},0,0,0,1,0,3,2,0,1,0,0,1,0,0,0,0,0,0,0,0]
[172,"22177 Perarrúa","22177",{"$f":"((SUM(E173:X173)))+0","v":4},0,1,0,0,0,0,1,0,0,2,0,0,0,0,0,0,0,0,0,0,{"$f":"(SUM(Z173:AS173))+0","v":4},0,1,1,0,0,0,0,0,1,0,0,0,1,0,0,0,0,0,0,0]
[173,"22178 Pertusa","22178",{"$f":"((SUM(E174:X174)))+0","v":0},0,0,0,0,0,0,0,0,0,0,0,0,0,0,0,0,0,0,0,0,{"$f":"(SUM(Z174:AS174))+0","v":3},0,0,0,0,0,1,0,0,0,1,0,0,0,0,1,0,0,0,0,0]
[174,"22181 Piracés","22181",{"$f":"((SUM(E175:X175)))+0","v":1},0,0,0,0,0,0,1,0,0,0,0,0,0,0,0,0,0,0,0,0,{"$f":"(SUM(Z175:AS175))+0","v":3},0,0,0,0,0,0,0,0,0,2,1,0,0,0,0,0,0,0,0,0]
[175,"22182 Plan","22182",{"$f":"((SUM(E176:X176)))+0","v":7},0,0,0,0,0,2,1,1,0,2,0,0,0,0,1,0,0,0,0,0,{"$f":"(SUM(Z176:AS176))+0","v":3},0,0,0,1,0,1,0,0,0,0,0,1,0,0,0,0,0,0,0,0]
[176,"22184 Poleñino","22184",{"$f":"((SUM(E177:X177)))+0","v":5},0,1,1,0,0,0,0,0,2,0,0,0,1,0,0,0,0,0,0,0,{"$f":"(SUM(Z177:AS177))+0","v":9},0,1,2,0,0,0,1,0,2,2,0,0,1,0,0,0,0,0,0,0]
[177,"22186 Pozán de Vero","22186",{"$f":"((SUM(E178:X178)))+0","v":3},0,0,0,0,1,0,0,1,0,1,0,0,0,0,0,0,0,0,0,0,{"$f":"(SUM(Z178:AS178))+0","v":0},0,0,0,0,0,0,0,0,0,0,0,0,0,0,0,0,0,0,0,0]
[178,"22187 Puebla de Castro (La)","22187",{"$f":"((SUM(E179:X179)))+0","v":24},2,3,0,0,2,1,0,1,6,2,0,1,2,1,2,1,0,0,0,0,{"$f":"(SUM(Z179:AS179))+0","v":18},3,0,1,0,0,1,1,3,2,1,0,2,1,2,1,0,0,0,0,0]
[179,"22188 Puente de Montañana","22188",{"$f":"((SUM(E180:X180)))+0","v":6},1,1,0,0,1,0,1,0,1,1,0,0,0,0,0,0,0,0,0,0,{"$f":"(SUM(Z180:AS180))+0","v":7},0,0,0,0,1,0,1,2,0,0,0,1,1,0,1,0,0,0,0,0]
[180,"22189 Puértolas","22189",{"$f":"((SUM(E181:X181)))+0","v":4},0,0,1,1,0,0,1,1,0,0,0,0,0,0,0,0,0,0,0,0,{"$f":"(SUM(Z181:AS181))+0","v":10},0,0,0,0,0,2,1,1,1,3,1,0,0,0,1,0,0,0,0,0]
[181,"22190 Pueyo de Araguás (El)","22190",{"$f":"((SUM(E182:X182)))+0","v":4},0,1,0,0,0,0,0,0,0,1,0,1,0,1,0,0,0,0,0,0,{"$f":"(SUM(Z182:AS182))+0","v":3},0,0,1,0,0,0,0,0,0,1,1,0,0,0,0,0,0,0,0,0]
[182,"22193 Pueyo de Santa Cruz","22193",{"$f":"((SUM(E183:X183)))+0","v":7},0,0,1,0,0,1,3,1,0,0,0,1,0,0,0,0,0,0,0,0,{"$f":"(SUM(Z183:AS183))+0","v":14},1,1,0,0,1,1,4,2,1,1,1,1,0,0,0,0,0,0,0,0]
[183,"22195 Quicena","22195",{"$f":"((SUM(E184:X184)))+0","v":8},0,1,0,0,0,1,1,1,2,1,0,0,0,0,1,0,0,0,0,0,{"$f":"(SUM(Z184:AS184))+0","v":7},1,0,0,0,0,0,0,3,1,0,0,1,1,0,0,0,0,0,0,0]
[184,"22197 Robres","22197",{"$f":"((SUM(E185:X185)))+0","v":25},2,0,1,2,1,3,3,2,3,1,3,3,0,0,0,1,0,0,0,0,{"$f":"(SUM(Z185:AS185))+0","v":25},2,5,0,1,3,2,2,3,3,0,2,1,0,1,0,0,0,0,0,0]
[185,"22199 Sabiñánigo","22199",{"$f":"((SUM(E186:X186)))+0","v":617},32,36,37,30,47,56,48,48,76,69,61,29,28,11,4,3,0,2,0,0,{"$f":"(SUM(Z186:AS186))+0","v":594},34,34,24,33,37,45,63,74,66,65,44,31,20,11,5,4,2,2,0,0]
[186,"22200 Sahún","22200",{"$f":"((SUM(E187:X187)))+0","v":6},0,0,0,0,0,0,1,0,0,1,1,3,0,0,0,0,0,0,0,0,{"$f":"(SUM(Z187:AS187))+0","v":13},0,0,0,0,0,1,3,0,0,2,5,0,1,0,0,1,0,0,0,0]
[187,"22201 Salas Altas","22201",{"$f":"((SUM(E188:X188)))+0","v":8},0,0,0,0,1,0,3,2,0,0,0,0,1,1,0,0,0,0,0,0,{"$f":"(SUM(Z188:AS188))+0","v":7},0,0,0,0,1,0,2,1,0,2,0,0,0,1,0,0,0,0,0,0]
[188,"22202 Salas Bajas","22202",{"$f":"((SUM(E189:X189)))+0","v":10},0,0,0,0,2,1,1,2,2,0,0,2,0,0,0,0,0,0,0,0,{"$f":"(SUM(Z189:AS189))+0","v":6},0,0,1,1,1,1,0,0,1,0,1,0,0,0,0,0,0,0,0,0]
[189,"22203 Salillas","22203",{"$f":"((SUM(E190:X190)))+0","v":12},1,1,0,1,2,0,0,1,2,3,0,0,0,1,0,0,0,0,0,0,{"$f":"(SUM(Z190:AS190))+0","v":7},0,1,0,0,1,0,0,1,3,0,0,0,0,0,0,0,1,0,0,0]
[190,"22204 Sallent de Gállego","22204",{"$f":"((SUM(E191:X191)))+0","v":62},2,3,3,3,3,4,5,11,10,8,2,1,1,2,2,2,0,0,0,0,{"$f":"(SUM(Z191:AS191))+0","v":68},2,5,3,4,1,2,7,11,10,8,6,2,2,3,1,1,0,0,0,0]
[191,"22205 San Esteban de Litera","22205",{"$f":"((SUM(E192:X192)))+0","v":54},1,1,2,0,7,7,10,9,5,7,4,0,0,0,1,0,0,0,0,0,{"$f":"(SUM(Z192:AS192))+0","v":41},0,1,6,1,2,7,6,3,5,5,2,0,2,1,0,0,0,0,0,0]
[192,"22206 Sangarrén","22206",{"$f":"((SUM(E193:X193)))+0","v":18},0,0,0,1,1,0,2,6,3,2,2,1,0,0,0,0,0,0,0,0,{"$f":"(SUM(Z193:AS193))+0","v":14},2,1,1,1,0,0,1,4,0,0,3,1,0,0,0,0,0,0,0,0]
[193,"22207 San Juan de Plan","22207",{"$f":"((SUM(E194:X194)))+0","v":0},0,0,0,0,0,0,0,0,0,0,0,0,0,0,0,0,0,0,0,0,{"$f":"(SUM(Z194:AS194))+0","v":6},0,0,0,0,0,1,1,1,0,0,3,0,0,0,0,0,0,0,0,0]
[194,"22208 Santa Cilia","22208",{"$f":"((SUM(E195:X195)))+0","v":6},0,0,0,0,0,0,0,1,3,1,1,0,0,0,0,0,0,0,0,0,{"$f":"(SUM(Z195:AS195))+0","v":5},0,1,0,1,0,0,1,0,2,0,0,0,0,0,0,0,0,0,0,0]
[195,"22209 Santa Cruz de la Serós","22209",{"$f":"((SUM(E196:X196)))+0","v":4},0,0,0,0,1,0,0,1,0,0,0,0,1,1,0,0,0,0,0,0,{"$f":"(SUM(Z196:AS196))+0","v":2},0,0,0,0,0,0,0,0,1,0,0,0,0,1,0,0,0,0,0,0]
[196,"22212 Santaliestra y San Quílez","22212",{"$f":"((SUM(E197:X197)))+0","v":3},0,0,0,0,0,0,0,0,0,0,1,0,0,0,1,1,0,0,0,0,{"$f":"(SUM(Z197:AS197))+0","v":1},0,0,0,0,0,0,0,0,0,0,0,1,0,0,0,0,0,0,0,0]
[197,"22213 Sariñena","22213",{"$f":"((SUM(E198:X198)))+0","v":437},36,31,23,26,22,44,40,50,53,41,37,12,8,12,1,0,1,0,0,0,{"$f":"(SUM(Z198:AS198))+0","v":370},32,24,14,17,17,30,48,47,37,30,26,18,13,10,4,1,2,0,0,0]
[198,"22214 Secastilla","22214",{"$f":"((SUM(E199:X199)))+0","v":9},0,1,0,1,0,1,1,2,0,0,1,2,0,0,0,0,0,0,0,0,{"$f":"(SUM(Z199:AS199))+0","v":11},1,2,0,0,1,0,1,2,1,1,0,2,0,0,0,0,0,0,0,0]
[199,"22215 Seira","22215",{"$f":"((SUM(E200:X200)))+0","v":5},1,0,0,0,0,1,1,0,1,0,0,0,1,0,0,0,0,0,0,0,{"$f":"(SUM(Z200:AS200))+0","v":7},1,0,0,0,0,0,1,1,1,0,1,2,0,0,0,0,0,0,0,0]
[200,"22217 Sena","22217",{"$f":"((SUM(E201:X201)))+0","v":52},7,1,1,3,2,5,6,4,12,6,3,2,0,0,0,0,0,0,0,0,{"$f":"(SUM(Z201:AS201))+0","v":40},5,4,2,1,1,3,6,7,4,2,2,3,0,0,0,0,0,0,0,0]
[201,"22218 Senés de Alcubierre","22218",{"$f":"((SUM(E202:X202)))+0","v":0},0,0,0,0,0,0,0,0,0,0,0,0,0,0,0,0,0,0,0,0,{"$f":"(SUM(Z202:AS202))+0","v":0},0,0,0,0,0,0,0,0,0,0,0,0,0,0,0,0,0,0,0,0]
[202,"22220 Sesa","22220",{"$f":"((SUM(E203:X203)))+0","v":3},0,0,0,0,0,1,1,0,0,0,0,0,1,0,0,0,0,0,0,0,{"$f":"(SUM(Z203:AS203))+0","v":1},0,0,0,0,0,0,0,0,0,0,0,1,0,0,0,0,0,0,0,0]
[203,"22221 Sesué","22221",{"$f":"((SUM(E204:X204)))+0","v":1},0,0,0,0,0,0,0,0,0,1,0,0,0,0,0,0,0,0,0,0,{"$f":"(SUM(Z204:AS204))+0","v":3},0,0,0,0,0,0,0,1,0,1,0,0,0,1,0,0,0,0,0,0]
[204,"22222 Siétamo","22222",{"$f":"((SUM(E205:X205)))+0","v":14},0,0,0,1,1,2,2,1,0,1,3,1,0,1,0,0,1,0,0,0,{"$f":"(SUM(Z205:AS205))+0","v":13},0,1,0,1,0,0,2,3,0,1,1,1,0,2,1,0,0,0,0,0]
[205,"22223 Sopeira","22223",{"$f":"((SUM(E206:X206)))+0","v":2},0,0,0,0,0,1,0,1,0,0,0,0,0,0,0,0,0,0,0,0,{"$f":"(SUM(Z206:AS206))+0","v":2},0,0,0,0,0,0,0,1,0,1,0,0,0,0,0,0,0,0,0,0]
[206,"22225 Tamarite de Litera","22225",{"$f":"((SUM(E207:X207)))+0","v":307},15,11,13,20,25,34,23,29,41,39,30,12,7,2,4,1,1,0,0,0,{"$f":"(SUM(Z207:AS207))+0","v":196},9,15,13,9,18,13,27,26,18,18,10,9,4,4,1,1,1,0,0,0]
[207,"22226 Tardienta","22226",{"$f":"((SUM(E208:X208)))+0","v":49},3,2,3,1,2,3,7,7,9,7,4,0,0,1,0,0,0,0,0,0,{"$f":"(SUM(Z208:AS208))+0","v":51},2,5,4,4,3,5,4,4,8,2,4,2,2,1,0,0,0,1,0,0]
[208,"22227 Tella-Sin","22227",{"$f":"((SUM(E209:X209)))+0","v":8},0,0,1,0,1,0,0,1,1,1,1,0,0,1,1,0,0,0,0,0,{"$f":"(SUM(Z209:AS209))+0","v":18},1,0,0,0,1,3,4,2,3,0,0,1,1,2,0,0,0,0,0,0]
[209,"22228 Tierz","22228",{"$f":"((SUM(E210:X210)))+0","v":18},0,1,0,2,2,2,1,3,2,1,2,1,0,0,0,1,0,0,0,0,{"$f":"(SUM(Z210:AS210))+0","v":22},0,0,1,2,1,1,5,1,3,1,3,1,1,1,1,0,0,0,0,0]
[210,"22229 Tolva","22229",{"$f":"((SUM(E211:X211)))+0","v":5},0,0,0,0,2,0,0,0,0,0,0,1,1,0,1,0,0,0,0,0,{"$f":"(SUM(Z211:AS211))+0","v":6},1,0,0,0,2,1,0,0,1,0,0,0,0,0,1,0,0,0,0,0]
[211,"22230 Torla","22230",{"$f":"((SUM(E212:X212)))+0","v":4},0,0,0,0,0,0,0,1,0,1,0,1,0,0,1,0,0,0,0,0,{"$f":"(SUM(Z212:AS212))+0","v":4},0,0,1,0,0,0,0,0,0,1,0,2,0,0,0,0,0,0,0,0]
[212,"22232 Torralba de Aragón","22232",{"$f":"((SUM(E213:X213)))+0","v":8},1,0,1,0,0,2,1,0,0,1,2,0,0,0,0,0,0,0,0,0,{"$f":"(SUM(Z213:AS213))+0","v":4},0,1,0,0,0,0,1,0,1,0,1,0,0,0,0,0,0,0,0,0]
[213,"22233 Torre la Ribera","22233",{"$f":"((SUM(E214:X214)))+0","v":1},0,0,0,0,0,0,0,0,0,0,0,1,0,0,0,0,0,0,0,0,{"$f":"(SUM(Z214:AS214))+0","v":9},0,0,1,0,1,1,1,1,1,1,1,1,0,0,0,0,0,0,0,0]
[214,"22234 Torrente de Cinca","22234",{"$f":"((SUM(E215:X215)))+0","v":241},4,7,4,1,23,32,42,39,25,24,26,8,4,1,1,0,0,0,0,0,{"$f":"(SUM(Z215:AS215))+0","v":113},4,2,0,2,7,6,12,13,17,18,22,5,4,1,0,0,0,0,0,0]
[215,"22235 Torres de Alcanadre","22235",{"$f":"((SUM(E216:X216)))+0","v":0},0,0,0,0,0,0,0,0,0,0,0,0,0,0,0,0,0,0,0,0,{"$f":"(SUM(Z216:AS216))+0","v":2},0,0,0,0,0,0,1,0,0,1,0,0,0,0,0,0,0,0,0,0]
[216,"22236 Torres de Barbués","22236",{"$f":"((SUM(E217:X217)))+0","v":7},0,1,0,1,0,0,1,0,0,3,0,1,0,0,0,0,0,0,0,0,{"$f":"(SUM(Z217:AS217))+0","v":11},0,1,2,1,0,1,1,1,1,3,0,0,0,0,0,0,0,0,0,0]
[217,"22239 Tramaced","22239",{"$f":"((SUM(E218:X218)))+0","v":9},0,1,0,1,1,1,2,0,0,0,1,1,0,1,0,0,0,0,0,0,{"$f":"(SUM(Z218:AS218))+0","v":6},0,0,0,1,0,0,1,1,1,0,1,0,1,0,0,0,0,0,0,0]
[218,"22242 Valfarta","22242",{"$f":"((SUM(E219:X219)))+0","v":0},0,0,0,0,0,0,0,0,0,0,0,0,0,0,0,0,0,0,0,0,{"$f":"(SUM(Z219:AS219))+0","v":0},0,0,0,0,0,0,0,0,0,0,0,0,0,0,0,0,0,0,0,0]
[219,"22243 Valle de Bardají","22243",{"$f":"((SUM(E220:X220)))+0","v":11},0,0,0,0,0,0,4,0,2,1,2,1,1,0,0,0,0,0,0,0,{"$f":"(SUM(Z220:AS220))+0","v":3},0,0,0,0,0,0,0,0,1,0,1,1,0,0,0,0,0,0,0,0]
[220,"22244 Valle de Lierp","22244",{"$f":"((SUM(E221:X221)))+0","v":4},0,0,0,0,0,0,2,0,0,0,0,1,0,1,0,0,0,0,0,0,{"$f":"(SUM(Z221:AS221))+0","v":3},1,0,0,0,0,0,1,0,0,0,0,1,0,0,0,0,0,0,0,0]
[221,"22245 Velilla de Cinca","22245",{"$f":"((SUM(E222:X222)))+0","v":81},4,3,1,4,11,7,6,15,12,9,7,1,1,0,0,0,0,0,0,0,{"$f":"(SUM(Z222:AS222))+0","v":52},2,1,3,5,7,8,3,5,4,1,8,2,2,1,0,0,0,0,0,0]
[222,"22246 Beranuy","22246",{"$f":"((SUM(E223:X223)))+0","v":2},0,0,0,0,1,0,0,0,0,0,0,0,0,0,1,0,0,0,0,0,{"$f":"(SUM(Z223:AS223))+0","v":3},0,0,0,0,0,0,0,1,0,0,0,0,0,1,1,0,0,0,0,0]
[223,"22247 Viacamp y Litera","22247",{"$f":"((SUM(E224:X224)))+0","v":4},0,0,0,0,0,0,0,1,1,1,0,0,1,0,0,0,0,0,0,0,{"$f":"(SUM(Z224:AS224))+0","v":1},0,0,0,0,0,0,0,0,0,1,0,0,0,0,0,0,0,0,0,0]
[224,"22248 Vicién","22248",{"$f":"((SUM(E225:X225)))+0","v":3},0,0,0,1,0,0,1,0,0,0,1,0,0,0,0,0,0,0,0,0,{"$f":"(SUM(Z225:AS225))+0","v":3},0,0,0,0,0,0,1,0,1,0,0,0,0,0,0,1,0,0,0,0]
[225,"22249 Villanova","22249",{"$f":"((SUM(E226:X226)))+0","v":7},0,0,0,0,0,2,1,1,2,0,1,0,0,0,0,0,0,0,0,0,{"$f":"(SUM(Z226:AS226))+0","v":4},0,0,0,0,1,0,0,0,2,1,0,0,0,0,0,0,0,0,0,0]
[226,"22250 Villanúa","22250",{"$f":"((SUM(E227:X227)))+0","v":23},1,2,2,1,0,0,1,3,5,1,4,0,0,1,0,2,0,0,0,0,{"$f":"(SUM(Z227:AS227))+0","v":29},2,4,0,0,2,3,4,4,2,3,1,0,1,1,2,0,0,0,0,0]
[227,"22251 Villanueva de Sigena","22251",{"$f":"((SUM(E228:X228)))+0","v":15},1,1,2,1,1,2,1,1,2,1,1,0,1,0,0,0,0,0,0,0,{"$f":"(SUM(Z228:AS228))+0","v":19},2,1,1,2,0,2,2,3,4,0,1,0,0,0,0,0,1,0,0,0]
[228,"22252 Yebra de Basa","22252",{"$f":"((SUM(E229:X229)))+0","v":2},0,0,0,0,0,0,0,0,0,1,0,0,0,0,0,1,0,0,0,0,{"$f":"(SUM(Z229:AS229))+0","v":2},0,0,0,0,0,0,0,0,0,0,0,0,0,0,0,1,0,0,1,0]
[229,"22253 Yésero","22253",{"$f":"((SUM(E230:X230)))+0","v":0},0,0,0,0,0,0,0,0,0,0,0,0,0,0,0,0,0,0,0,0,{"$f":"(SUM(Z230:AS230))+0","v":3},0,0,0,0,0,0,0,1,0,0,1,0,1,0,0,0,0,0,0,0]
[230,"22254 Zaidín","22254",{"$f":"((SUM(E231:X231)))+0","v":363},14,12,10,14,34,39,36,44,60,44,28,18,5,4,0,1,0,0,0,0,{"$f":"(SUM(Z231:AS231))+0","v":306},24,9,9,18,31,30,27,31,41,36,33,8,6,3,0,0,0,0,0,0]
[231,"22901 Valle de Hecho","22901",{"$f":"((SUM(E232:X232)))+0","v":13},0,0,0,1,1,1,3,0,2,1,1,2,1,0,0,0,0,0,0,0,{"$f":"(SUM(Z232:AS232))+0","v":14},0,0,0,0,2,1,2,0,3,1,2,1,1,0,0,0,1,0,0,0]
[232,"22902 Puente la Reina de Jaca","22902",{"$f":"((SUM(E233:X233)))+0","v":9},1,0,1,1,0,0,1,0,1,3,0,1,0,0,0,0,0,0,0,0,{"$f":"(SUM(Z233:AS233))+0","v":8},0,0,0,1,0,0,0,2,1,2,1,0,0,1,0,0,0,0,0,0]
[233,"22903 San Miguel del Cinca","22903",{"$f":"((SUM(E234:X234)))+0","v":51},1,5,6,2,3,3,6,8,7,6,3,1,0,0,0,0,0,0,0,0,{"$f":"(SUM(Z234:AS234))+0","v":50},4,3,1,3,6,3,8,6,3,4,3,2,2,2,0,0,0,0,0,0]
[234,"22904 Sotonera (La)","22904",{"$f":"((SUM(E235:X235)))+0","v":25},2,2,1,3,0,0,4,2,3,5,2,0,1,0,0,0,0,0,0,0,{"$f":"(SUM(Z235:AS235))+0","v":21},1,0,2,1,0,2,2,3,1,2,4,0,1,2,0,0,0,0,0,0]
[235,"22905 Lupiñén-Ortilla","22905",{"$f":"((SUM(E236:X236)))+0","v":18},4,0,1,1,0,1,0,1,3,1,2,1,3,0,0,0,0,0,0,0,{"$f":"(SUM(Z236:AS236))+0","v":18},1,3,1,0,2,1,0,3,1,0,2,1,0,2,1,0,0,0,0,0]
[236,"22906 Santa María de Dulcis","22906",{"$f":"((SUM(E237:X237)))+0","v":2},0,0,0,0,0,0,0,1,0,0,0,0,0,0,0,1,0,0,0,0,{"$f":"(SUM(Z237:AS237))+0","v":6},0,1,0,0,0,0,0,0,0,1,1,1,2,0,0,0,0,0,0,0]
[237,"22907 Aínsa-Sobrarbe","22907",{"$f":"((SUM(E238:X238)))+0","v":263},18,18,18,16,20,13,25,27,30,19,24,17,11,4,1,2,0,0,0,0,{"$f":"(SUM(Z238:AS238))+0","v":242},13,14,7,8,17,14,35,29,20,26,24,23,6,1,1,3,1,0,0,0]
[238,"22908 Hoz y Costeán","22908",{"$f":"((SUM(E239:X239)))+0","v":13},0,1,1,1,1,0,1,3,0,1,1,0,1,2,0,0,0,0,0,0,{"$f":"(SUM(Z239:AS239))+0","v":12},0,0,0,0,0,1,1,3,1,2,1,0,0,1,1,0,1,0,0,0]
[239,"22909 Vencillón","22909",{"$f":"((SUM(E240:X240)))+0","v":20},1,0,0,2,1,2,3,3,2,5,0,0,0,0,1,0,0,0,0,0,{"$f":"(SUM(Z240:AS240))+0","v":16},3,0,1,1,1,0,3,2,1,3,0,0,1,0,0,0,0,0,0,0]
[240,"44001 Ababuj","44001",{"$f":"((SUM(E241:X241)))+0","v":0},0,0,0,0,0,0,0,0,0,0,0,0,0,0,0,0,0,0,0,0,{"$f":"(SUM(Z241:AS241))+0","v":1},0,0,0,0,0,0,0,1,0,0,0,0,0,0,0,0,0,0,0,0]
[241,"44002 Abejuela","44002",{"$f":"((SUM(E242:X242)))+0","v":0},0,0,0,0,0,0,0,0,0,0,0,0,0,0,0,0,0,0,0,0,{"$f":"(SUM(Z242:AS242))+0","v":1},0,0,0,0,0,0,0,0,0,0,0,0,1,0,0,0,0,0,0,0]
[242,"44003 Aguatón","44003",{"$f":"((SUM(E243:X243)))+0","v":0},0,0,0,0,0,0,0,0,0,0,0,0,0,0,0,0,0,0,0,0,{"$f":"(SUM(Z243:AS243))+0","v":0},0,0,0,0,0,0,0,0,0,0,0,0,0,0,0,0,0,0,0,0]
[243,"44004 Aguaviva","44004",{"$f":"((SUM(E244:X244)))+0","v":33},2,1,3,1,2,0,2,3,6,5,2,1,4,0,0,0,0,1,0,0,{"$f":"(SUM(Z244:AS244))+0","v":42},1,3,1,3,2,2,3,3,6,1,6,7,2,0,0,0,2,0,0,0]
[244,"44005 Aguilar del Alfambra","44005",{"$f":"((SUM(E245:X245)))+0","v":13},0,2,0,0,2,0,2,0,4,1,1,1,0,0,0,0,0,0,0,0,{"$f":"(SUM(Z245:AS245))+0","v":10},4,0,1,0,1,2,1,0,0,0,1,0,0,0,0,0,0,0,0,0]
[245,"44006 Alacón","44006",{"$f":"((SUM(E246:X246)))+0","v":4},0,0,1,0,0,0,0,0,1,1,1,0,0,0,0,0,0,0,0,0,{"$f":"(SUM(Z246:AS246))+0","v":3},0,1,0,0,0,0,1,0,0,0,0,1,0,0,0,0,0,0,0,0]
[246,"44007 Alba","44007",{"$f":"((SUM(E247:X247)))+0","v":10},0,0,0,1,1,2,2,1,1,1,1,0,0,0,0,0,0,0,0,0,{"$f":"(SUM(Z247:AS247))+0","v":6},3,0,0,0,2,0,0,0,0,0,1,0,0,0,0,0,0,0,0,0]
[247,"44008 Albalate del Arzobispo","44008",{"$f":"((SUM(E248:X248)))+0","v":120},7,4,6,9,10,12,12,10,15,11,9,5,5,3,1,1,0,0,0,0,{"$f":"(SUM(Z248:AS248))+0","v":100},6,6,6,5,13,11,9,5,8,10,9,6,2,1,1,0,1,1,0,0]
[248,"44009 Albarracín","44009",{"$f":"((SUM(E249:X249)))+0","v":45},4,0,1,4,0,3,2,9,7,5,3,4,2,0,0,0,0,1,0,0,{"$f":"(SUM(Z249:AS249))+0","v":50},2,2,4,1,4,1,4,8,6,6,2,2,4,2,1,1,0,0,0,0]
[249,"44010 Albentosa","44010",{"$f":"((SUM(E250:X250)))+0","v":27},2,1,3,1,2,3,2,4,2,4,1,2,0,0,0,0,0,0,0,0,{"$f":"(SUM(Z250:AS250))+0","v":30},4,4,2,0,3,3,6,2,2,1,2,1,0,0,0,0,0,0,0,0]
[250,"44011 Alcaine","44011",{"$f":"((SUM(E251:X251)))+0","v":5},0,0,2,0,1,0,0,1,0,1,0,0,0,0,0,0,0,0,0,0,{"$f":"(SUM(Z251:AS251))+0","v":2},0,0,0,0,0,0,1,0,0,0,0,0,0,0,0,1,0,0,0,0]
[251,"44012 Alcalá de la Selva","44012",{"$f":"((SUM(E252:X252)))+0","v":6},0,0,0,0,0,0,1,0,1,1,0,0,1,1,1,0,0,0,0,0,{"$f":"(SUM(Z252:AS252))+0","v":4},0,0,0,0,0,0,0,1,1,1,0,1,0,0,0,0,0,0,0,0]
[252,"44013 Alcañiz","44013",{"$f":"((SUM(E253:X253)))+0","v":1111},58,68,77,55,68,82,101,120,146,126,93,55,31,19,9,1,1,1,0,0,{"$f":"(SUM(Z253:AS253))+0","v":1164},82,79,57,55,77,77,124,126,150,111,104,39,34,20,13,7,6,3,0,0]
[253,"44014 Alcorisa","44014",{"$f":"((SUM(E254:X254)))+0","v":159},11,8,15,9,14,11,3,22,20,18,15,9,2,1,1,0,0,0,0,0,{"$f":"(SUM(Z254:AS254))+0","v":147},12,15,12,6,7,12,15,15,17,15,10,3,2,4,0,1,1,0,0,0]
[254,"44016 Alfambra","44016",{"$f":"((SUM(E255:X255)))+0","v":32},3,5,4,2,3,4,1,2,1,3,3,0,0,1,0,0,0,0,0,0,{"$f":"(SUM(Z255:AS255))+0","v":22},1,1,3,0,0,4,2,3,3,3,1,1,0,0,0,0,0,0,0,0]
[255,"44017 Aliaga","44017",{"$f":"((SUM(E256:X256)))+0","v":23},3,2,2,1,0,1,1,3,3,1,3,1,1,0,1,0,0,0,0,0,{"$f":"(SUM(Z256:AS256))+0","v":12},0,1,1,0,0,0,2,1,2,1,2,0,1,0,1,0,0,0,0,0]
[256,"44018 Almohaja","44018",{"$f":"((SUM(E257:X257)))+0","v":0},0,0,0,0,0,0,0,0,0,0,0,0,0,0,0,0,0,0,0,0,{"$f":"(SUM(Z257:AS257))+0","v":0},0,0,0,0,0,0,0,0,0,0,0,0,0,0,0,0,0,0,0,0]
[257,"44019 Alobras","44019",{"$f":"((SUM(E258:X258)))+0","v":0},0,0,0,0,0,0,0,0,0,0,0,0,0,0,0,0,0,0,0,0,{"$f":"(SUM(Z258:AS258))+0","v":0},0,0,0,0,0,0,0,0,0,0,0,0,0,0,0,0,0,0,0,0]
[258,"44020 Alpeñés","44020",{"$f":"((SUM(E259:X259)))+0","v":0},0,0,0,0,0,0,0,0,0,0,0,0,0,0,0,0,0,0,0,0,{"$f":"(SUM(Z259:AS259))+0","v":0},0,0,0,0,0,0,0,0,0,0,0,0,0,0,0,0,0,0,0,0]
[259,"44021 Allepuz","44021",{"$f":"((SUM(E260:X260)))+0","v":3},0,1,0,0,0,0,0,1,0,0,0,1,0,0,0,0,0,0,0,0,{"$f":"(SUM(Z260:AS260))+0","v":6},0,1,0,0,0,0,1,0,2,0,2,0,0,0,0,0,0,0,0,0]
[260,"44022 Alloza","44022",{"$f":"((SUM(E261:X261)))+0","v":23},2,5,0,3,1,1,1,4,2,3,0,0,0,1,0,0,0,0,0,0,{"$f":"(SUM(Z261:AS261))+0","v":16},1,0,2,0,1,2,2,3,1,1,0,2,1,0,0,0,0,0,0,0]
[261,"44023 Allueva","44023",{"$f":"((SUM(E262:X262)))+0","v":1},0,0,0,0,0,0,0,0,0,1,0,0,0,0,0,0,0,0,0,0,{"$f":"(SUM(Z262:AS262))+0","v":1},0,0,0,0,0,1,0,0,0,0,0,0,0,0,0,0,0,0,0,0]
[262,"44024 Anadón","44024",{"$f":"((SUM(E263:X263)))+0","v":2},0,0,0,0,0,0,0,0,1,1,0,0,0,0,0,0,0,0,0,0,{"$f":"(SUM(Z263:AS263))+0","v":0},0,0,0,0,0,0,0,0,0,0,0,0,0,0,0,0,0,0,0,0]
[263,"44025 Andorra","44025",{"$f":"((SUM(E264:X264)))+0","v":305},18,24,16,22,30,22,27,20,41,35,24,15,6,3,1,0,1,0,0,0,{"$f":"(SUM(Z264:AS264))+0","v":316},12,24,20,17,34,25,30,34,37,34,25,8,7,4,3,1,0,1,0,0]
[264,"44026 Arcos de las Salinas","44026",{"$f":"((SUM(E265:X265)))+0","v":2},0,0,0,0,0,0,0,1,0,0,0,0,0,0,1,0,0,0,0,0,{"$f":"(SUM(Z265:AS265))+0","v":2},0,0,1,0,0,0,0,1,0,0,0,0,0,0,0,0,0,0,0,0]
[265,"44027 Arens de Lledó","44027",{"$f":"((SUM(E266:X266)))+0","v":31},2,1,0,0,1,0,2,3,2,0,3,7,0,7,1,1,1,0,0,0,{"$f":"(SUM(Z266:AS266))+0","v":29},1,1,0,3,1,0,2,3,1,2,4,4,4,2,0,1,0,0,0,0]
[266,"44028 Argente","44028",{"$f":"((SUM(E267:X267)))+0","v":10},1,2,0,0,1,0,2,2,1,0,0,1,0,0,0,0,0,0,0,0,{"$f":"(SUM(Z267:AS267))+0","v":10},2,0,0,0,0,5,0,0,1,0,0,0,1,0,0,0,0,0,1,0]
[267,"44029 Ariño","44029",{"$f":"((SUM(E268:X268)))+0","v":25},0,2,3,2,2,4,0,2,1,3,3,3,0,0,0,0,0,0,0,0,{"$f":"(SUM(Z268:AS268))+0","v":29},0,1,4,1,1,3,3,2,3,4,6,1,0,0,0,0,0,0,0,0]
[268,"44031 Azaila","44031",{"$f":"((SUM(E269:X269)))+0","v":1},0,0,0,0,0,0,0,0,0,0,0,1,0,0,0,0,0,0,0,0,{"$f":"(SUM(Z269:AS269))+0","v":5},0,0,0,0,0,0,1,0,1,1,0,1,0,1,0,0,0,0,0,0]
[269,"44032 Bádenas","44032",{"$f":"((SUM(E270:X270)))+0","v":0},0,0,0,0,0,0,0,0,0,0,0,0,0,0,0,0,0,0,0,0,{"$f":"(SUM(Z270:AS270))+0","v":0},0,0,0,0,0,0,0,0,0,0,0,0,0,0,0,0,0,0,0,0]
[270,"44033 Báguena","44033",{"$f":"((SUM(E271:X271)))+0","v":12},3,0,1,0,2,2,1,1,0,0,2,0,0,0,0,0,0,0,0,0,{"$f":"(SUM(Z271:AS271))+0","v":15},1,0,0,3,2,2,1,1,2,1,2,0,0,0,0,0,0,0,0,0]
[271,"44034 Bañón","44034",{"$f":"((SUM(E272:X272)))+0","v":5},0,0,0,0,0,0,0,1,3,0,0,1,0,0,0,0,0,0,0,0,{"$f":"(SUM(Z272:AS272))+0","v":11},1,1,0,0,2,3,0,0,0,1,2,1,0,0,0,0,0,0,0,0]
[272,"44035 Barrachina","44035",{"$f":"((SUM(E273:X273)))+0","v":6},0,1,0,0,1,0,1,1,1,0,0,1,0,0,0,0,0,0,0,0,{"$f":"(SUM(Z273:AS273))+0","v":6},0,1,1,1,0,1,1,0,1,0,0,0,0,0,0,0,0,0,0,0]
[273,"44036 Bea","44036",{"$f":"((SUM(E274:X274)))+0","v":3},0,0,0,0,1,1,0,0,1,0,0,0,0,0,0,0,0,0,0,0,{"$f":"(SUM(Z274:AS274))+0","v":2},0,0,0,0,1,0,0,0,0,0,0,0,0,1,0,0,0,0,0,0]
[274,"44037 Beceite","44037",{"$f":"((SUM(E275:X275)))+0","v":19},0,0,3,0,0,0,3,1,3,2,2,0,3,1,1,0,0,0,0,0,{"$f":"(SUM(Z275:AS275))+0","v":17},0,1,1,1,0,2,1,2,1,3,0,2,2,0,0,1,0,0,0,0]
[275,"44038 Belmonte de San José","44038",{"$f":"((SUM(E276:X276)))+0","v":4},0,1,0,0,1,0,0,0,0,0,1,0,0,1,0,0,0,0,0,0,{"$f":"(SUM(Z276:AS276))+0","v":6},0,0,1,0,2,1,0,0,0,1,0,0,0,1,0,0,0,0,0,0]
[276,"44039 Bello","44039",{"$f":"((SUM(E277:X277)))+0","v":9},2,0,0,0,0,0,1,1,3,0,0,0,0,1,0,0,1,0,0,0,{"$f":"(SUM(Z277:AS277))+0","v":12},0,2,1,1,0,0,3,0,3,0,1,1,0,0,0,0,0,0,0,0]
[277,"44040 Berge","44040",{"$f":"((SUM(E278:X278)))+0","v":9},0,0,0,0,1,2,1,1,1,1,0,1,1,0,0,0,0,0,0,0,{"$f":"(SUM(Z278:AS278))+0","v":6},1,1,1,0,0,0,1,0,0,2,0,0,0,0,0,0,0,0,0,0]
[278,"44041 Bezas","44041",{"$f":"((SUM(E279:X279)))+0","v":0},0,0,0,0,0,0,0,0,0,0,0,0,0,0,0,0,0,0,0,0,{"$f":"(SUM(Z279:AS279))+0","v":0},0,0,0,0,0,0,0,0,0,0,0,0,0,0,0,0,0,0,0,0]
[279,"44042 Blancas","44042",{"$f":"((SUM(E280:X280)))+0","v":11},3,1,1,1,1,0,0,1,1,2,0,0,0,0,0,0,0,0,0,0,{"$f":"(SUM(Z280:AS280))+0","v":6},0,0,0,0,1,0,2,1,1,1,0,0,0,0,0,0,0,0,0,0]
[280,"44043 Blesa","44043",{"$f":"((SUM(E281:X281)))+0","v":0},0,0,0,0,0,0,0,0,0,0,0,0,0,0,0,0,0,0,0,0,{"$f":"(SUM(Z281:AS281))+0","v":3},0,0,0,0,0,0,0,1,0,1,0,0,1,0,0,0,0,0,0,0]
[281,"44044 Bordón","44044",{"$f":"((SUM(E282:X282)))+0","v":10},0,2,1,1,2,1,0,1,1,0,0,0,1,0,0,0,0,0,0,0,{"$f":"(SUM(Z282:AS282))+0","v":12},3,2,1,1,0,0,0,2,1,1,1,0,0,0,0,0,0,0,0,0]
[282,"44045 Bronchales","44045",{"$f":"((SUM(E283:X283)))+0","v":13},3,1,0,0,0,0,0,2,2,1,1,1,2,0,0,0,0,0,0,0,{"$f":"(SUM(Z283:AS283))+0","v":16},2,0,1,1,0,4,1,1,2,2,0,2,0,0,0,0,0,0,0,0]
[283,"44046 Bueña","44046",{"$f":"((SUM(E284:X284)))+0","v":3},0,1,0,0,1,0,0,0,0,1,0,0,0,0,0,0,0,0,0,0,{"$f":"(SUM(Z284:AS284))+0","v":3},0,0,0,1,0,0,0,0,2,0,0,0,0,0,0,0,0,0,0,0]
[284,"44047 Burbáguena","44047",{"$f":"((SUM(E285:X285)))+0","v":52},4,3,2,3,8,14,7,2,7,1,1,0,0,0,0,0,0,0,0,0,{"$f":"(SUM(Z285:AS285))+0","v":21},1,1,2,1,1,2,4,2,3,2,1,0,0,1,0,0,0,0,0,0]
[285,"44048 Cabra de Mora","44048",{"$f":"((SUM(E286:X286)))+0","v":1},0,0,0,0,0,0,0,0,1,0,0,0,0,0,0,0,0,0,0,0,{"$f":"(SUM(Z286:AS286))+0","v":1},0,0,0,0,0,0,0,0,0,0,0,1,0,0,0,0,0,0,0,0]
[286,"44049 Calaceite","44049",{"$f":"((SUM(E287:X287)))+0","v":49},2,3,2,3,1,2,5,6,10,3,5,3,1,1,1,1,0,0,0,0,{"$f":"(SUM(Z287:AS287))+0","v":46},4,4,3,0,1,5,3,3,6,7,1,1,1,3,1,3,0,0,0,0]
[287,"44050 Calamocha","44050",{"$f":"((SUM(E288:X288)))+0","v":397},23,24,30,28,30,32,46,39,47,45,29,10,7,3,4,0,0,0,0,0,{"$f":"(SUM(Z288:AS288))+0","v":401},24,39,21,12,35,31,43,41,55,29,29,20,12,5,5,0,0,0,0,0]
[288,"44051 Calanda","44051",{"$f":"((SUM(E289:X289)))+0","v":409},18,27,18,28,42,29,40,40,63,41,31,15,11,4,1,0,1,0,0,0,{"$f":"(SUM(Z289:AS289))+0","v":390},26,21,14,22,23,40,48,38,35,41,39,20,16,4,1,1,1,0,0,0]
[289,"44052 Calomarde","44052",{"$f":"((SUM(E290:X290)))+0","v":2},0,0,1,1,0,0,0,0,0,0,0,0,0,0,0,0,0,0,0,0,{"$f":"(SUM(Z290:AS290))+0","v":2},0,0,1,0,0,0,0,0,1,0,0,0,0,0,0,0,0,0,0,0]
[290,"44053 Camañas","44053",{"$f":"((SUM(E291:X291)))+0","v":11},1,0,0,1,0,2,2,1,1,0,1,1,0,0,0,0,1,0,0,0,{"$f":"(SUM(Z291:AS291))+0","v":10},0,1,0,2,0,1,1,1,1,0,1,0,0,2,0,0,0,0,0,0]
[291,"44054 Camarena de la Sierra","44054",{"$f":"((SUM(E292:X292)))+0","v":0},0,0,0,0,0,0,0,0,0,0,0,0,0,0,0,0,0,0,0,0,{"$f":"(SUM(Z292:AS292))+0","v":4},0,0,1,0,0,1,0,0,0,1,0,1,0,0,0,0,0,0,0,0]
[292,"44055 Camarillas","44055",{"$f":"((SUM(E293:X293)))+0","v":5},0,2,0,0,0,2,0,0,0,0,0,1,0,0,0,0,0,0,0,0,{"$f":"(SUM(Z293:AS293))+0","v":6},0,0,1,0,1,1,0,1,0,1,1,0,0,0,0,0,0,0,0,0]
[293,"44056 Caminreal","44056",{"$f":"((SUM(E294:X294)))+0","v":82},9,4,8,9,6,4,5,8,3,7,10,3,5,0,0,0,1,0,0,0,{"$f":"(SUM(Z294:AS294))+0","v":73},2,1,7,7,6,7,5,5,13,5,6,3,2,1,2,0,1,0,0,0]
[294,"44059 Cantavieja","44059",{"$f":"((SUM(E295:X295)))+0","v":28},3,0,2,4,1,1,1,4,3,3,4,0,1,0,1,0,0,0,0,0,{"$f":"(SUM(Z295:AS295))+0","v":22},1,0,1,1,2,0,2,7,4,2,1,0,1,0,0,0,0,0,0,0]
[295,"44060 Cañada de Benatanduz","44060",{"$f":"((SUM(E296:X296)))+0","v":0},0,0,0,0,0,0,0,0,0,0,0,0,0,0,0,0,0,0,0,0,{"$f":"(SUM(Z296:AS296))+0","v":0},0,0,0,0,0,0,0,0,0,0,0,0,0,0,0,0,0,0,0,0]
[296,"44061 Cañada de Verich (La)","44061",{"$f":"((SUM(E297:X297)))+0","v":5},0,1,0,1,0,0,0,0,1,2,0,0,0,0,0,0,0,0,0,0,{"$f":"(SUM(Z297:AS297))+0","v":5},0,0,2,0,0,1,1,0,1,0,0,0,0,0,0,0,0,0,0,0]
[297,"44062 Cañada Vellida","44062",{"$f":"((SUM(E298:X298)))+0","v":3},0,0,0,0,1,0,0,0,0,0,1,0,0,0,0,1,0,0,0,0,{"$f":"(SUM(Z298:AS298))+0","v":0},0,0,0,0,0,0,0,0,0,0,0,0,0,0,0,0,0,0,0,0]
[298,"44063 Cañizar del Olivar","44063",{"$f":"((SUM(E299:X299)))+0","v":19},0,3,1,2,1,2,2,5,2,1,0,0,0,0,0,0,0,0,0,0,{"$f":"(SUM(Z299:AS299))+0","v":14},3,2,2,0,2,2,1,1,1,0,0,0,0,0,0,0,0,0,0,0]
[299,"44064 Cascante del Río","44064",{"$f":"((SUM(E300:X300)))+0","v":0},0,0,0,0,0,0,0,0,0,0,0,0,0,0,0,0,0,0,0,0,{"$f":"(SUM(Z300:AS300))+0","v":0},0,0,0,0,0,0,0,0,0,0,0,0,0,0,0,0,0,0,0,0]
[300,"44065 Castejón de Tornos","44065",{"$f":"((SUM(E301:X301)))+0","v":0},0,0,0,0,0,0,0,0,0,0,0,0,0,0,0,0,0,0,0,0,{"$f":"(SUM(Z301:AS301))+0","v":1},0,0,0,0,0,0,0,0,0,0,1,0,0,0,0,0,0,0,0,0]
[301,"44066 Castel de Cabra","44066",{"$f":"((SUM(E302:X302)))+0","v":0},0,0,0,0,0,0,0,0,0,0,0,0,0,0,0,0,0,0,0,0,{"$f":"(SUM(Z302:AS302))+0","v":1},0,0,0,0,0,0,0,0,0,0,0,1,0,0,0,0,0,0,0,0]
[302,"44067 Castelnou","44067",{"$f":"((SUM(E303:X303)))+0","v":4},3,0,0,0,0,0,0,0,1,0,0,0,0,0,0,0,0,0,0,0,{"$f":"(SUM(Z303:AS303))+0","v":4},0,1,0,0,1,1,0,0,0,0,0,0,0,0,1,0,0,0,0,0]
[303,"44068 Castelserás","44068",{"$f":"((SUM(E304:X304)))+0","v":21},2,2,0,1,2,1,3,3,2,0,1,0,2,0,0,1,0,0,1,0,{"$f":"(SUM(Z304:AS304))+0","v":22},3,2,3,1,0,2,3,1,3,0,2,2,0,0,0,0,0,0,0,0]
[304,"44070 Castellar (El)","44070",{"$f":"((SUM(E305:X305)))+0","v":1},0,0,0,0,1,0,0,0,0,0,0,0,0,0,0,0,0,0,0,0,{"$f":"(SUM(Z305:AS305))+0","v":1},0,0,0,0,0,0,0,0,0,1,0,0,0,0,0,0,0,0,0,0]
[305,"44071 Castellote","44071",{"$f":"((SUM(E306:X306)))+0","v":28},1,2,0,0,2,1,3,5,3,2,3,1,0,1,2,1,0,1,0,0,{"$f":"(SUM(Z306:AS306))+0","v":26},1,2,1,1,0,1,2,3,2,2,1,1,3,2,2,2,0,0,0,0]
[306,"44074 Cedrillas","44074",{"$f":"((SUM(E307:X307)))+0","v":65},6,5,4,2,2,2,7,9,8,8,1,5,4,0,1,0,1,0,0,0,{"$f":"(SUM(Z307:AS307))+0","v":60},3,4,7,4,0,8,9,9,2,4,2,4,2,0,2,0,0,0,0,0]
[307,"44075 Celadas","44075",{"$f":"((SUM(E308:X308)))+0","v":16},1,3,0,1,1,2,3,1,0,0,2,1,0,0,1,0,0,0,0,0,{"$f":"(SUM(Z308:AS308))+0","v":13},2,1,1,1,2,3,0,1,0,1,1,0,0,0,0,0,0,0,0,0]
[308,"44076 Cella","44076",{"$f":"((SUM(E309:X309)))+0","v":135},11,9,8,5,22,5,8,10,21,10,8,4,9,4,0,1,0,0,0,0,{"$f":"(SUM(Z309:AS309))+0","v":123},7,10,6,9,6,9,16,15,13,10,7,5,5,1,3,0,1,0,0,0]
[309,"44077 Cerollera (La)","44077",{"$f":"((SUM(E310:X310)))+0","v":2},0,0,0,0,0,0,0,0,0,0,1,0,0,0,1,0,0,0,0,0,{"$f":"(SUM(Z310:AS310))+0","v":4},0,0,0,0,1,1,0,0,0,1,1,0,0,0,0,0,0,0,0,0]
[310,"44080 Codoñera (La)","44080",{"$f":"((SUM(E311:X311)))+0","v":14},0,0,1,0,0,2,3,0,3,3,2,0,0,0,0,0,0,0,0,0,{"$f":"(SUM(Z311:AS311))+0","v":12},0,1,0,1,1,3,2,1,1,1,1,0,0,0,0,0,0,0,0,0]
[311,"44082 Corbalán","44082",{"$f":"((SUM(E312:X312)))+0","v":4},0,0,1,0,0,0,0,0,1,1,1,0,0,0,0,0,0,0,0,0,{"$f":"(SUM(Z312:AS312))+0","v":2},0,1,0,0,0,0,1,0,0,0,0,0,0,0,0,0,0,0,0,0]
[312,"44084 Cortes de Aragón","44084",{"$f":"((SUM(E313:X313)))+0","v":1},0,1,0,0,0,0,0,0,0,0,0,0,0,0,0,0,0,0,0,0,{"$f":"(SUM(Z313:AS313))+0","v":2},0,0,0,0,0,1,0,1,0,0,0,0,0,0,0,0,0,0,0,0]
[313,"44085 Cosa","44085",{"$f":"((SUM(E314:X314)))+0","v":0},0,0,0,0,0,0,0,0,0,0,0,0,0,0,0,0,0,0,0,0,{"$f":"(SUM(Z314:AS314))+0","v":0},0,0,0,0,0,0,0,0,0,0,0,0,0,0,0,0,0,0,0,0]
[314,"44086 Cretas","44086",{"$f":"((SUM(E315:X315)))+0","v":40},0,2,3,0,2,0,2,3,2,5,5,5,6,2,3,0,0,0,0,0,{"$f":"(SUM(Z315:AS315))+0","v":41},0,0,3,1,1,3,2,5,9,3,6,2,3,1,1,1,0,0,0,0]
[315,"44087 Crivillén","44087",{"$f":"((SUM(E316:X316)))+0","v":10},0,0,0,1,3,2,1,0,1,0,0,0,2,0,0,0,0,0,0,0,{"$f":"(SUM(Z316:AS316))+0","v":6},0,1,0,1,1,0,0,0,1,0,0,2,0,0,0,0,0,0,0,0]
[316,"44088 Cuba (La)","44088",{"$f":"((SUM(E317:X317)))+0","v":12},0,1,0,0,1,0,1,4,0,0,3,0,1,1,0,0,0,0,0,0,{"$f":"(SUM(Z317:AS317))+0","v":5},0,0,0,0,0,0,0,1,1,0,1,1,0,1,0,0,0,0,0,0]
[317,"44089 Cubla","44089",{"$f":"((SUM(E318:X318)))+0","v":1},0,0,0,0,0,0,1,0,0,0,0,0,0,0,0,0,0,0,0,0,{"$f":"(SUM(Z318:AS318))+0","v":1},0,0,0,0,0,1,0,0,0,0,0,0,0,0,0,0,0,0,0,0]
[318,"44090 Cucalón","44090",{"$f":"((SUM(E319:X319)))+0","v":2},0,0,0,0,0,0,0,0,0,1,0,0,0,0,0,1,0,0,0,0,{"$f":"(SUM(Z319:AS319))+0","v":1},0,0,0,0,0,0,0,0,0,0,0,0,1,0,0,0,0,0,0,0]
[319,"44092 Cuervo (El)","44092",{"$f":"((SUM(E320:X320)))+0","v":0},0,0,0,0,0,0,0,0,0,0,0,0,0,0,0,0,0,0,0,0,{"$f":"(SUM(Z320:AS320))+0","v":7},0,0,1,1,0,0,1,1,1,2,0,0,0,0,0,0,0,0,0,0]
[320,"44093 Cuevas de Almudén","44093",{"$f":"((SUM(E321:X321)))+0","v":19},1,1,2,0,2,2,3,1,1,3,1,1,1,0,0,0,0,0,0,0,{"$f":"(SUM(Z321:AS321))+0","v":15},3,2,1,0,3,0,4,0,0,0,2,0,0,0,0,0,0,0,0,0]
[321,"44094 Cuevas Labradas","44094",{"$f":"((SUM(E322:X322)))+0","v":1},0,0,0,0,0,1,0,0,0,0,0,0,0,0,0,0,0,0,0,0,{"$f":"(SUM(Z322:AS322))+0","v":1},0,0,0,0,0,0,0,0,0,0,0,1,0,0,0,0,0,0,0,0]
[322,"44096 Ejulve","44096",{"$f":"((SUM(E323:X323)))+0","v":16},4,3,0,0,1,1,3,1,2,0,1,0,0,0,0,0,0,0,0,0,{"$f":"(SUM(Z323:AS323))+0","v":11},2,1,0,0,0,1,4,0,0,2,1,0,0,0,0,0,0,0,0,0]
[323,"44097 Escorihuela","44097",{"$f":"((SUM(E324:X324)))+0","v":2},0,0,0,0,0,1,0,0,0,0,0,0,1,0,0,0,0,0,0,0,{"$f":"(SUM(Z324:AS324))+0","v":4},0,0,0,0,0,2,0,1,0,0,0,1,0,0,0,0,0,0,0,0]
[324,"44099 Escucha","44099",{"$f":"((SUM(E325:X325)))+0","v":41},2,2,3,1,4,5,5,2,5,8,0,2,1,1,0,0,0,0,0,0,{"$f":"(SUM(Z325:AS325))+0","v":42},3,5,3,6,0,3,6,4,6,2,0,2,1,1,0,0,0,0,0,0]
[325,"44100 Estercuel","44100",{"$f":"((SUM(E326:X326)))+0","v":9},1,1,0,0,0,0,1,2,2,2,0,0,0,0,0,0,0,0,0,0,{"$f":"(SUM(Z326:AS326))+0","v":5},1,1,0,0,0,0,3,0,0,0,0,0,0,0,0,0,0,0,0,0]
[326,"44101 Ferreruela de Huerva","44101",{"$f":"((SUM(E327:X327)))+0","v":4},0,0,0,1,0,0,2,0,0,0,0,0,0,0,1,0,0,0,0,0,{"$f":"(SUM(Z327:AS327))+0","v":2},0,0,0,0,0,1,0,1,0,0,0,0,0,0,0,0,0,0,0,0]
[327,"44102 Fonfría","44102",{"$f":"((SUM(E328:X328)))+0","v":1},0,0,0,0,0,0,0,1,0,0,0,0,0,0,0,0,0,0,0,0,{"$f":"(SUM(Z328:AS328))+0","v":0},0,0,0,0,0,0,0,0,0,0,0,0,0,0,0,0,0,0,0,0]
[328,"44103 Formiche Alto","44103",{"$f":"((SUM(E329:X329)))+0","v":8},1,1,1,0,1,1,0,1,1,1,0,0,0,0,0,0,0,0,0,0,{"$f":"(SUM(Z329:AS329))+0","v":7},0,1,0,0,2,1,0,1,1,1,0,0,0,0,0,0,0,0,0,0]
[329,"44105 Fórnoles","44105",{"$f":"((SUM(E330:X330)))+0","v":7},0,0,0,0,0,0,2,1,0,2,0,1,0,0,0,1,0,0,0,0,{"$f":"(SUM(Z330:AS330))+0","v":4},1,0,0,0,0,0,2,1,0,0,0,0,0,0,0,0,0,0,0,0]
[330,"44106 Fortanete","44106",{"$f":"((SUM(E331:X331)))+0","v":17},1,1,1,0,0,4,0,4,4,1,0,1,0,0,0,0,0,0,0,0,{"$f":"(SUM(Z331:AS331))+0","v":19},5,2,1,1,1,2,2,2,1,1,0,1,0,0,0,0,0,0,0,0]
[331,"44107 Foz-Calanda","44107",{"$f":"((SUM(E332:X332)))+0","v":10},0,1,0,2,1,0,1,2,0,2,0,1,0,0,0,0,0,0,0,0,{"$f":"(SUM(Z332:AS332))+0","v":17},0,1,2,1,1,1,3,2,3,2,0,0,0,0,1,0,0,0,0,0]
[332,"44108 Fresneda (La)","44108",{"$f":"((SUM(E333:X333)))+0","v":52},3,1,1,6,4,2,4,6,9,6,1,5,2,1,0,1,0,0,0,0,{"$f":"(SUM(Z333:AS333))+0","v":47},2,3,2,3,3,1,6,3,8,3,4,2,3,1,1,0,2,0,0,0]
[333,"44109 Frías de Albarracín","44109",{"$f":"((SUM(E334:X334)))+0","v":3},1,0,0,0,0,0,0,1,0,0,0,1,0,0,0,0,0,0,0,0,{"$f":"(SUM(Z334:AS334))+0","v":2},0,1,0,0,0,1,0,0,0,0,0,0,0,0,0,0,0,0,0,0]
[334,"44110 Fuenferrada","44110",{"$f":"((SUM(E335:X335)))+0","v":0},0,0,0,0,0,0,0,0,0,0,0,0,0,0,0,0,0,0,0,0,{"$f":"(SUM(Z335:AS335))+0","v":0},0,0,0,0,0,0,0,0,0,0,0,0,0,0,0,0,0,0,0,0]
[335,"44111 Fuentes Calientes","44111",{"$f":"((SUM(E336:X336)))+0","v":6},1,2,0,0,0,0,0,1,1,0,1,0,0,0,0,0,0,0,0,0,{"$f":"(SUM(Z336:AS336))+0","v":4},0,0,0,1,0,0,1,0,0,0,1,1,0,0,0,0,0,0,0,0]
[336,"44112 Fuentes Claras","44112",{"$f":"((SUM(E337:X337)))+0","v":9},0,1,1,0,1,0,1,0,1,2,0,0,1,0,1,0,0,0,0,0,{"$f":"(SUM(Z337:AS337))+0","v":11},2,2,0,1,0,0,1,2,0,0,0,1,1,1,0,0,0,0,0,0]
[337,"44113 Fuentes de Rubielos","44113",{"$f":"((SUM(E338:X338)))+0","v":14},0,1,0,0,1,1,3,3,0,0,2,2,0,1,0,0,0,0,0,0,{"$f":"(SUM(Z338:AS338))+0","v":6},1,0,0,0,0,1,0,1,1,0,0,1,1,0,0,0,0,0,0,0]
[338,"44114 Fuentespalda","44114",{"$f":"((SUM(E339:X339)))+0","v":24},3,0,0,1,2,3,2,4,2,2,1,1,1,1,0,1,0,0,0,0,{"$f":"(SUM(Z339:AS339))+0","v":13},1,0,0,1,0,0,3,1,1,1,0,2,2,0,1,0,0,0,0,0]
[339,"44115 Galve","44115",{"$f":"((SUM(E340:X340)))+0","v":13},2,2,0,0,1,1,2,0,2,0,0,2,1,0,0,0,0,0,0,0,{"$f":"(SUM(Z340:AS340))+0","v":8},1,0,0,0,1,2,1,0,2,0,1,0,0,0,0,0,0,0,0,0]
[340,"44116 Gargallo","44116",{"$f":"((SUM(E341:X341)))+0","v":8},1,1,0,1,1,0,0,0,3,1,0,0,0,0,0,0,0,0,0,0,{"$f":"(SUM(Z341:AS341))+0","v":7},0,1,0,1,0,1,0,0,1,2,0,0,0,0,0,0,1,0,0,0]
[341,"44117 Gea de Albarracín","44117",{"$f":"((SUM(E342:X342)))+0","v":10},0,0,0,0,0,1,0,0,3,2,1,2,0,1,0,0,0,0,0,0,{"$f":"(SUM(Z342:AS342))+0","v":8},0,0,0,0,0,1,1,1,1,1,2,0,0,0,1,0,0,0,0,0]
[342,"44118 Ginebrosa (La)","44118",{"$f":"((SUM(E343:X343)))+0","v":13},3,2,0,1,0,1,2,2,0,1,0,1,0,0,0,0,0,0,0,0,{"$f":"(SUM(Z343:AS343))+0","v":13},1,0,3,0,0,1,3,3,1,0,0,1,0,0,0,0,0,0,0,0]
[343,"44119 Griegos","44119",{"$f":"((SUM(E344:X344)))+0","v":2},0,0,0,0,1,1,0,0,0,0,0,0,0,0,0,0,0,0,0,0,{"$f":"(SUM(Z344:AS344))+0","v":3},0,1,0,0,0,0,1,0,0,1,0,0,0,0,0,0,0,0,0,0]
[344,"44120 Guadalaviar","44120",{"$f":"((SUM(E345:X345)))+0","v":1},0,0,0,0,0,0,0,0,1,0,0,0,0,0,0,0,0,0,0,0,{"$f":"(SUM(Z345:AS345))+0","v":1},0,0,0,0,0,0,0,0,0,0,1,0,0,0,0,0,0,0,0,0]
[345,"44121 Gúdar","44121",{"$f":"((SUM(E346:X346)))+0","v":2},0,0,1,0,0,0,0,0,1,0,0,0,0,0,0,0,0,0,0,0,{"$f":"(SUM(Z346:AS346))+0","v":4},0,2,0,0,0,0,1,0,0,0,0,1,0,0,0,0,0,0,0,0]
[346,"44122 Híjar","44122",{"$f":"((SUM(E347:X347)))+0","v":165},13,14,11,10,16,10,14,21,14,15,13,6,4,2,2,0,0,0,0,0,{"$f":"(SUM(Z347:AS347))+0","v":150},14,21,16,12,7,11,13,14,12,11,8,1,6,2,0,1,0,1,0,0]
[347,"44123 Hinojosa de Jarque","44123",{"$f":"((SUM(E348:X348)))+0","v":3},0,0,0,0,0,0,0,0,1,1,1,0,0,0,0,0,0,0,0,0,{"$f":"(SUM(Z348:AS348))+0","v":3},0,0,0,0,0,0,0,0,1,1,1,0,0,0,0,0,0,0,0,0]
[348,"44124 Hoz de la Vieja (La)","44124",{"$f":"((SUM(E349:X349)))+0","v":0},0,0,0,0,0,0,0,0,0,0,0,0,0,0,0,0,0,0,0,0,{"$f":"(SUM(Z349:AS349))+0","v":0},0,0,0,0,0,0,0,0,0,0,0,0,0,0,0,0,0,0,0,0]
[349,"44125 Huesa del Común","44125",{"$f":"((SUM(E350:X350)))+0","v":3},0,0,0,0,0,1,0,1,0,0,0,1,0,0,0,0,0,0,0,0,{"$f":"(SUM(Z350:AS350))+0","v":3},0,0,0,0,1,0,0,0,0,0,1,0,1,0,0,0,0,0,0,0]
[350,"44126 Iglesuela del Cid (La)","44126",{"$f":"((SUM(E351:X351)))+0","v":22},1,1,2,4,2,2,0,0,2,5,3,0,0,0,0,0,0,0,0,0,{"$f":"(SUM(Z351:AS351))+0","v":20},2,0,2,1,0,1,2,2,5,2,2,0,1,0,0,0,0,0,0,0]
[351,"44127 Jabaloyas","44127",{"$f":"((SUM(E352:X352)))+0","v":1},0,0,0,0,0,0,0,1,0,0,0,0,0,0,0,0,0,0,0,0,{"$f":"(SUM(Z352:AS352))+0","v":0},0,0,0,0,0,0,0,0,0,0,0,0,0,0,0,0,0,0,0,0]
[352,"44128 Jarque de la Val","44128",{"$f":"((SUM(E353:X353)))+0","v":0},0,0,0,0,0,0,0,0,0,0,0,0,0,0,0,0,0,0,0,0,{"$f":"(SUM(Z353:AS353))+0","v":2},0,0,0,0,0,0,0,0,1,0,0,1,0,0,0,0,0,0,0,0]
[353,"44129 Jatiel","44129",{"$f":"((SUM(E354:X354)))+0","v":4},0,0,0,0,0,2,2,0,0,0,0,0,0,0,0,0,0,0,0,0,{"$f":"(SUM(Z354:AS354))+0","v":0},0,0,0,0,0,0,0,0,0,0,0,0,0,0,0,0,0,0,0,0]
[354,"44130 Jorcas","44130",{"$f":"((SUM(E355:X355)))+0","v":0},0,0,0,0,0,0,0,0,0,0,0,0,0,0,0,0,0,0,0,0,{"$f":"(SUM(Z355:AS355))+0","v":0},0,0,0,0,0,0,0,0,0,0,0,0,0,0,0,0,0,0,0,0]
[355,"44131 Josa","44131",{"$f":"((SUM(E356:X356)))+0","v":7},0,0,0,0,2,2,3,0,0,0,0,0,0,0,0,0,0,0,0,0,{"$f":"(SUM(Z356:AS356))+0","v":1},0,0,0,0,0,0,0,1,0,0,0,0,0,0,0,0,0,0,0,0]
[356,"44132 Lagueruela","44132",{"$f":"((SUM(E357:X357)))+0","v":3},0,0,0,0,0,1,0,0,0,0,0,2,0,0,0,0,0,0,0,0,{"$f":"(SUM(Z357:AS357))+0","v":2},0,0,0,0,0,0,1,0,1,0,0,0,0,0,0,0,0,0,0,0]
[357,"44133 Lanzuela","44133",{"$f":"((SUM(E358:X358)))+0","v":4},0,1,0,0,0,0,1,1,0,1,0,0,0,0,0,0,0,0,0,0,{"$f":"(SUM(Z358:AS358))+0","v":5},2,0,0,0,2,0,1,0,0,0,0,0,0,0,0,0,0,0,0,0]
[358,"44135 Libros","44135",{"$f":"((SUM(E359:X359)))+0","v":0},0,0,0,0,0,0,0,0,0,0,0,0,0,0,0,0,0,0,0,0,{"$f":"(SUM(Z359:AS359))+0","v":1},0,0,0,0,0,0,0,0,0,1,0,0,0,0,0,0,0,0,0,0]
[359,"44136 Lidón","44136",{"$f":"((SUM(E360:X360)))+0","v":2},0,0,0,0,0,0,0,0,0,0,0,1,1,0,0,0,0,0,0,0,{"$f":"(SUM(Z360:AS360))+0","v":2},0,0,0,0,0,0,0,0,0,0,0,1,0,0,0,0,1,0,0,0]
[360,"44137 Linares de Mora","44137",{"$f":"((SUM(E361:X361)))+0","v":21},2,2,1,1,0,1,1,3,4,1,3,0,1,1,0,0,0,0,0,0,{"$f":"(SUM(Z361:AS361))+0","v":11},1,0,1,1,0,0,1,5,1,0,0,0,1,0,0,0,0,0,0,0]
[361,"44138 Loscos","44138",{"$f":"((SUM(E362:X362)))+0","v":1},0,0,0,0,0,0,0,0,0,0,1,0,0,0,0,0,0,0,0,0,{"$f":"(SUM(Z362:AS362))+0","v":3},0,0,0,0,0,0,0,1,0,1,0,1,0,0,0,0,0,0,0,0]
[362,"44141 Lledó","44141",{"$f":"((SUM(E363:X363)))+0","v":19},3,2,0,0,0,2,0,1,2,1,1,3,1,2,1,0,0,0,0,0,{"$f":"(SUM(Z363:AS363))+0","v":11},0,0,1,0,0,0,1,0,2,0,2,1,3,0,1,0,0,0,0,0]
[363,"44142 Maicas","44142",{"$f":"((SUM(E364:X364)))+0","v":0},0,0,0,0,0,0,0,0,0,0,0,0,0,0,0,0,0,0,0,0,{"$f":"(SUM(Z364:AS364))+0","v":0},0,0,0,0,0,0,0,0,0,0,0,0,0,0,0,0,0,0,0,0]
[364,"44143 Manzanera","44143",{"$f":"((SUM(E365:X365)))+0","v":58},5,8,6,2,4,4,5,10,7,2,2,2,1,0,0,0,0,0,0,0,{"$f":"(SUM(Z365:AS365))+0","v":41},3,3,2,0,4,9,7,2,2,3,4,1,1,0,0,0,0,0,0,0]
[365,"44144 Martín del Río","44144",{"$f":"((SUM(E366:X366)))+0","v":17},1,0,2,3,0,0,3,1,5,0,1,1,0,0,0,0,0,0,0,0,{"$f":"(SUM(Z366:AS366))+0","v":15},2,2,2,2,0,0,1,1,4,0,0,0,0,1,0,0,0,0,0,0]
[366,"44145 Mas de las Matas","44145",{"$f":"((SUM(E367:X367)))+0","v":85},5,7,5,2,6,6,4,16,12,7,4,4,3,2,1,1,0,0,0,0,{"$f":"(SUM(Z367:AS367))+0","v":66},4,7,5,3,3,3,7,8,6,7,5,2,4,2,0,0,0,0,0,0]
[367,"44146 Mata de los Olmos (La)","44146",{"$f":"((SUM(E368:X368)))+0","v":57},2,5,3,3,6,11,4,7,5,5,3,3,0,0,0,0,0,0,0,0,{"$f":"(SUM(Z368:AS368))+0","v":30},2,5,2,4,2,3,1,6,2,3,0,0,0,0,0,0,0,0,0,0]
[368,"44147 Mazaleón","44147",{"$f":"((SUM(E369:X369)))+0","v":44},3,0,2,1,6,1,6,3,10,4,2,3,1,1,1,0,0,0,0,0,{"$f":"(SUM(Z369:AS369))+0","v":29},5,3,1,2,4,3,3,0,3,2,1,1,0,0,1,0,0,0,0,0]
[369,"44148 Mezquita de Jarque","44148",{"$f":"((SUM(E370:X370)))+0","v":1},0,0,0,0,0,0,0,0,0,1,0,0,0,0,0,0,0,0,0,0,{"$f":"(SUM(Z370:AS370))+0","v":3},1,0,0,0,0,0,1,0,0,0,0,0,1,0,0,0,0,0,0,0]
[370,"44149 Mirambel","44149",{"$f":"((SUM(E371:X371)))+0","v":1},0,0,0,0,0,0,0,1,0,0,0,0,0,0,0,0,0,0,0,0,{"$f":"(SUM(Z371:AS371))+0","v":0},0,0,0,0,0,0,0,0,0,0,0,0,0,0,0,0,0,0,0,0]
[371,"44150 Miravete de la Sierra","44150",{"$f":"((SUM(E372:X372)))+0","v":0},0,0,0,0,0,0,0,0,0,0,0,0,0,0,0,0,0,0,0,0,{"$f":"(SUM(Z372:AS372))+0","v":0},0,0,0,0,0,0,0,0,0,0,0,0,0,0,0,0,0,0,0,0]
[372,"44151 Molinos","44151",{"$f":"((SUM(E373:X373)))+0","v":21},2,1,0,1,2,1,5,1,2,1,3,0,2,0,0,0,0,0,0,0,{"$f":"(SUM(Z373:AS373))+0","v":19},1,2,1,2,0,1,2,2,2,2,1,3,0,0,0,0,0,0,0,0]
[373,"44152 Monforte de Moyuela","44152",{"$f":"((SUM(E374:X374)))+0","v":0},0,0,0,0,0,0,0,0,0,0,0,0,0,0,0,0,0,0,0,0,{"$f":"(SUM(Z374:AS374))+0","v":0},0,0,0,0,0,0,0,0,0,0,0,0,0,0,0,0,0,0,0,0]
[374,"44153 Monreal del Campo","44153",{"$f":"((SUM(E375:X375)))+0","v":223},20,18,20,8,17,11,19,25,26,32,11,7,6,3,0,0,0,0,0,0,{"$f":"(SUM(Z375:AS375))+0","v":192},17,18,16,13,10,20,23,21,15,14,12,5,4,3,0,0,1,0,0,0]
[375,"44154 Monroyo","44154",{"$f":"((SUM(E376:X376)))+0","v":22},2,1,0,2,2,1,4,1,2,2,2,0,2,1,0,0,0,0,0,0,{"$f":"(SUM(Z376:AS376))+0","v":16},2,0,0,0,1,3,1,4,1,0,3,1,0,0,0,0,0,0,0,0]
[376,"44155 Montalbán","44155",{"$f":"((SUM(E377:X377)))+0","v":8},0,0,1,1,0,3,0,0,0,1,2,0,0,0,0,0,0,0,0,0,{"$f":"(SUM(Z377:AS377))+0","v":18},1,0,0,1,2,1,4,2,2,2,1,1,1,0,0,0,0,0,0,0]
[377,"44156 Monteagudo del Castillo","44156",{"$f":"((SUM(E378:X378)))+0","v":1},0,0,0,0,0,0,0,0,0,0,1,0,0,0,0,0,0,0,0,0,{"$f":"(SUM(Z378:AS378))+0","v":1},0,0,0,0,0,0,0,0,0,0,1,0,0,0,0,0,0,0,0,0]
[378,"44157 Monterde de Albarracín","44157",{"$f":"((SUM(E379:X379)))+0","v":0},0,0,0,0,0,0,0,0,0,0,0,0,0,0,0,0,0,0,0,0,{"$f":"(SUM(Z379:AS379))+0","v":0},0,0,0,0,0,0,0,0,0,0,0,0,0,0,0,0,0,0,0,0]
[379,"44158 Mora de Rubielos","44158",{"$f":"((SUM(E380:X380)))+0","v":87},3,6,7,4,7,11,3,5,9,10,6,9,5,1,1,0,0,0,0,0,{"$f":"(SUM(Z380:AS380))+0","v":73},5,4,3,4,3,10,5,6,8,7,10,4,3,0,0,0,1,0,0,0]
[380,"44159 Moscardón","44159",{"$f":"((SUM(E381:X381)))+0","v":0},0,0,0,0,0,0,0,0,0,0,0,0,0,0,0,0,0,0,0,0,{"$f":"(SUM(Z381:AS381))+0","v":2},0,0,0,0,0,0,0,0,0,0,0,0,1,0,0,1,0,0,0,0]
[381,"44160 Mosqueruela","44160",{"$f":"((SUM(E382:X382)))+0","v":31},2,2,3,3,3,2,1,4,5,1,2,0,2,0,1,0,0,0,0,0,{"$f":"(SUM(Z382:AS382))+0","v":19},2,0,2,0,3,2,2,2,4,1,0,0,1,0,0,0,0,0,0,0]
[382,"44161 Muniesa","44161",{"$f":"((SUM(E383:X383)))+0","v":62},5,11,0,5,6,5,5,6,6,4,3,2,1,2,1,0,0,0,0,0,{"$f":"(SUM(Z383:AS383))+0","v":46},8,5,3,2,1,5,7,3,4,4,1,1,1,1,0,0,0,0,0,0]
[383,"44163 Noguera de Albarracín","44163",{"$f":"((SUM(E384:X384)))+0","v":3},0,0,0,1,1,0,1,0,0,0,0,0,0,0,0,0,0,0,0,0,{"$f":"(SUM(Z384:AS384))+0","v":3},0,0,0,0,0,0,0,2,0,1,0,0,0,0,0,0,0,0,0,0]
[384,"44164 Nogueras","44164",{"$f":"((SUM(E385:X385)))+0","v":0},0,0,0,0,0,0,0,0,0,0,0,0,0,0,0,0,0,0,0,0,{"$f":"(SUM(Z385:AS385))+0","v":0},0,0,0,0,0,0,0,0,0,0,0,0,0,0,0,0,0,0,0,0]
[385,"44165 Nogueruelas","44165",{"$f":"((SUM(E386:X386)))+0","v":15},1,0,0,4,2,2,0,1,0,3,2,0,0,0,0,0,0,0,0,0,{"$f":"(SUM(Z386:AS386))+0","v":10},0,1,2,0,0,0,1,2,0,4,0,0,0,0,0,0,0,0,0,0]
[386,"44167 Obón","44167",{"$f":"((SUM(E387:X387)))+0","v":1},0,0,0,0,0,0,1,0,0,0,0,0,0,0,0,0,0,0,0,0,{"$f":"(SUM(Z387:AS387))+0","v":0},0,0,0,0,0,0,0,0,0,0,0,0,0,0,0,0,0,0,0,0]
[387,"44168 Odón","44168",{"$f":"((SUM(E388:X388)))+0","v":6},2,0,0,0,0,1,0,1,0,2,0,0,0,0,0,0,0,0,0,0,{"$f":"(SUM(Z388:AS388))+0","v":8},0,2,2,0,0,1,1,1,0,0,1,0,0,0,0,0,0,0,0,0]
[388,"44169 Ojos Negros","44169",{"$f":"((SUM(E389:X389)))+0","v":5},0,1,0,1,1,0,0,0,1,0,1,0,0,0,0,0,0,0,0,0,{"$f":"(SUM(Z389:AS389))+0","v":5},0,0,0,3,0,0,0,0,0,2,0,0,0,0,0,0,0,0,0,0]
[389,"44171 Olba","44171",{"$f":"((SUM(E390:X390)))+0","v":7},0,0,0,0,0,0,0,2,1,2,0,1,0,0,1,0,0,0,0,0,{"$f":"(SUM(Z390:AS390))+0","v":5},1,1,0,0,0,0,1,0,1,0,0,0,0,1,0,0,0,0,0,0]
[390,"44172 Oliete","44172",{"$f":"((SUM(E391:X391)))+0","v":11},0,0,1,1,2,0,0,1,2,1,1,0,1,1,0,0,0,0,0,0,{"$f":"(SUM(Z391:AS391))+0","v":11},0,0,0,1,1,1,2,1,2,1,1,0,0,1,0,0,0,0,0,0]
[391,"44173 Olmos (Los)","44173",{"$f":"((SUM(E392:X392)))+0","v":9},1,1,0,0,3,2,1,0,1,0,0,0,0,0,0,0,0,0,0,0,{"$f":"(SUM(Z392:AS392))+0","v":3},0,1,0,0,0,1,0,1,0,0,0,0,0,0,0,0,0,0,0,0]
[392,"44174 Orihuela del Tremedal","44174",{"$f":"((SUM(E393:X393)))+0","v":7},0,0,0,1,0,1,0,0,0,1,0,3,1,0,0,0,0,0,0,0,{"$f":"(SUM(Z393:AS393))+0","v":9},0,0,0,0,0,0,1,1,3,1,0,1,1,0,0,0,1,0,0,0]
[393,"44175 Orrios","44175",{"$f":"((SUM(E394:X394)))+0","v":8},0,0,0,1,0,1,2,0,1,3,0,0,0,0,0,0,0,0,0,0,{"$f":"(SUM(Z394:AS394))+0","v":6},1,0,0,0,1,1,1,0,0,1,1,0,0,0,0,0,0,0,0,0]
[394,"44176 Palomar de Arroyos","44176",{"$f":"((SUM(E395:X395)))+0","v":8},2,0,0,0,1,1,1,0,2,0,1,0,0,0,0,0,0,0,0,0,{"$f":"(SUM(Z395:AS395))+0","v":2},0,0,0,0,0,1,0,0,0,0,0,1,0,0,0,0,0,0,0,0]
[395,"44177 Pancrudo","44177",{"$f":"((SUM(E396:X396)))+0","v":3},0,1,0,1,0,0,0,1,0,0,0,0,0,0,0,0,0,0,0,0,{"$f":"(SUM(Z396:AS396))+0","v":2},0,0,0,0,0,1,1,0,0,0,0,0,0,0,0,0,0,0,0,0]
[396,"44178 Parras de Castellote (Las)","44178",{"$f":"((SUM(E397:X397)))+0","v":1},0,0,0,0,0,0,0,0,0,0,0,0,0,1,0,0,0,0,0,0,{"$f":"(SUM(Z397:AS397))+0","v":4},0,0,0,0,0,0,0,1,0,0,0,0,2,1,0,0,0,0,0,0]
[397,"44179 Peñarroya de Tastavins","44179",{"$f":"((SUM(E398:X398)))+0","v":53},5,3,4,3,2,2,2,10,11,4,5,1,0,1,0,0,0,0,0,0,{"$f":"(SUM(Z398:AS398))+0","v":45},7,9,3,3,2,7,1,3,1,1,3,2,1,2,0,0,0,0,0,0]
[398,"44180 Peracense","44180",{"$f":"((SUM(E399:X399)))+0","v":0},0,0,0,0,0,0,0,0,0,0,0,0,0,0,0,0,0,0,0,0,{"$f":"(SUM(Z399:AS399))+0","v":0},0,0,0,0,0,0,0,0,0,0,0,0,0,0,0,0,0,0,0,0]
[399,"44181 Peralejos","44181",{"$f":"((SUM(E400:X400)))+0","v":1},0,0,0,0,1,0,0,0,0,0,0,0,0,0,0,0,0,0,0,0,{"$f":"(SUM(Z400:AS400))+0","v":5},0,0,0,1,1,0,0,0,1,1,1,0,0,0,0,0,0,0,0,0]
[400,"44182 Perales del Alfambra","44182",{"$f":"((SUM(E401:X401)))+0","v":19},3,1,1,0,3,2,1,2,2,1,1,2,0,0,0,0,0,0,0,0,{"$f":"(SUM(Z401:AS401))+0","v":27},7,3,0,3,1,0,3,2,2,3,0,1,0,0,1,0,1,0,0,0]
[401,"44183 Pitarque","44183",{"$f":"((SUM(E402:X402)))+0","v":2},0,0,0,0,1,0,0,0,0,0,1,0,0,0,0,0,0,0,0,0,{"$f":"(SUM(Z402:AS402))+0","v":0},0,0,0,0,0,0,0,0,0,0,0,0,0,0,0,0,0,0,0,0]
[402,"44184 Plou","44184",{"$f":"((SUM(E403:X403)))+0","v":2},0,1,0,0,0,0,0,0,0,1,0,0,0,0,0,0,0,0,0,0,{"$f":"(SUM(Z403:AS403))+0","v":2},0,0,0,0,0,1,0,0,0,0,0,0,0,1,0,0,0,0,0,0]
[403,"44185 Pobo (El)","44185",{"$f":"((SUM(E404:X404)))+0","v":6},1,0,0,0,0,0,0,0,0,3,1,1,0,0,0,0,0,0,0,0,{"$f":"(SUM(Z404:AS404))+0","v":3},0,0,1,0,0,0,0,0,1,0,1,0,0,0,0,0,0,0,0,0]
[404,"44187 Portellada (La)","44187",{"$f":"((SUM(E405:X405)))+0","v":8},0,1,2,0,0,0,0,1,3,0,0,0,0,0,0,1,0,0,0,0,{"$f":"(SUM(Z405:AS405))+0","v":8},1,1,1,0,0,0,2,1,1,0,0,0,0,1,0,0,0,0,0,0]
[405,"44189 Pozondón","44189",{"$f":"((SUM(E406:X406)))+0","v":0},0,0,0,0,0,0,0,0,0,0,0,0,0,0,0,0,0,0,0,0,{"$f":"(SUM(Z406:AS406))+0","v":0},0,0,0,0,0,0,0,0,0,0,0,0,0,0,0,0,0,0,0,0]
[406,"44190 Pozuel del Campo","44190",{"$f":"((SUM(E407:X407)))+0","v":0},0,0,0,0,0,0,0,0,0,0,0,0,0,0,0,0,0,0,0,0,{"$f":"(SUM(Z407:AS407))+0","v":0},0,0,0,0,0,0,0,0,0,0,0,0,0,0,0,0,0,0,0,0]
[407,"44191 Puebla de Híjar (La)","44191",{"$f":"((SUM(E408:X408)))+0","v":35},3,5,1,1,1,2,1,3,7,4,3,2,2,0,0,0,0,0,0,0,{"$f":"(SUM(Z408:AS408))+0","v":34},2,3,3,4,1,3,4,0,6,2,2,0,1,0,2,0,1,0,0,0]
[408,"44192 Puebla de Valverde (La)","44192",{"$f":"((SUM(E409:X409)))+0","v":24},0,0,1,3,1,2,1,3,5,2,6,0,0,0,0,0,0,0,0,0,{"$f":"(SUM(Z409:AS409))+0","v":25},0,1,4,3,3,1,1,2,5,2,2,1,0,0,0,0,0,0,0,0]
[409,"44193 Puertomingalvo","44193",{"$f":"((SUM(E410:X410)))+0","v":16},0,2,0,0,2,0,4,0,4,1,1,1,1,0,0,0,0,0,0,0,{"$f":"(SUM(Z410:AS410))+0","v":16},2,1,1,0,1,3,2,1,0,2,0,1,1,0,1,0,0,0,0,0]
[410,"44194 Ráfales","44194",{"$f":"((SUM(E411:X411)))+0","v":18},2,2,2,1,1,1,0,0,2,2,1,3,0,0,1,0,0,0,0,0,{"$f":"(SUM(Z411:AS411))+0","v":12},0,4,1,1,0,0,1,1,3,0,0,0,0,1,0,0,0,0,0,0]
[411,"44195 Rillo","44195",{"$f":"((SUM(E412:X412)))+0","v":3},0,0,0,1,1,0,0,0,0,1,0,0,0,0,0,0,0,0,0,0,{"$f":"(SUM(Z412:AS412))+0","v":1},0,0,0,0,0,0,0,0,0,1,0,0,0,0,0,0,0,0,0,0]
[412,"44196 Riodeva","44196",{"$f":"((SUM(E413:X413)))+0","v":5},0,0,1,0,0,1,0,1,1,0,1,0,0,0,0,0,0,0,0,0,{"$f":"(SUM(Z413:AS413))+0","v":6},2,1,0,0,1,0,0,0,1,1,0,0,0,0,0,0,0,0,0,0]
[413,"44197 Ródenas","44197",{"$f":"((SUM(E414:X414)))+0","v":1},0,0,0,0,0,0,0,0,1,0,0,0,0,0,0,0,0,0,0,0,{"$f":"(SUM(Z414:AS414))+0","v":1},0,0,0,0,0,0,0,0,1,0,0,0,0,0,0,0,0,0,0,0]
[414,"44198 Royuela","44198",{"$f":"((SUM(E415:X415)))+0","v":1},0,0,0,1,0,0,0,0,0,0,0,0,0,0,0,0,0,0,0,0,{"$f":"(SUM(Z415:AS415))+0","v":2},0,0,0,0,0,0,0,0,0,1,0,0,0,0,1,0,0,0,0,0]
[415,"44199 Rubiales","44199",{"$f":"((SUM(E416:X416)))+0","v":0},0,0,0,0,0,0,0,0,0,0,0,0,0,0,0,0,0,0,0,0,{"$f":"(SUM(Z416:AS416))+0","v":2},0,0,0,0,0,0,0,0,0,0,0,1,0,0,0,1,0,0,0,0]
[416,"44200 Rubielos de la Cérida","44200",{"$f":"((SUM(E417:X417)))+0","v":0},0,0,0,0,0,0,0,0,0,0,0,0,0,0,0,0,0,0,0,0,{"$f":"(SUM(Z417:AS417))+0","v":0},0,0,0,0,0,0,0,0,0,0,0,0,0,0,0,0,0,0,0,0]
[417,"44201 Rubielos de Mora","44201",{"$f":"((SUM(E418:X418)))+0","v":33},1,3,2,1,1,2,3,2,5,2,6,1,3,1,0,0,0,0,0,0,{"$f":"(SUM(Z418:AS418))+0","v":32},2,1,0,0,1,3,5,3,5,4,2,3,2,1,0,0,0,0,0,0]
[418,"44203 Salcedillo","44203",{"$f":"((SUM(E419:X419)))+0","v":2},0,0,0,0,0,0,1,0,0,0,0,1,0,0,0,0,0,0,0,0,{"$f":"(SUM(Z419:AS419))+0","v":0},0,0,0,0,0,0,0,0,0,0,0,0,0,0,0,0,0,0,0,0]
[419,"44204 Saldón","44204",{"$f":"((SUM(E420:X420)))+0","v":0},0,0,0,0,0,0,0,0,0,0,0,0,0,0,0,0,0,0,0,0,{"$f":"(SUM(Z420:AS420))+0","v":0},0,0,0,0,0,0,0,0,0,0,0,0,0,0,0,0,0,0,0,0]
[420,"44205 Samper de Calanda","44205",{"$f":"((SUM(E421:X421)))+0","v":26},4,2,0,0,2,2,0,1,6,6,0,1,1,1,0,0,0,0,0,0,{"$f":"(SUM(Z421:AS421))+0","v":22},3,1,1,1,3,2,3,1,3,1,2,0,0,0,0,0,0,1,0,0]
[421,"44206 San Agustín","44206",{"$f":"((SUM(E422:X422)))+0","v":4},0,0,0,0,0,0,0,1,2,0,0,0,0,0,0,1,0,0,0,0,{"$f":"(SUM(Z422:AS422))+0","v":2},0,0,0,0,0,0,0,0,0,0,0,0,1,1,0,0,0,0,0,0]
[422,"44207 San Martín del Río","44207",{"$f":"((SUM(E423:X423)))+0","v":1},0,0,0,0,0,0,0,1,0,0,0,0,0,0,0,0,0,0,0,0,{"$f":"(SUM(Z423:AS423))+0","v":1},0,0,0,0,0,1,0,0,0,0,0,0,0,0,0,0,0,0,0,0]
[423,"44208 Santa Cruz de Nogueras","44208",{"$f":"((SUM(E424:X424)))+0","v":0},0,0,0,0,0,0,0,0,0,0,0,0,0,0,0,0,0,0,0,0,{"$f":"(SUM(Z424:AS424))+0","v":1},0,0,0,0,1,0,0,0,0,0,0,0,0,0,0,0,0,0,0,0]
[424,"44209 Santa Eulalia","44209",{"$f":"((SUM(E425:X425)))+0","v":98},9,7,7,3,11,5,15,7,9,7,7,6,4,0,0,0,1,0,0,0,{"$f":"(SUM(Z425:AS425))+0","v":78},7,5,6,6,6,7,13,2,10,5,5,2,3,1,0,0,0,0,0,0]
[425,"44210 Sarrión","44210",{"$f":"((SUM(E426:X426)))+0","v":145},12,18,7,5,11,11,7,18,23,14,7,7,4,0,1,0,0,0,0,0,{"$f":"(SUM(Z426:AS426))+0","v":128},8,23,6,6,2,15,15,15,10,13,8,2,0,3,1,0,1,0,0,0]
[426,"44211 Segura de los Baños","44211",{"$f":"((SUM(E427:X427)))+0","v":0},0,0,0,0,0,0,0,0,0,0,0,0,0,0,0,0,0,0,0,0,{"$f":"(SUM(Z427:AS427))+0","v":1},0,0,0,0,0,0,0,0,0,0,0,1,0,0,0,0,0,0,0,0]
[427,"44212 Seno","44212",{"$f":"((SUM(E428:X428)))+0","v":2},0,0,0,0,0,0,1,0,0,0,0,1,0,0,0,0,0,0,0,0,{"$f":"(SUM(Z428:AS428))+0","v":0},0,0,0,0,0,0,0,0,0,0,0,0,0,0,0,0,0,0,0,0]
[428,"44213 Singra","44213",{"$f":"((SUM(E429:X429)))+0","v":6},0,0,0,0,1,0,0,1,0,0,4,0,0,0,0,0,0,0,0,0,{"$f":"(SUM(Z429:AS429))+0","v":4},0,0,0,0,1,2,0,0,0,0,1,0,0,0,0,0,0,0,0,0]
[429,"44215 Terriente","44215",{"$f":"((SUM(E430:X430)))+0","v":7},0,0,0,1,2,1,0,0,0,0,2,1,0,0,0,0,0,0,0,0,{"$f":"(SUM(Z430:AS430))+0","v":2},0,0,0,0,0,0,0,0,0,1,1,0,0,0,0,0,0,0,0,0]
[430,"44216 Teruel","44216",{"$f":"((SUM(E431:X431)))+0","v":1799},100,123,86,109,170,175,168,184,185,178,130,87,58,25,12,5,1,1,2,0,{"$f":"(SUM(Z431:AS431))+0","v":1833},109,96,90,100,153,166,171,198,204,185,148,65,63,48,15,7,8,5,1,1]
[431,"44217 Toril y Masegoso","44217",{"$f":"((SUM(E432:X432)))+0","v":2},0,0,0,0,0,0,0,0,1,1,0,0,0,0,0,0,0,0,0,0,{"$f":"(SUM(Z432:AS432))+0","v":0},0,0,0,0,0,0,0,0,0,0,0,0,0,0,0,0,0,0,0,0]
[432,"44218 Tormón","44218",{"$f":"((SUM(E433:X433)))+0","v":0},0,0,0,0,0,0,0,0,0,0,0,0,0,0,0,0,0,0,0,0,{"$f":"(SUM(Z433:AS433))+0","v":0},0,0,0,0,0,0,0,0,0,0,0,0,0,0,0,0,0,0,0,0]
[433,"44219 Tornos","44219",{"$f":"((SUM(E434:X434)))+0","v":9},1,0,0,0,1,2,0,0,1,3,1,0,0,0,0,0,0,0,0,0,{"$f":"(SUM(Z434:AS434))+0","v":11},2,0,0,2,2,1,0,0,0,2,1,0,0,0,0,0,0,0,1,0]
[434,"44220 Torralba de los Sisones","44220",{"$f":"((SUM(E435:X435)))+0","v":17},1,0,1,2,2,0,3,0,2,2,1,3,0,0,0,0,0,0,0,0,{"$f":"(SUM(Z435:AS435))+0","v":8},0,0,0,1,2,0,1,0,1,2,1,0,0,0,0,0,0,0,0,0]
[435,"44221 Torrecilla de Alcañiz","44221",{"$f":"((SUM(E436:X436)))+0","v":6},0,1,0,0,0,0,1,1,2,0,0,0,1,0,0,0,0,0,0,0,{"$f":"(SUM(Z436:AS436))+0","v":11},0,0,0,0,2,2,1,2,2,1,1,0,0,0,0,0,0,0,0,0]
[436,"44222 Torrecilla del Rebollar","44222",{"$f":"((SUM(E437:X437)))+0","v":1},0,0,0,0,0,0,0,1,0,0,0,0,0,0,0,0,0,0,0,0,{"$f":"(SUM(Z437:AS437))+0","v":0},0,0,0,0,0,0,0,0,0,0,0,0,0,0,0,0,0,0,0,0]
[437,"44223 Torre de Arcas","44223",{"$f":"((SUM(E438:X438)))+0","v":5},0,0,0,1,0,0,1,2,0,1,0,0,0,0,0,0,0,0,0,0,{"$f":"(SUM(Z438:AS438))+0","v":6},0,0,0,1,0,1,1,1,1,1,0,0,0,0,0,0,0,0,0,0]
[438,"44224 Torre de las Arcas","44224",{"$f":"((SUM(E439:X439)))+0","v":1},0,0,0,0,0,0,0,0,0,1,0,0,0,0,0,0,0,0,0,0,{"$f":"(SUM(Z439:AS439))+0","v":3},0,0,0,0,1,0,0,0,0,2,0,0,0,0,0,0,0,0,0,0]
[439,"44225 Torre del Compte","44225",{"$f":"((SUM(E440:X440)))+0","v":10},1,0,0,0,1,2,0,0,0,1,2,1,1,0,1,0,0,0,0,0,{"$f":"(SUM(Z440:AS440))+0","v":5},0,0,0,0,1,0,0,0,0,0,1,1,0,1,1,0,0,0,0,0]
[440,"44226 Torrelacárcel","44226",{"$f":"((SUM(E441:X441)))+0","v":9},1,1,0,1,0,0,0,1,1,1,0,0,1,1,1,0,0,0,0,0,{"$f":"(SUM(Z441:AS441))+0","v":11},0,1,0,1,0,2,2,0,1,2,0,0,2,0,0,0,0,0,0,0]
[441,"44227 Torre los Negros","44227",{"$f":"((SUM(E442:X442)))+0","v":5},0,0,0,0,2,1,0,0,0,1,0,1,0,0,0,0,0,0,0,0,{"$f":"(SUM(Z442:AS442))+0","v":8},0,0,1,0,1,1,1,0,1,2,1,0,0,0,0,0,0,0,0,0]
[442,"44228 Torremocha de Jiloca","44228",{"$f":"((SUM(E443:X443)))+0","v":9},0,0,0,2,2,0,2,0,1,0,2,0,0,0,0,0,0,0,0,0,{"$f":"(SUM(Z443:AS443))+0","v":4},0,0,0,1,0,0,0,0,2,1,0,0,0,0,0,0,0,0,0,0]
[443,"44229 Torres de Albarracín","44229",{"$f":"((SUM(E444:X444)))+0","v":9},0,1,1,1,1,0,0,3,2,0,0,0,0,0,0,0,0,0,0,0,{"$f":"(SUM(Z444:AS444))+0","v":6},0,1,1,0,0,0,2,1,1,0,0,0,0,0,0,0,0,0,0,0]
[444,"44230 Torrevelilla","44230",{"$f":"((SUM(E445:X445)))+0","v":7},0,1,0,1,2,0,0,0,0,1,1,1,0,0,0,0,0,0,0,0,{"$f":"(SUM(Z445:AS445))+0","v":7},0,1,1,0,0,1,0,0,1,1,0,2,0,0,0,0,0,0,0,0]
[445,"44231 Torrijas","44231",{"$f":"((SUM(E446:X446)))+0","v":1},0,0,0,0,0,0,0,0,1,0,0,0,0,0,0,0,0,0,0,0,{"$f":"(SUM(Z446:AS446))+0","v":0},0,0,0,0,0,0,0,0,0,0,0,0,0,0,0,0,0,0,0,0]
[446,"44232 Torrijo del Campo","44232",{"$f":"((SUM(E447:X447)))+0","v":42},1,2,6,3,2,3,5,2,7,2,3,4,1,1,0,0,0,0,0,0,{"$f":"(SUM(Z447:AS447))+0","v":45},4,2,2,3,7,1,5,6,6,2,3,1,2,1,0,0,0,0,0,0]
[447,"44234 Tramacastiel","44234",{"$f":"((SUM(E448:X448)))+0","v":0},0,0,0,0,0,0,0,0,0,0,0,0,0,0,0,0,0,0,0,0,{"$f":"(SUM(Z448:AS448))+0","v":0},0,0,0,0,0,0,0,0,0,0,0,0,0,0,0,0,0,0,0,0]
[448,"44235 Tramacastilla","44235",{"$f":"((SUM(E449:X449)))+0","v":6},0,1,0,0,1,0,1,1,1,0,0,1,0,0,0,0,0,0,0,0,{"$f":"(SUM(Z449:AS449))+0","v":6},1,1,0,0,0,0,1,0,1,0,0,1,0,1,0,0,0,0,0,0]
[449,"44236 Tronchón","44236",{"$f":"((SUM(E450:X450)))+0","v":0},0,0,0,0,0,0,0,0,0,0,0,0,0,0,0,0,0,0,0,0,{"$f":"(SUM(Z450:AS450))+0","v":1},0,0,0,0,0,0,0,1,0,0,0,0,0,0,0,0,0,0,0,0]
[450,"44237 Urrea de Gaén","44237",{"$f":"((SUM(E451:X451)))+0","v":22},0,1,1,3,2,4,0,5,0,2,3,0,1,0,0,0,0,0,0,0,{"$f":"(SUM(Z451:AS451))+0","v":22},1,2,1,0,2,1,4,3,0,2,1,1,2,1,1,0,0,0,0,0]
[451,"44238 Utrillas","44238",{"$f":"((SUM(E452:X452)))+0","v":173},8,15,11,5,22,17,13,15,19,12,13,12,5,6,0,0,0,0,0,0,{"$f":"(SUM(Z452:AS452))+0","v":144},9,10,5,8,7,24,17,14,10,10,14,8,4,2,1,0,1,0,0,0]
[452,"44239 Valacloche","44239",{"$f":"((SUM(E453:X453)))+0","v":0},0,0,0,0,0,0,0,0,0,0,0,0,0,0,0,0,0,0,0,0,{"$f":"(SUM(Z453:AS453))+0","v":0},0,0,0,0,0,0,0,0,0,0,0,0,0,0,0,0,0,0,0,0]
[453,"44240 Valbona","44240",{"$f":"((SUM(E454:X454)))+0","v":8},0,0,0,0,1,1,0,2,1,2,0,0,0,0,0,0,1,0,0,0,{"$f":"(SUM(Z454:AS454))+0","v":7},0,1,0,1,0,1,1,1,0,0,1,0,1,0,0,0,0,0,0,0]
[454,"44241 Valdealgorfa","44241",{"$f":"((SUM(E455:X455)))+0","v":21},2,2,1,0,2,1,1,1,1,4,4,0,1,0,1,0,0,0,0,0,{"$f":"(SUM(Z455:AS455))+0","v":18},0,0,1,0,4,0,0,2,6,2,1,0,2,0,0,0,0,0,0,0]
[455,"44243 Valdecuenca","44243",{"$f":"((SUM(E456:X456)))+0","v":4},0,0,0,0,0,1,0,1,1,1,0,0,0,0,0,0,0,0,0,0,{"$f":"(SUM(Z456:AS456))+0","v":1},0,0,0,0,0,0,0,0,0,0,1,0,0,0,0,0,0,0,0,0]
[456,"44244 Valdelinares","44244",{"$f":"((SUM(E457:X457)))+0","v":2},0,0,0,0,0,0,2,0,0,0,0,0,0,0,0,0,0,0,0,0,{"$f":"(SUM(Z457:AS457))+0","v":3},1,0,0,0,1,1,0,0,0,0,0,0,0,0,0,0,0,0,0,0]
[457,"44245 Valdeltormo","44245",{"$f":"((SUM(E458:X458)))+0","v":8},1,0,1,0,0,0,1,1,1,1,0,1,1,0,0,0,0,0,0,0,{"$f":"(SUM(Z458:AS458))+0","v":13},2,2,1,0,2,0,2,1,0,0,0,1,1,0,1,0,0,0,0,0]
[458,"44246 Valderrobres","44246",{"$f":"((SUM(E459:X459)))+0","v":318},20,15,15,22,23,22,22,38,47,41,20,11,10,3,5,3,1,0,0,0,{"$f":"(SUM(Z459:AS459))+0","v":235},11,21,8,11,17,17,27,31,21,23,15,10,7,8,4,2,2,0,0,0]
[459,"44247 Valjunquera","44247",{"$f":"((SUM(E460:X460)))+0","v":3},0,0,0,0,0,0,0,1,0,2,0,0,0,0,0,0,0,0,0,0,{"$f":"(SUM(Z460:AS460))+0","v":6},1,0,0,0,1,0,2,0,0,1,0,0,0,0,1,0,0,0,0,0]
[460,"44249 Vallecillo (El)","44249",{"$f":"((SUM(E461:X461)))+0","v":1},0,0,0,0,0,0,0,1,0,0,0,0,0,0,0,0,0,0,0,0,{"$f":"(SUM(Z461:AS461))+0","v":2},0,0,0,0,0,0,0,1,0,0,0,0,1,0,0,0,0,0,0,0]
[461,"44250 Veguillas de la Sierra","44250",{"$f":"((SUM(E462:X462)))+0","v":0},0,0,0,0,0,0,0,0,0,0,0,0,0,0,0,0,0,0,0,0,{"$f":"(SUM(Z462:AS462))+0","v":0},0,0,0,0,0,0,0,0,0,0,0,0,0,0,0,0,0,0,0,0]
[462,"44251 Villafranca del Campo","44251",{"$f":"((SUM(E463:X463)))+0","v":14},0,0,1,1,1,2,0,2,0,3,2,2,0,0,0,0,0,0,0,0,{"$f":"(SUM(Z463:AS463))+0","v":12},1,1,2,0,0,1,3,1,0,1,1,0,1,0,0,0,0,0,0,0]
[463,"44252 Villahermosa del Campo","44252",{"$f":"((SUM(E464:X464)))+0","v":3},0,0,0,0,0,1,1,0,0,0,0,1,0,0,0,0,0,0,0,0,{"$f":"(SUM(Z464:AS464))+0","v":0},0,0,0,0,0,0,0,0,0,0,0,0,0,0,0,0,0,0,0,0]
[464,"44256 Villanueva del Rebollar de la Sierra","44256",{"$f":"((SUM(E465:X465)))+0","v":2},0,0,0,0,0,0,1,0,0,1,0,0,0,0,0,0,0,0,0,0,{"$f":"(SUM(Z465:AS465))+0","v":0},0,0,0,0,0,0,0,0,0,0,0,0,0,0,0,0,0,0,0,0]
[465,"44257 Villar del Cobo","44257",{"$f":"((SUM(E466:X466)))+0","v":4},0,0,0,0,1,0,1,0,0,1,0,0,0,1,0,0,0,0,0,0,{"$f":"(SUM(Z466:AS466))+0","v":1},0,0,0,0,0,0,0,0,0,0,1,0,0,0,0,0,0,0,0,0]
[466,"44258 Villar del Salz","44258",{"$f":"((SUM(E467:X467)))+0","v":0},0,0,0,0,0,0,0,0,0,0,0,0,0,0,0,0,0,0,0,0,{"$f":"(SUM(Z467:AS467))+0","v":0},0,0,0,0,0,0,0,0,0,0,0,0,0,0,0,0,0,0,0,0]
[467,"44260 Villarluengo","44260",{"$f":"((SUM(E468:X468)))+0","v":15},0,4,0,1,0,1,3,1,1,3,1,0,0,0,0,0,0,0,0,0,{"$f":"(SUM(Z468:AS468))+0","v":11},0,1,1,0,0,2,4,1,1,0,0,1,0,0,0,0,0,0,0,0]
[468,"44261 Villarquemado","44261",{"$f":"((SUM(E469:X469)))+0","v":24},0,1,1,3,3,3,1,2,1,3,1,2,2,0,1,0,0,0,0,0,{"$f":"(SUM(Z469:AS469))+0","v":17},0,0,0,0,2,1,0,3,2,5,1,1,0,1,0,0,1,0,0,0]
[469,"44262 Villarroya de los Pinares","44262",{"$f":"((SUM(E470:X470)))+0","v":8},1,1,1,0,0,0,2,1,1,0,1,0,0,0,0,0,0,0,0,0,{"$f":"(SUM(Z470:AS470))+0","v":3},0,0,0,0,1,0,1,0,0,0,1,0,0,0,0,0,0,0,0,0]
[470,"44263 Villastar","44263",{"$f":"((SUM(E471:X471)))+0","v":25},2,0,1,1,0,1,3,4,6,1,1,1,0,3,0,1,0,0,0,0,{"$f":"(SUM(Z471:AS471))+0","v":28},1,4,0,1,2,3,3,7,1,2,1,1,0,1,0,1,0,0,0,0]
[471,"44264 Villel","44264",{"$f":"((SUM(E472:X472)))+0","v":39},2,2,2,1,6,3,4,2,5,4,1,4,1,0,0,2,0,0,0,0,{"$f":"(SUM(Z472:AS472))+0","v":32},4,2,2,2,2,4,5,2,5,1,2,0,1,0,0,0,0,0,0,0]
[472,"44265 Vinaceite","44265",{"$f":"((SUM(E473:X473)))+0","v":20},1,1,0,3,2,2,3,2,1,1,2,0,2,0,0,0,0,0,0,0,{"$f":"(SUM(Z473:AS473))+0","v":15},2,0,0,1,1,1,4,1,2,2,0,1,0,0,0,0,0,0,0,0]
[473,"44266 Visiedo","44266",{"$f":"((SUM(E474:X474)))+0","v":7},1,1,1,0,1,0,0,0,1,1,0,1,0,0,0,0,0,0,0,0,{"$f":"(SUM(Z474:AS474))+0","v":10},2,0,1,2,1,0,1,0,1,1,0,0,1,0,0,0,0,0,0,0]
[474,"44267 Vivel del Río Martín","44267",{"$f":"((SUM(E475:X475)))+0","v":2},0,0,0,0,1,0,0,0,0,0,1,0,0,0,0,0,0,0,0,0,{"$f":"(SUM(Z475:AS475))+0","v":1},0,0,0,0,0,0,0,0,0,0,1,0,0,0,0,0,0,0,0,0]
[475,"44268 Zoma (La)","44268",{"$f":"((SUM(E476:X476)))+0","v":0},0,0,0,0,0,0,0,0,0,0,0,0,0,0,0,0,0,0,0,0,{"$f":"(SUM(Z476:AS476))+0","v":0},0,0,0,0,0,0,0,0,0,0,0,0,0,0,0,0,0,0,0,0]
[476,"50001 Abanto","50001",{"$f":"((SUM(E477:X477)))+0","v":1},0,1,0,0,0,0,0,0,0,0,0,0,0,0,0,0,0,0,0,0,{"$f":"(SUM(Z477:AS477))+0","v":2},0,0,0,0,0,0,0,0,0,0,0,2,0,0,0,0,0,0,0,0]
[477,"50002 Acered","50002",{"$f":"((SUM(E478:X478)))+0","v":7},0,0,0,0,1,0,1,0,1,2,1,1,0,0,0,0,0,0,0,0,{"$f":"(SUM(Z478:AS478))+0","v":14},2,1,0,0,1,3,0,1,1,2,3,0,0,0,0,0,0,0,0,0]
[478,"50003 Agón","50003",{"$f":"((SUM(E479:X479)))+0","v":6},1,0,0,1,0,0,0,0,0,1,1,0,0,0,2,0,0,0,0,0,{"$f":"(SUM(Z479:AS479))+0","v":7},1,0,0,0,2,0,1,0,1,1,0,0,0,1,0,0,0,0,0,0]
[479,"50004 Aguarón","50004",{"$f":"((SUM(E480:X480)))+0","v":67},1,4,1,4,7,6,4,12,5,9,8,3,2,0,0,1,0,0,0,0,{"$f":"(SUM(Z480:AS480))+0","v":55},7,2,3,2,3,4,4,3,7,4,7,2,2,4,0,0,0,0,1,0]
[480,"50005 Aguilón","50005",{"$f":"((SUM(E481:X481)))+0","v":4},0,1,1,0,0,0,0,1,0,1,0,0,0,0,0,0,0,0,0,0,{"$f":"(SUM(Z481:AS481))+0","v":5},0,0,2,0,0,0,1,0,1,1,0,0,0,0,0,0,0,0,0,0]
[481,"50006 Ainzón","50006",{"$f":"((SUM(E482:X482)))+0","v":34},4,1,0,2,1,3,1,7,6,4,2,2,0,1,0,0,0,0,0,0,{"$f":"(SUM(Z482:AS482))+0","v":27},4,2,3,1,1,0,4,4,1,1,2,1,2,0,0,1,0,0,0,0]
[482,"50007 Aladrén","50007",{"$f":"((SUM(E483:X483)))+0","v":1},0,0,0,0,0,0,0,0,0,1,0,0,0,0,0,0,0,0,0,0,{"$f":"(SUM(Z483:AS483))+0","v":1},0,0,0,0,0,0,0,0,0,0,0,0,1,0,0,0,0,0,0,0]
[483,"50008 Alagón","50008",{"$f":"((SUM(E484:X484)))+0","v":486},26,23,20,20,29,38,46,55,55,64,45,36,16,7,3,2,1,0,0,0,{"$f":"(SUM(Z484:AS484))+0","v":467},16,38,27,20,34,38,52,50,49,43,45,25,9,8,4,5,3,1,0,0]
[484,"50009 Alarba","50009",{"$f":"((SUM(E485:X485)))+0","v":10},0,2,0,0,0,0,0,4,3,1,0,0,0,0,0,0,0,0,0,0,{"$f":"(SUM(Z485:AS485))+0","v":2},0,0,0,0,0,0,1,1,0,0,0,0,0,0,0,0,0,0,0,0]
[485,"50010 Alberite de San Juan","50010",{"$f":"((SUM(E486:X486)))+0","v":1},0,0,0,0,0,0,0,0,0,1,0,0,0,0,0,0,0,0,0,0,{"$f":"(SUM(Z486:AS486))+0","v":2},0,0,0,0,0,2,0,0,0,0,0,0,0,0,0,0,0,0,0,0]
[486,"50011 Albeta","50011",{"$f":"((SUM(E487:X487)))+0","v":0},0,0,0,0,0,0,0,0,0,0,0,0,0,0,0,0,0,0,0,0,{"$f":"(SUM(Z487:AS487))+0","v":1},0,0,0,0,0,0,0,0,1,0,0,0,0,0,0,0,0,0,0,0]
[487,"50012 Alborge","50012",{"$f":"((SUM(E488:X488)))+0","v":2},0,0,0,0,0,1,1,0,0,0,0,0,0,0,0,0,0,0,0,0,{"$f":"(SUM(Z488:AS488))+0","v":2},0,0,0,0,0,0,0,1,0,1,0,0,0,0,0,0,0,0,0,0]
[488,"50013 Alcalá de Ebro","50013",{"$f":"((SUM(E489:X489)))+0","v":2},0,0,0,0,0,0,0,0,1,1,0,0,0,0,0,0,0,0,0,0,{"$f":"(SUM(Z489:AS489))+0","v":6},0,0,0,0,1,0,0,1,0,2,1,1,0,0,0,0,0,0,0,0]
[489,"50014 Alcalá de Moncayo","50014",{"$f":"((SUM(E490:X490)))+0","v":5},0,0,0,3,0,0,0,0,0,1,0,1,0,0,0,0,0,0,0,0,{"$f":"(SUM(Z490:AS490))+0","v":8},0,0,1,0,0,1,1,2,2,1,0,0,0,0,0,0,0,0,0,0]
[490,"50015 Alconchel de Ariza","50015",{"$f":"((SUM(E491:X491)))+0","v":1},0,0,0,0,0,0,0,0,0,0,0,1,0,0,0,0,0,0,0,0,{"$f":"(SUM(Z491:AS491))+0","v":2},0,0,0,0,0,0,0,0,0,0,0,1,0,0,1,0,0,0,0,0]
[491,"50016 Aldehuela de Liestos","50016",{"$f":"((SUM(E492:X492)))+0","v":0},0,0,0,0,0,0,0,0,0,0,0,0,0,0,0,0,0,0,0,0,{"$f":"(SUM(Z492:AS492))+0","v":0},0,0,0,0,0,0,0,0,0,0,0,0,0,0,0,0,0,0,0,0]
[492,"50017 Alfajarín","50017",{"$f":"((SUM(E493:X493)))+0","v":68},2,1,4,5,3,3,8,7,4,10,3,4,7,3,2,1,0,1,0,0,{"$f":"(SUM(Z493:AS493))+0","v":94},1,3,5,6,7,4,16,7,10,13,7,3,5,5,1,0,1,0,0,0]
[493,"50018 Alfamén","50018",{"$f":"((SUM(E494:X494)))+0","v":246},13,14,23,8,20,12,26,19,38,26,27,6,7,7,0,0,0,0,0,0,{"$f":"(SUM(Z494:AS494))+0","v":228},14,16,12,11,13,24,27,22,24,15,24,16,8,2,0,0,0,0,0,0]
[494,"50019 Alforque","50019",{"$f":"((SUM(E495:X495)))+0","v":0},0,0,0,0,0,0,0,0,0,0,0,0,0,0,0,0,0,0,0,0,{"$f":"(SUM(Z495:AS495))+0","v":0},0,0,0,0,0,0,0,0,0,0,0,0,0,0,0,0,0,0,0,0]
[495,"50020 Alhama de Aragón","50020",{"$f":"((SUM(E496:X496)))+0","v":53},3,5,2,4,6,2,1,10,7,5,2,6,0,0,0,0,0,0,0,0,{"$f":"(SUM(Z496:AS496))+0","v":46},2,3,2,2,5,1,6,3,4,7,3,4,2,0,1,1,0,0,0,0]
[496,"50021 Almochuel","50021",{"$f":"((SUM(E497:X497)))+0","v":0},0,0,0,0,0,0,0,0,0,0,0,0,0,0,0,0,0,0,0,0,{"$f":"(SUM(Z497:AS497))+0","v":0},0,0,0,0,0,0,0,0,0,0,0,0,0,0,0,0,0,0,0,0]
[497,"50022 Almolda (La)","50022",{"$f":"((SUM(E498:X498)))+0","v":6},0,0,0,0,1,3,0,0,0,2,0,0,0,0,0,0,0,0,0,0,{"$f":"(SUM(Z498:AS498))+0","v":7},0,0,0,0,2,1,0,1,0,1,1,1,0,0,0,0,0,0,0,0]
[498,"50023 Almonacid de la Cuba","50023",{"$f":"((SUM(E499:X499)))+0","v":13},2,0,0,3,2,1,1,1,1,2,0,0,0,0,0,0,0,0,0,0,{"$f":"(SUM(Z499:AS499))+0","v":12},0,2,0,1,0,1,0,4,2,1,0,0,1,0,0,0,0,0,0,0]
[499,"50024 Almonacid de la Sierra","50024",{"$f":"((SUM(E500:X500)))+0","v":121},11,8,13,3,8,9,14,14,16,9,8,4,4,0,0,0,0,0,0,0,{"$f":"(SUM(Z500:AS500))+0","v":72},9,3,4,3,3,8,9,13,8,10,1,0,0,0,0,0,1,0,0,0]
[500,"50025 Almunia de Doña Godina (La)","50025",{"$f":"((SUM(E501:X501)))+0","v":1391},94,76,69,52,96,91,129,152,163,164,154,75,41,30,4,0,1,0,0,0,{"$f":"(SUM(Z501:AS501))+0","v":1138},86,71,57,51,66,86,114,124,151,108,114,50,33,12,7,5,3,0,0,0]
[501,"50026 Alpartir","50026",{"$f":"((SUM(E502:X502)))+0","v":74},6,4,4,3,4,6,8,10,6,5,10,4,2,2,0,0,0,0,0,0,{"$f":"(SUM(Z502:AS502))+0","v":55},2,3,1,2,2,6,4,11,8,3,5,2,2,1,2,0,0,1,0,0]
[502,"50027 Ambel","50027",{"$f":"((SUM(E503:X503)))+0","v":5},0,0,0,1,0,2,0,0,1,0,1,0,0,0,0,0,0,0,0,0,{"$f":"(SUM(Z503:AS503))+0","v":6},0,0,0,0,0,0,0,1,2,2,0,0,0,0,1,0,0,0,0,0]
[503,"50028 Anento","50028",{"$f":"((SUM(E504:X504)))+0","v":9},0,0,0,0,3,2,0,0,1,1,2,0,0,0,0,0,0,0,0,0,{"$f":"(SUM(Z504:AS504))+0","v":2},0,0,0,0,0,0,1,0,0,0,0,0,0,1,0,0,0,0,0,0]
[504,"50029 Aniñón","50029",{"$f":"((SUM(E505:X505)))+0","v":23},1,1,0,1,3,1,2,2,1,6,4,1,0,0,0,0,0,0,0,0,{"$f":"(SUM(Z505:AS505))+0","v":31},1,0,0,1,5,3,3,1,4,3,4,2,3,0,1,0,0,0,0,0]
[505,"50030 Añón de Moncayo","50030",{"$f":"((SUM(E506:X506)))+0","v":7},0,0,0,1,1,0,0,1,1,0,0,2,1,0,0,0,0,0,0,0,{"$f":"(SUM(Z506:AS506))+0","v":7},0,0,0,0,1,0,0,1,1,0,2,1,0,0,1,0,0,0,0,0]
[506,"50031 Aranda de Moncayo","50031",{"$f":"((SUM(E507:X507)))+0","v":3},0,1,0,0,0,0,0,1,1,0,0,0,0,0,0,0,0,0,0,0,{"$f":"(SUM(Z507:AS507))+0","v":3},0,1,0,0,0,1,0,1,0,0,0,0,0,0,0,0,0,0,0,0]
[507,"50032 Arándiga","50032",{"$f":"((SUM(E508:X508)))+0","v":19},4,0,0,0,0,3,2,2,2,1,3,1,1,0,0,0,0,0,0,0,{"$f":"(SUM(Z508:AS508))+0","v":11},0,0,0,1,1,0,3,1,1,2,1,0,1,0,0,0,0,0,0,0]
[508,"50033 Ardisa","50033",{"$f":"((SUM(E509:X509)))+0","v":0},0,0,0,0,0,0,0,0,0,0,0,0,0,0,0,0,0,0,0,0,{"$f":"(SUM(Z509:AS509))+0","v":3},0,0,0,0,0,0,0,0,0,1,1,1,0,0,0,0,0,0,0,0]
[509,"50034 Ariza","50034",{"$f":"((SUM(E510:X510)))+0","v":103},4,6,7,5,4,10,8,10,16,8,9,8,4,3,0,0,1,0,0,0,{"$f":"(SUM(Z510:AS510))+0","v":75},5,4,4,2,4,4,8,12,10,7,4,4,3,2,1,0,1,0,0,0]
[510,"50035 Artieda","50035",{"$f":"((SUM(E511:X511)))+0","v":0},0,0,0,0,0,0,0,0,0,0,0,0,0,0,0,0,0,0,0,0,{"$f":"(SUM(Z511:AS511))+0","v":3},0,0,0,0,0,0,3,0,0,0,0,0,0,0,0,0,0,0,0,0]
[511,"50036 Asín","50036",{"$f":"((SUM(E512:X512)))+0","v":0},0,0,0,0,0,0,0,0,0,0,0,0,0,0,0,0,0,0,0,0,{"$f":"(SUM(Z512:AS512))+0","v":0},0,0,0,0,0,0,0,0,0,0,0,0,0,0,0,0,0,0,0,0]
[512,"50037 Atea","50037",{"$f":"((SUM(E513:X513)))+0","v":5},0,1,0,2,0,0,0,0,2,0,0,0,0,0,0,0,0,0,0,0,{"$f":"(SUM(Z513:AS513))+0","v":4},0,1,0,0,0,1,0,1,0,0,1,0,0,0,0,0,0,0,0,0]
[513,"50038 Ateca","50038",{"$f":"((SUM(E514:X514)))+0","v":102},1,5,8,12,8,10,7,7,10,10,17,5,2,0,0,0,0,0,0,0,{"$f":"(SUM(Z514:AS514))+0","v":79},4,5,4,5,9,6,5,6,9,12,3,1,4,4,1,0,0,1,0,0]
[514,"50039 Azuara","50039",{"$f":"((SUM(E515:X515)))+0","v":19},0,3,3,2,2,2,1,3,0,2,1,0,0,0,0,0,0,0,0,0,{"$f":"(SUM(Z515:AS515))+0","v":22},3,3,0,1,3,2,1,2,2,3,0,1,0,1,0,0,0,0,0,0]
[515,"50040 Badules","50040",{"$f":"((SUM(E516:X516)))+0","v":1},0,0,0,0,0,0,1,0,0,0,0,0,0,0,0,0,0,0,0,0,{"$f":"(SUM(Z516:AS516))+0","v":1},0,0,0,0,0,0,1,0,0,0,0,0,0,0,0,0,0,0,0,0]
[516,"50041 Bagüés","50041",{"$f":"((SUM(E517:X517)))+0","v":0},0,0,0,0,0,0,0,0,0,0,0,0,0,0,0,0,0,0,0,0,{"$f":"(SUM(Z517:AS517))+0","v":0},0,0,0,0,0,0,0,0,0,0,0,0,0,0,0,0,0,0,0,0]
[517,"50042 Balconchán","50042",{"$f":"((SUM(E518:X518)))+0","v":0},0,0,0,0,0,0,0,0,0,0,0,0,0,0,0,0,0,0,0,0,{"$f":"(SUM(Z518:AS518))+0","v":0},0,0,0,0,0,0,0,0,0,0,0,0,0,0,0,0,0,0,0,0]
[518,"50043 Bárboles","50043",{"$f":"((SUM(E519:X519)))+0","v":9},0,0,0,1,1,2,1,0,2,1,1,0,0,0,0,0,0,0,0,0,{"$f":"(SUM(Z519:AS519))+0","v":9},0,1,0,0,0,1,0,3,2,1,0,1,0,0,0,0,0,0,0,0]
[519,"50044 Bardallur","50044",{"$f":"((SUM(E520:X520)))+0","v":7},0,0,0,0,2,0,0,3,0,0,0,0,0,2,0,0,0,0,0,0,{"$f":"(SUM(Z520:AS520))+0","v":3},0,0,0,0,0,1,0,0,0,1,0,0,1,0,0,0,0,0,0,0]
[520,"50045 Belchite","50045",{"$f":"((SUM(E521:X521)))+0","v":72},1,6,5,7,5,6,3,7,9,8,9,1,3,1,1,0,0,0,0,0,{"$f":"(SUM(Z521:AS521))+0","v":81},6,5,0,5,10,5,6,12,12,7,4,3,2,3,1,0,0,0,0,0]
[521,"50046 Belmonte de Gracián","50046",{"$f":"((SUM(E522:X522)))+0","v":13},0,1,1,3,2,1,0,0,1,1,1,0,1,1,0,0,0,0,0,0,{"$f":"(SUM(Z522:AS522))+0","v":8},1,0,0,1,1,0,0,1,1,3,0,0,0,0,0,0,0,0,0,0]
[522,"50047 Berdejo","50047",{"$f":"((SUM(E523:X523)))+0","v":0},0,0,0,0,0,0,0,0,0,0,0,0,0,0,0,0,0,0,0,0,{"$f":"(SUM(Z523:AS523))+0","v":0},0,0,0,0,0,0,0,0,0,0,0,0,0,0,0,0,0,0,0,0]
[523,"50048 Berrueco","50048",{"$f":"((SUM(E524:X524)))+0","v":2},0,0,0,0,0,0,0,0,0,0,1,0,0,0,0,0,1,0,0,0,{"$f":"(SUM(Z524:AS524))+0","v":1},0,0,0,0,0,0,0,0,0,0,0,0,0,0,0,1,0,0,0,0]
[524,"50050 Bijuesca","50050",{"$f":"((SUM(E525:X525)))+0","v":3},0,0,0,0,0,0,0,1,1,1,0,0,0,0,0,0,0,0,0,0,{"$f":"(SUM(Z525:AS525))+0","v":2},0,0,0,0,0,0,1,0,0,0,0,0,1,0,0,0,0,0,0,0]
[525,"50051 Biota","50051",{"$f":"((SUM(E526:X526)))+0","v":24},0,2,0,1,4,1,1,2,2,4,3,0,3,0,1,0,0,0,0,0,{"$f":"(SUM(Z526:AS526))+0","v":17},1,0,0,0,2,1,0,2,1,2,5,1,1,1,0,0,0,0,0,0]
[526,"50052 Bisimbre","50052",{"$f":"((SUM(E527:X527)))+0","v":1},0,0,0,0,0,0,0,0,0,0,1,0,0,0,0,0,0,0,0,0,{"$f":"(SUM(Z527:AS527))+0","v":5},0,0,0,0,2,1,1,0,0,0,1,0,0,0,0,0,0,0,0,0]
[527,"50053 Boquiñeni","50053",{"$f":"((SUM(E528:X528)))+0","v":44},0,2,1,3,1,7,3,1,9,3,8,3,1,2,0,0,0,0,0,0,{"$f":"(SUM(Z528:AS528))+0","v":41},0,0,3,4,4,2,3,4,3,4,7,2,4,1,0,0,0,0,0,0]
[528,"50054 Bordalba","50054",{"$f":"((SUM(E529:X529)))+0","v":0},0,0,0,0,0,0,0,0,0,0,0,0,0,0,0,0,0,0,0,0,{"$f":"(SUM(Z529:AS529))+0","v":0},0,0,0,0,0,0,0,0,0,0,0,0,0,0,0,0,0,0,0,0]
[529,"50055 Borja","50055",{"$f":"((SUM(E530:X530)))+0","v":357},19,33,30,19,16,32,35,46,32,38,25,19,7,3,2,1,0,0,0,0,{"$f":"(SUM(Z530:AS530))+0","v":278},19,20,21,15,14,24,32,37,33,32,11,8,6,1,1,2,1,1,0,0]
[530,"50056 Botorrita","50056",{"$f":"((SUM(E531:X531)))+0","v":14},0,2,0,0,2,1,3,0,3,0,2,0,0,0,1,0,0,0,0,0,{"$f":"(SUM(Z531:AS531))+0","v":27},1,1,0,2,0,3,1,3,4,2,3,3,2,1,0,1,0,0,0,0]
[531,"50057 Brea de Aragón","50057",{"$f":"((SUM(E532:X532)))+0","v":26},2,2,2,2,2,1,2,1,2,4,3,1,1,0,0,1,0,0,0,0,{"$f":"(SUM(Z532:AS532))+0","v":37},2,1,1,3,3,3,3,3,3,5,3,0,4,2,1,0,0,0,0,0]
[532,"50058 Bubierca","50058",{"$f":"((SUM(E533:X533)))+0","v":0},0,0,0,0,0,0,0,0,0,0,0,0,0,0,0,0,0,0,0,0,{"$f":"(SUM(Z533:AS533))+0","v":0},0,0,0,0,0,0,0,0,0,0,0,0,0,0,0,0,0,0,0,0]
[533,"50059 Bujaraloz","50059",{"$f":"((SUM(E534:X534)))+0","v":53},1,5,3,3,1,3,6,8,7,6,4,1,2,2,1,0,0,0,0,0,{"$f":"(SUM(Z534:AS534))+0","v":55},4,1,3,3,2,7,6,6,9,3,2,2,3,3,1,0,0,0,0,0]
[534,"50060 Bulbuente","50060",{"$f":"((SUM(E535:X535)))+0","v":24},1,2,4,2,3,1,3,1,5,0,0,1,0,1,0,0,0,0,0,0,{"$f":"(SUM(Z535:AS535))+0","v":23},1,0,2,2,1,1,2,3,2,2,0,1,5,0,0,1,0,0,0,0]
[535,"50061 Bureta","50061",{"$f":"((SUM(E536:X536)))+0","v":11},0,0,0,0,1,1,0,1,4,2,1,1,0,0,0,0,0,0,0,0,{"$f":"(SUM(Z536:AS536))+0","v":1},0,0,0,0,0,0,0,0,1,0,0,0,0,0,0,0,0,0,0,0]
[536,"50062 Burgo de Ebro (El)","50062",{"$f":"((SUM(E537:X537)))+0","v":96},5,6,9,3,7,9,3,14,15,10,6,2,0,6,0,0,0,1,0,0,{"$f":"(SUM(Z537:AS537))+0","v":118},6,11,7,4,9,6,12,13,18,9,4,5,9,3,2,0,0,0,0,0]
[537,"50063 Buste (El)","50063",{"$f":"((SUM(E538:X538)))+0","v":2},0,0,0,1,1,0,0,0,0,0,0,0,0,0,0,0,0,0,0,0,{"$f":"(SUM(Z538:AS538))+0","v":1},0,0,0,0,0,0,0,0,1,0,0,0,0,0,0,0,0,0,0,0]
[538,"50064 Cabañas de Ebro","50064",{"$f":"((SUM(E539:X539)))+0","v":17},1,0,0,0,1,0,0,3,3,1,3,2,3,0,0,0,0,0,0,0,{"$f":"(SUM(Z539:AS539))+0","v":10},1,2,0,1,0,2,0,1,1,0,1,1,0,0,0,0,0,0,0,0]
[539,"50065 Cabolafuente","50065",{"$f":"((SUM(E540:X540)))+0","v":0},0,0,0,0,0,0,0,0,0,0,0,0,0,0,0,0,0,0,0,0,{"$f":"(SUM(Z540:AS540))+0","v":0},0,0,0,0,0,0,0,0,0,0,0,0,0,0,0,0,0,0,0,0]
[540,"50066 Cadrete","50066",{"$f":"((SUM(E541:X541)))+0","v":258},14,12,23,21,11,16,27,23,45,23,17,13,5,5,1,1,1,0,0,0,{"$f":"(SUM(Z541:AS541))+0","v":282},11,20,13,11,10,21,28,41,38,39,19,6,11,5,7,2,0,0,0,0]
[541,"50067 Calatayud","50067",{"$f":"((SUM(E542:X542)))+0","v":1725},81,98,85,94,103,128,149,179,229,203,157,82,75,31,16,10,3,2,0,0,{"$f":"(SUM(Z542:AS542))+0","v":1756},77,79,95,89,108,130,159,210,220,192,173,75,63,45,29,10,2,0,0,0]
[542,"50068 Calatorao","50068",{"$f":"((SUM(E543:X543)))+0","v":368},24,20,17,24,16,17,33,26,56,53,40,21,13,7,1,0,0,0,0,0,{"$f":"(SUM(Z543:AS543))+0","v":302},21,28,18,8,15,24,28,40,34,30,15,20,12,7,0,1,1,0,0,0]
[543,"50069 Calcena","50069",{"$f":"((SUM(E544:X544)))+0","v":1},0,0,0,0,0,0,0,1,0,0,0,0,0,0,0,0,0,0,0,0,{"$f":"(SUM(Z544:AS544))+0","v":5},0,1,0,0,0,0,1,1,1,0,0,0,1,0,0,0,0,0,0,0]
[544,"50070 Calmarza","50070",{"$f":"((SUM(E545:X545)))+0","v":0},0,0,0,0,0,0,0,0,0,0,0,0,0,0,0,0,0,0,0,0,{"$f":"(SUM(Z545:AS545))+0","v":1},0,0,0,0,0,0,0,1,0,0,0,0,0,0,0,0,0,0,0,0]
[545,"50071 Campillo de Aragón","50071",{"$f":"((SUM(E546:X546)))+0","v":1},0,0,0,0,0,0,0,0,0,0,1,0,0,0,0,0,0,0,0,0,{"$f":"(SUM(Z546:AS546))+0","v":6},1,1,0,0,0,1,1,0,1,1,0,0,0,0,0,0,0,0,0,0]
[546,"50072 Carenas","50072",{"$f":"((SUM(E547:X547)))+0","v":4},0,0,0,0,0,0,0,0,1,1,0,0,1,0,1,0,0,0,0,0,{"$f":"(SUM(Z547:AS547))+0","v":7},0,0,0,0,1,0,0,2,2,0,1,1,0,0,0,0,0,0,0,0]
[547,"50073 Cariñena","50073",{"$f":"((SUM(E548:X548)))+0","v":471},28,33,20,24,33,36,44,37,53,66,50,21,14,10,0,0,2,0,0,0,{"$f":"(SUM(Z548:AS548))+0","v":448},32,28,33,33,27,35,46,53,54,51,28,11,10,6,1,0,0,0,0,0]
[548,"50074 Caspe","50074",{"$f":"((SUM(E549:X549)))+0","v":1693},100,116,87,104,162,155,161,149,184,154,121,96,58,28,12,3,2,1,0,0,{"$f":"(SUM(Z549:AS549))+0","v":1199},107,86,82,79,91,104,129,120,106,107,78,45,29,17,9,6,2,1,0,1]
[549,"50075 Castejón de Alarba","50075",{"$f":"((SUM(E550:X550)))+0","v":2},0,0,0,0,0,0,0,0,0,0,1,1,0,0,0,0,0,0,0,0,{"$f":"(SUM(Z550:AS550))+0","v":3},0,0,0,0,0,0,0,0,1,1,1,0,0,0,0,0,0,0,0,0]
[550,"50076 Castejón de las Armas","50076",{"$f":"((SUM(E551:X551)))+0","v":4},0,0,0,0,0,0,0,0,0,2,0,1,1,0,0,0,0,0,0,0,{"$f":"(SUM(Z551:AS551))+0","v":6},0,0,0,1,1,0,0,1,1,0,0,1,0,1,0,0,0,0,0,0]
[551,"50077 Castejón de Valdejasa","50077",{"$f":"((SUM(E552:X552)))+0","v":2},0,0,0,0,1,0,0,0,0,0,1,0,0,0,0,0,0,0,0,0,{"$f":"(SUM(Z552:AS552))+0","v":2},0,0,0,0,0,1,0,0,0,0,1,0,0,0,0,0,0,0,0,0]
[552,"50078 Castiliscar","50078",{"$f":"((SUM(E553:X553)))+0","v":8},0,2,0,0,0,0,1,2,1,1,1,0,0,0,0,0,0,0,0,0,{"$f":"(SUM(Z553:AS553))+0","v":6},0,0,0,0,1,1,2,0,0,1,1,0,0,0,0,0,0,0,0,0]
[553,"50079 Cervera de la Cañada","50079",{"$f":"((SUM(E554:X554)))+0","v":11},1,0,1,0,0,3,0,1,1,1,2,1,0,0,0,0,0,0,0,0,{"$f":"(SUM(Z554:AS554))+0","v":12},2,0,1,1,1,1,3,1,1,1,0,0,0,0,0,0,0,0,0,0]
[554,"50080 Cerveruela","50080",{"$f":"((SUM(E555:X555)))+0","v":1},0,0,0,0,0,0,0,0,0,0,1,0,0,0,0,0,0,0,0,0,{"$f":"(SUM(Z555:AS555))+0","v":0},0,0,0,0,0,0,0,0,0,0,0,0,0,0,0,0,0,0,0,0]
[555,"50081 Cetina","50081",{"$f":"((SUM(E556:X556)))+0","v":16},1,2,0,1,2,3,1,1,1,1,2,1,0,0,0,0,0,0,0,0,{"$f":"(SUM(Z556:AS556))+0","v":27},0,1,1,1,0,3,5,4,3,1,5,2,1,0,0,0,0,0,0,0]
[556,"50082 Cimballa","50082",{"$f":"((SUM(E557:X557)))+0","v":4},1,0,0,0,0,1,0,2,0,0,0,0,0,0,0,0,0,0,0,0,{"$f":"(SUM(Z557:AS557))+0","v":9},0,3,0,0,0,3,1,1,0,0,0,1,0,0,0,0,0,0,0,0]
[557,"50083 Cinco Olivas","50083",{"$f":"((SUM(E558:X558)))+0","v":5},0,0,0,0,0,0,1,1,1,0,0,1,0,1,0,0,0,0,0,0,{"$f":"(SUM(Z558:AS558))+0","v":6},0,0,0,1,1,0,1,1,1,0,0,0,1,0,0,0,0,0,0,0]
[558,"50084 Clarés de Ribota","50084",{"$f":"((SUM(E559:X559)))+0","v":0},0,0,0,0,0,0,0,0,0,0,0,0,0,0,0,0,0,0,0,0,{"$f":"(SUM(Z559:AS559))+0","v":2},0,0,0,0,0,0,0,0,1,1,0,0,0,0,0,0,0,0,0,0]
[559,"50085 Codo","50085",{"$f":"((SUM(E560:X560)))+0","v":0},0,0,0,0,0,0,0,0,0,0,0,0,0,0,0,0,0,0,0,0,{"$f":"(SUM(Z560:AS560))+0","v":5},0,0,0,0,0,2,1,2,0,0,0,0,0,0,0,0,0,0,0,0]
[560,"50086 Codos","50086",{"$f":"((SUM(E561:X561)))+0","v":24},0,1,5,4,1,2,1,3,6,1,0,0,0,0,0,0,0,0,0,0,{"$f":"(SUM(Z561:AS561))+0","v":13},0,1,0,1,1,1,1,1,2,1,3,1,0,0,0,0,0,0,0,0]
[561,"50087 Contamina","50087",{"$f":"((SUM(E562:X562)))+0","v":3},0,0,0,0,0,0,0,1,0,1,0,0,0,1,0,0,0,0,0,0,{"$f":"(SUM(Z562:AS562))+0","v":2},0,0,0,0,0,0,0,0,1,0,1,0,0,0,0,0,0,0,0,0]
[562,"50088 Cosuenda","50088",{"$f":"((SUM(E563:X563)))+0","v":14},2,0,0,0,1,2,1,3,1,0,1,2,1,0,0,0,0,0,0,0,{"$f":"(SUM(Z563:AS563))+0","v":20},0,0,1,0,3,1,1,6,1,3,1,1,2,0,0,0,0,0,0,0]
[563,"50089 Cuarte de Huerva","50089",{"$f":"((SUM(E564:X564)))+0","v":677},46,46,47,31,45,39,72,88,96,62,49,26,16,6,1,3,3,1,0,0,{"$f":"(SUM(Z564:AS564))+0","v":820},41,62,43,26,50,71,87,105,120,72,47,29,28,11,15,10,2,0,1,0]
[564,"50090 Cubel","50090",{"$f":"((SUM(E565:X565)))+0","v":0},0,0,0,0,0,0,0,0,0,0,0,0,0,0,0,0,0,0,0,0,{"$f":"(SUM(Z565:AS565))+0","v":1},0,0,0,0,0,0,0,0,0,0,0,0,0,1,0,0,0,0,0,0]
[565,"50091 Cuerlas (Las)","50091",{"$f":"((SUM(E566:X566)))+0","v":0},0,0,0,0,0,0,0,0,0,0,0,0,0,0,0,0,0,0,0,0,{"$f":"(SUM(Z566:AS566))+0","v":0},0,0,0,0,0,0,0,0,0,0,0,0,0,0,0,0,0,0,0,0]
[566,"50092 Chiprana","50092",{"$f":"((SUM(E567:X567)))+0","v":106},3,2,4,7,9,8,9,9,19,18,11,2,3,2,0,0,0,0,0,0,{"$f":"(SUM(Z567:AS567))+0","v":87},10,7,5,6,4,7,7,10,9,11,6,2,3,0,0,0,0,0,0,0]
[567,"50093 Chodes","50093",{"$f":"((SUM(E568:X568)))+0","v":4},0,0,0,1,0,0,1,0,0,1,1,0,0,0,0,0,0,0,0,0,{"$f":"(SUM(Z568:AS568))+0","v":2},0,0,0,0,0,0,0,1,0,0,1,0,0,0,0,0,0,0,0,0]
[568,"50094 Daroca","50094",{"$f":"((SUM(E569:X569)))+0","v":135},9,3,9,8,4,17,17,14,13,18,13,5,3,2,0,0,0,0,0,0,{"$f":"(SUM(Z569:AS569))+0","v":129},7,4,6,8,9,13,17,12,11,15,13,4,3,6,0,0,1,0,0,0]
[569,"50095 Ejea de los Caballeros","50095",{"$f":"((SUM(E570:X570)))+0","v":1746},80,85,86,86,147,185,174,191,211,203,141,83,42,19,10,2,1,0,0,0,{"$f":"(SUM(Z570:AS570))+0","v":1228},92,81,75,70,73,127,133,149,136,96,77,51,37,16,7,4,3,1,0,0]
[570,"50096 Embid de Ariza","50096",{"$f":"((SUM(E571:X571)))+0","v":0},0,0,0,0,0,0,0,0,0,0,0,0,0,0,0,0,0,0,0,0,{"$f":"(SUM(Z571:AS571))+0","v":0},0,0,0,0,0,0,0,0,0,0,0,0,0,0,0,0,0,0,0,0]
[571,"50098 Encinacorba","50098",{"$f":"((SUM(E572:X572)))+0","v":7},0,0,0,0,1,0,0,0,1,1,1,1,2,0,0,0,0,0,0,0,{"$f":"(SUM(Z572:AS572))+0","v":10},2,0,0,0,0,1,2,1,0,0,1,2,1,0,0,0,0,0,0,0]
[572,"50099 Épila","50099",{"$f":"((SUM(E573:X573)))+0","v":409},27,26,15,20,30,34,38,45,55,42,41,17,15,1,2,1,0,0,0,0,{"$f":"(SUM(Z573:AS573))+0","v":331},27,18,13,15,19,33,45,41,42,26,30,10,4,3,2,1,1,1,0,0]
[573,"50100 Erla","50100",{"$f":"((SUM(E574:X574)))+0","v":14},1,0,2,0,1,2,4,0,2,1,1,0,0,0,0,0,0,0,0,0,{"$f":"(SUM(Z574:AS574))+0","v":13},3,1,1,0,1,2,2,1,0,1,0,0,1,0,0,0,0,0,0,0]
[574,"50101 Escatrón","50101",{"$f":"((SUM(E575:X575)))+0","v":80},1,5,4,3,8,5,5,12,11,9,4,3,5,1,1,1,2,0,0,0,{"$f":"(SUM(Z575:AS575))+0","v":80},11,14,2,6,1,6,7,8,9,10,3,2,0,1,0,0,0,0,0,0]
[575,"50102 Fabara","50102",{"$f":"((SUM(E576:X576)))+0","v":129},5,6,5,5,14,11,20,15,18,9,14,4,1,2,0,0,0,0,0,0,{"$f":"(SUM(Z576:AS576))+0","v":73},5,3,4,4,4,4,6,12,11,8,5,3,2,2,0,0,0,0,0,0]
[576,"50104 Farlete","50104",{"$f":"((SUM(E577:X577)))+0","v":13},1,1,2,1,0,0,0,2,2,0,0,1,0,2,0,1,0,0,0,0,{"$f":"(SUM(Z577:AS577))+0","v":10},0,1,0,0,2,0,1,2,0,1,0,2,1,0,0,0,0,0,0,0]
[577,"50105 Fayón","50105",{"$f":"((SUM(E578:X578)))+0","v":51},1,2,2,0,7,9,3,2,4,9,4,2,3,0,2,0,1,0,0,0,{"$f":"(SUM(Z578:AS578))+0","v":21},1,0,2,0,1,0,4,3,1,1,3,1,2,0,2,0,0,0,0,0]
[578,"50106 Fayos (Los)","50106",{"$f":"((SUM(E579:X579)))+0","v":2},0,0,0,0,0,0,0,0,1,0,0,0,1,0,0,0,0,0,0,0,{"$f":"(SUM(Z579:AS579))+0","v":2},0,0,0,1,0,0,0,0,0,0,0,0,1,0,0,0,0,0,0,0]
[579,"50107 Figueruelas","50107",{"$f":"((SUM(E580:X580)))+0","v":42},1,3,3,1,0,2,10,5,1,8,1,3,3,0,0,0,1,0,0,0,{"$f":"(SUM(Z580:AS580))+0","v":44},2,6,2,0,2,2,5,8,3,3,7,1,1,0,0,1,1,0,0,0]
[580,"50108 Fombuena","50108",{"$f":"((SUM(E581:X581)))+0","v":3},0,0,0,0,1,0,0,1,1,0,0,0,0,0,0,0,0,0,0,0,{"$f":"(SUM(Z581:AS581))+0","v":4},2,0,0,0,1,0,0,0,1,0,0,0,0,0,0,0,0,0,0,0]
[581,"50109 Frago (El)","50109",{"$f":"((SUM(E582:X582)))+0","v":2},0,0,0,0,0,0,0,0,1,0,1,0,0,0,0,0,0,0,0,0,{"$f":"(SUM(Z582:AS582))+0","v":2},0,0,0,0,0,0,0,0,0,1,0,0,0,0,1,0,0,0,0,0]
[582,"50110 Frasno (El)","50110",{"$f":"((SUM(E583:X583)))+0","v":19},1,1,1,1,2,2,4,0,3,3,0,1,0,0,0,0,0,0,0,0,{"$f":"(SUM(Z583:AS583))+0","v":13},1,0,0,1,1,0,1,1,3,3,1,0,0,1,0,0,0,0,0,0]
[583,"50111 Fréscano","50111",{"$f":"((SUM(E584:X584)))+0","v":6},0,1,0,0,0,1,0,0,1,0,0,2,1,0,0,0,0,0,0,0,{"$f":"(SUM(Z584:AS584))+0","v":3},0,1,0,0,0,0,0,1,0,1,0,0,0,0,0,0,0,0,0,0]
[584,"50113 Fuendejalón","50113",{"$f":"((SUM(E585:X585)))+0","v":80},3,2,3,5,10,14,8,9,6,10,7,2,0,1,0,0,0,0,0,0,{"$f":"(SUM(Z585:AS585))+0","v":62},4,1,1,7,9,4,5,6,5,8,8,2,0,2,0,0,0,0,0,0]
[585,"50114 Fuendetodos","50114",{"$f":"((SUM(E586:X586)))+0","v":8},0,0,3,1,1,0,1,0,0,1,0,0,1,0,0,0,0,0,0,0,{"$f":"(SUM(Z586:AS586))+0","v":3},0,0,0,0,0,0,1,1,0,1,0,0,0,0,0,0,0,0,0,0]
[586,"50115 Fuentes de Ebro","50115",{"$f":"((SUM(E587:X587)))+0","v":324},22,20,20,15,32,23,17,20,35,36,41,18,11,10,1,2,0,1,0,0,{"$f":"(SUM(Z587:AS587))+0","v":280},12,19,11,15,20,21,19,35,43,38,18,13,8,5,0,3,0,0,0,0]
[587,"50116 Fuentes de Jiloca","50116",{"$f":"((SUM(E588:X588)))+0","v":29},1,0,2,3,5,1,2,3,2,3,3,1,1,1,0,0,1,0,0,0,{"$f":"(SUM(Z588:AS588))+0","v":21},0,1,1,0,2,1,2,2,3,1,3,1,4,0,0,0,0,0,0,0]
[588,"50117 Gallocanta","50117",{"$f":"((SUM(E589:X589)))+0","v":3},0,0,0,0,1,1,0,0,0,0,1,0,0,0,0,0,0,0,0,0,{"$f":"(SUM(Z589:AS589))+0","v":1},0,0,0,0,0,0,0,0,0,1,0,0,0,0,0,0,0,0,0,0]
[589,"50118 Gallur","50118",{"$f":"((SUM(E590:X590)))+0","v":105},6,5,9,9,4,9,10,9,13,11,8,4,6,1,1,0,0,0,0,0,{"$f":"(SUM(Z590:AS590))+0","v":93},3,5,7,4,3,10,7,14,14,5,9,8,1,1,1,1,0,0,0,0]
[590,"50119 Gelsa","50119",{"$f":"((SUM(E591:X591)))+0","v":30},0,2,4,1,2,1,5,2,5,1,3,2,1,1,0,0,0,0,0,0,{"$f":"(SUM(Z591:AS591))+0","v":42},3,5,3,1,2,3,2,9,6,2,2,1,0,1,1,0,0,1,0,0]
[591,"50120 Godojos","50120",{"$f":"((SUM(E592:X592)))+0","v":0},0,0,0,0,0,0,0,0,0,0,0,0,0,0,0,0,0,0,0,0,{"$f":"(SUM(Z592:AS592))+0","v":0},0,0,0,0,0,0,0,0,0,0,0,0,0,0,0,0,0,0,0,0]
[592,"50121 Gotor","50121",{"$f":"((SUM(E593:X593)))+0","v":12},0,1,0,0,0,0,1,2,0,3,2,2,1,0,0,0,0,0,0,0,{"$f":"(SUM(Z593:AS593))+0","v":7},1,0,0,0,0,0,4,1,0,0,0,1,0,0,0,0,0,0,0,0]
[593,"50122 Grisel","50122",{"$f":"((SUM(E594:X594)))+0","v":2},0,0,0,1,0,0,0,0,0,1,0,0,0,0,0,0,0,0,0,0,{"$f":"(SUM(Z594:AS594))+0","v":1},0,0,0,0,0,0,0,1,0,0,0,0,0,0,0,0,0,0,0,0]
[594,"50123 Grisén","50123",{"$f":"((SUM(E595:X595)))+0","v":58},4,4,2,2,5,3,5,8,8,3,6,3,3,1,1,0,0,0,0,0,{"$f":"(SUM(Z595:AS595))+0","v":39},0,3,2,1,1,3,3,6,3,4,4,4,2,2,0,1,0,0,0,0]
[595,"50124 Herrera de los Navarros","50124",{"$f":"((SUM(E596:X596)))+0","v":62},8,11,3,2,2,5,5,3,8,9,2,1,3,0,0,0,0,0,0,0,{"$f":"(SUM(Z596:AS596))+0","v":52},4,7,3,4,6,4,4,2,8,4,3,3,0,0,0,0,0,0,0,0]
[596,"50125 Ibdes","50125",{"$f":"((SUM(E597:X597)))+0","v":11},0,2,1,2,1,0,0,1,1,2,0,0,0,1,0,0,0,0,0,0,{"$f":"(SUM(Z597:AS597))+0","v":15},1,2,0,0,0,0,1,4,4,0,0,2,1,0,0,0,0,0,0,0]
[597,"50126 Illueca","50126",{"$f":"((SUM(E598:X598)))+0","v":163},1,4,7,14,10,10,11,13,28,25,22,6,6,3,3,0,0,0,0,0,{"$f":"(SUM(Z598:AS598))+0","v":162},2,6,8,9,7,13,13,21,22,24,17,7,5,5,2,0,0,1,0,0]
[598,"50128 Isuerre","50128",{"$f":"((SUM(E599:X599)))+0","v":1},0,0,0,0,0,0,0,0,0,1,0,0,0,0,0,0,0,0,0,0,{"$f":"(SUM(Z599:AS599))+0","v":0},0,0,0,0,0,0,0,0,0,0,0,0,0,0,0,0,0,0,0,0]
[599,"50129 Jaraba","50129",{"$f":"((SUM(E600:X600)))+0","v":10},0,0,1,0,0,2,2,0,0,3,0,1,0,1,0,0,0,0,0,0,{"$f":"(SUM(Z600:AS600))+0","v":16},1,0,0,1,0,1,2,0,3,1,2,3,2,0,0,0,0,0,0,0]
[600,"50130 Jarque de Moncayo","50130",{"$f":"((SUM(E601:X601)))+0","v":15},1,0,0,0,3,1,0,3,1,3,0,2,1,0,0,0,0,0,0,0,{"$f":"(SUM(Z601:AS601))+0","v":17},0,1,0,1,2,1,1,2,3,3,0,2,0,0,1,0,0,0,0,0]
[601,"50131 Jaulín","50131",{"$f":"((SUM(E602:X602)))+0","v":14},0,1,2,2,0,1,1,2,0,1,4,0,0,0,0,0,0,0,0,0,{"$f":"(SUM(Z602:AS602))+0","v":18},0,1,0,1,0,1,1,2,2,3,2,4,1,0,0,0,0,0,0,0]
[602,"50132 Joyosa (La)","50132",{"$f":"((SUM(E603:X603)))+0","v":46},3,1,1,1,4,3,9,4,2,2,8,3,3,1,0,0,1,0,0,0,{"$f":"(SUM(Z603:AS603))+0","v":52},4,4,2,1,5,3,5,5,5,4,6,8,0,0,0,0,0,0,0,0]
[603,"50133 Lagata","50133",{"$f":"((SUM(E604:X604)))+0","v":1},0,0,0,0,0,0,0,0,1,0,0,0,0,0,0,0,0,0,0,0,{"$f":"(SUM(Z604:AS604))+0","v":4},0,1,0,0,0,0,1,0,1,0,1,0,0,0,0,0,0,0,0,0]
[604,"50134 Langa del Castillo","50134",{"$f":"((SUM(E605:X605)))+0","v":1},0,0,0,0,1,0,0,0,0,0,0,0,0,0,0,0,0,0,0,0,{"$f":"(SUM(Z605:AS605))+0","v":0},0,0,0,0,0,0,0,0,0,0,0,0,0,0,0,0,0,0,0,0]
[605,"50135 Layana","50135",{"$f":"((SUM(E606:X606)))+0","v":6},0,0,2,1,0,0,0,1,1,0,0,0,0,0,1,0,0,0,0,0,{"$f":"(SUM(Z606:AS606))+0","v":2},0,1,0,0,0,0,0,1,0,0,0,0,0,0,0,0,0,0,0,0]
[606,"50136 Lécera","50136",{"$f":"((SUM(E607:X607)))+0","v":38},2,3,1,4,4,2,2,4,8,4,1,1,0,0,0,1,1,0,0,0,{"$f":"(SUM(Z607:AS607))+0","v":27},3,4,0,0,3,1,7,1,4,0,1,1,1,0,1,0,0,0,0,0]
[607,"50137 Leciñena","50137",{"$f":"((SUM(E608:X608)))+0","v":18},1,1,0,2,0,2,1,2,3,0,4,2,0,0,0,0,0,0,0,0,{"$f":"(SUM(Z608:AS608))+0","v":20},0,2,1,2,0,1,0,4,2,4,1,1,1,1,0,0,0,0,0,0]
[608,"50138 Lechón","50138",{"$f":"((SUM(E609:X609)))+0","v":0},0,0,0,0,0,0,0,0,0,0,0,0,0,0,0,0,0,0,0,0,{"$f":"(SUM(Z609:AS609))+0","v":0},0,0,0,0,0,0,0,0,0,0,0,0,0,0,0,0,0,0,0,0]
[609,"50139 Letux","50139",{"$f":"((SUM(E610:X610)))+0","v":9},2,0,0,0,1,0,1,0,2,1,1,0,1,0,0,0,0,0,0,0,{"$f":"(SUM(Z610:AS610))+0","v":19},1,2,2,2,2,0,2,0,1,4,1,2,0,0,0,0,0,0,0,0]
[610,"50140 Litago","50140",{"$f":"((SUM(E611:X611)))+0","v":3},0,0,1,0,1,0,1,0,0,0,0,0,0,0,0,0,0,0,0,0,{"$f":"(SUM(Z611:AS611))+0","v":1},0,0,0,0,0,0,1,0,0,0,0,0,0,0,0,0,0,0,0,0]
[611,"50141 Lituénigo","50141",{"$f":"((SUM(E612:X612)))+0","v":0},0,0,0,0,0,0,0,0,0,0,0,0,0,0,0,0,0,0,0,0,{"$f":"(SUM(Z612:AS612))+0","v":2},0,0,0,0,0,0,1,0,0,0,0,0,1,0,0,0,0,0,0,0]
[612,"50142 Lobera de Onsella","50142",{"$f":"((SUM(E613:X613)))+0","v":0},0,0,0,0,0,0,0,0,0,0,0,0,0,0,0,0,0,0,0,0,{"$f":"(SUM(Z613:AS613))+0","v":1},0,0,0,0,0,0,0,1,0,0,0,0,0,0,0,0,0,0,0,0]
[613,"50143 Longares","50143",{"$f":"((SUM(E614:X614)))+0","v":225},2,3,6,3,12,25,50,32,27,28,21,5,6,3,1,1,0,0,0,0,{"$f":"(SUM(Z614:AS614))+0","v":56},2,5,5,1,2,6,7,8,5,7,2,4,1,1,0,0,0,0,0,0]
[614,"50144 Longás","50144",{"$f":"((SUM(E615:X615)))+0","v":0},0,0,0,0,0,0,0,0,0,0,0,0,0,0,0,0,0,0,0,0,{"$f":"(SUM(Z615:AS615))+0","v":0},0,0,0,0,0,0,0,0,0,0,0,0,0,0,0,0,0,0,0,0]
[615,"50146 Lucena de Jalón","50146",{"$f":"((SUM(E616:X616)))+0","v":5},0,0,0,2,0,0,0,0,1,0,2,0,0,0,0,0,0,0,0,0,{"$f":"(SUM(Z616:AS616))+0","v":7},0,0,0,0,0,0,2,1,1,1,1,0,0,1,0,0,0,0,0,0]
[616,"50147 Luceni","50147",{"$f":"((SUM(E617:X617)))+0","v":45},3,3,2,3,2,4,2,5,4,3,8,4,0,0,0,2,0,0,0,0,{"$f":"(SUM(Z617:AS617))+0","v":58},1,4,2,3,3,7,9,6,7,1,6,2,3,1,2,0,0,0,1,0]
[617,"50148 Luesia","50148",{"$f":"((SUM(E618:X618)))+0","v":4},1,0,0,0,0,1,0,0,0,1,1,0,0,0,0,0,0,0,0,0,{"$f":"(SUM(Z618:AS618))+0","v":7},0,0,0,0,1,0,3,1,0,1,0,0,1,0,0,0,0,0,0,0]
[618,"50149 Luesma","50149",{"$f":"((SUM(E619:X619)))+0","v":1},0,0,0,0,1,0,0,0,0,0,0,0,0,0,0,0,0,0,0,0,{"$f":"(SUM(Z619:AS619))+0","v":0},0,0,0,0,0,0,0,0,0,0,0,0,0,0,0,0,0,0,0,0]
[619,"50150 Lumpiaque","50150",{"$f":"((SUM(E620:X620)))+0","v":68},6,3,6,4,4,2,8,4,7,8,9,2,3,2,0,0,0,0,0,0,{"$f":"(SUM(Z620:AS620))+0","v":48},1,3,2,0,4,3,6,7,5,7,6,1,2,0,0,0,0,0,1,0]
[620,"50151 Luna","50151",{"$f":"((SUM(E621:X621)))+0","v":24},4,1,1,0,1,2,2,2,3,2,3,2,1,0,0,0,0,0,0,0,{"$f":"(SUM(Z621:AS621))+0","v":25},2,1,1,2,3,2,3,1,3,3,2,1,0,1,0,0,0,0,0,0]
[621,"50152 Maella","50152",{"$f":"((SUM(E622:X622)))+0","v":382},21,21,14,19,26,27,38,52,43,32,39,18,17,9,2,4,0,0,0,0,{"$f":"(SUM(Z622:AS622))+0","v":202},12,13,9,12,9,17,19,17,21,16,19,15,12,6,2,2,1,0,0,0]
[622,"50153 Magallón","50153",{"$f":"((SUM(E623:X623)))+0","v":60},5,5,4,1,6,7,3,9,8,6,2,2,1,0,1,0,0,0,0,0,{"$f":"(SUM(Z623:AS623))+0","v":42},6,3,2,1,2,3,8,7,3,3,3,0,0,0,0,0,1,0,0,0]
[623,"50154 Mainar","50154",{"$f":"((SUM(E624:X624)))+0","v":31},4,2,1,1,2,1,8,3,1,2,4,1,0,0,0,1,0,0,0,0,{"$f":"(SUM(Z624:AS624))+0","v":20},1,1,0,0,4,3,2,2,1,3,1,0,0,0,0,0,2,0,0,0]
[624,"50155 Malanquilla","50155",{"$f":"((SUM(E625:X625)))+0","v":5},0,0,1,0,0,0,1,2,0,0,0,0,1,0,0,0,0,0,0,0,{"$f":"(SUM(Z625:AS625))+0","v":10},0,3,2,0,0,0,1,2,0,1,0,0,1,0,0,0,0,0,0,0]
[625,"50156 Maleján","50156",{"$f":"((SUM(E626:X626)))+0","v":9},0,1,2,0,0,1,2,2,0,0,0,0,1,0,0,0,0,0,0,0,{"$f":"(SUM(Z626:AS626))+0","v":11},0,0,0,1,1,2,3,1,0,1,0,0,0,0,1,1,0,0,0,0]
[626,"50157 Malón","50157",{"$f":"((SUM(E627:X627)))+0","v":29},2,4,2,1,2,3,3,0,3,3,1,1,2,1,0,1,0,0,0,0,{"$f":"(SUM(Z627:AS627))+0","v":24},0,1,2,1,2,4,2,4,2,2,1,0,2,0,0,1,0,0,0,0]
[627,"50159 Maluenda","50159",{"$f":"((SUM(E628:X628)))+0","v":112},5,5,4,7,7,8,14,11,10,14,11,8,3,4,1,0,0,0,0,0,{"$f":"(SUM(Z628:AS628))+0","v":116},4,7,5,3,7,10,14,15,12,11,15,6,4,3,0,0,0,0,0,0]
[628,"50160 Mallén","50160",{"$f":"((SUM(E629:X629)))+0","v":304},19,23,18,21,17,24,18,28,40,39,28,21,5,1,2,0,0,0,0,0,{"$f":"(SUM(Z629:AS629))+0","v":256},21,13,17,10,15,28,34,23,37,19,21,8,7,1,0,1,1,0,0,0]
[629,"50161 Manchones","50161",{"$f":"((SUM(E630:X630)))+0","v":1},0,0,0,0,1,0,0,0,0,0,0,0,0,0,0,0,0,0,0,0,{"$f":"(SUM(Z630:AS630))+0","v":1},0,0,0,0,0,0,0,1,0,0,0,0,0,0,0,0,0,0,0,0]
[630,"50162 Mara","50162",{"$f":"((SUM(E631:X631)))+0","v":12},1,0,0,1,1,1,1,2,2,2,1,0,0,0,0,0,0,0,0,0,{"$f":"(SUM(Z631:AS631))+0","v":10},3,0,0,0,1,0,2,2,1,0,0,1,0,0,0,0,0,0,0,0]
[631,"50163 María de Huerva","50163",{"$f":"((SUM(E632:X632)))+0","v":195},8,12,13,12,14,22,15,25,22,20,13,8,5,4,0,1,0,0,1,0,{"$f":"(SUM(Z632:AS632))+0","v":225},16,16,5,12,8,13,29,34,35,16,13,8,6,4,5,3,2,0,0,0]
[632,"50164 Mediana de Aragón","50164",{"$f":"((SUM(E633:X633)))+0","v":11},0,0,2,0,1,1,1,0,1,2,1,1,0,0,0,1,0,0,0,0,{"$f":"(SUM(Z633:AS633))+0","v":14},0,1,1,1,2,1,0,2,2,1,2,1,0,0,0,0,0,0,0,0]
[633,"50165 Mequinenza","50165",{"$f":"((SUM(E634:X634)))+0","v":170},7,9,9,9,3,16,23,12,18,19,22,14,3,2,1,0,2,1,0,0,{"$f":"(SUM(Z634:AS634))+0","v":116},9,13,4,4,5,10,15,11,11,11,11,7,2,3,0,0,0,0,0,0]
[634,"50166 Mesones de Isuela","50166",{"$f":"((SUM(E635:X635)))+0","v":7},0,1,0,0,1,0,2,1,1,0,1,0,0,0,0,0,0,0,0,0,{"$f":"(SUM(Z635:AS635))+0","v":9},0,0,1,0,0,0,2,4,1,0,0,1,0,0,0,0,0,0,0,0]
[635,"50167 Mezalocha","50167",{"$f":"((SUM(E636:X636)))+0","v":8},0,0,0,0,2,2,1,1,0,0,1,0,0,0,1,0,0,0,0,0,{"$f":"(SUM(Z636:AS636))+0","v":13},2,0,2,0,1,1,1,0,1,2,2,0,1,0,0,0,0,0,0,0]
[636,"50168 Mianos","50168",{"$f":"((SUM(E637:X637)))+0","v":0},0,0,0,0,0,0,0,0,0,0,0,0,0,0,0,0,0,0,0,0,{"$f":"(SUM(Z637:AS637))+0","v":1},0,0,0,0,0,0,0,0,0,0,0,0,0,0,0,0,1,0,0,0]
[637,"50169 Miedes de Aragón","50169",{"$f":"((SUM(E638:X638)))+0","v":48},2,1,3,2,7,2,5,3,7,7,7,1,0,1,0,0,0,0,0,0,{"$f":"(SUM(Z638:AS638))+0","v":35},1,0,2,3,1,7,4,3,3,6,1,1,1,1,0,1,0,0,0,0]
[638,"50170 Monegrillo","50170",{"$f":"((SUM(E639:X639)))+0","v":5},0,0,0,0,0,0,0,1,3,0,0,0,1,0,0,0,0,0,0,0,{"$f":"(SUM(Z639:AS639))+0","v":13},1,0,1,1,0,0,2,0,1,0,2,0,3,0,1,0,0,0,1,0]
[639,"50171 Moneva","50171",{"$f":"((SUM(E640:X640)))+0","v":0},0,0,0,0,0,0,0,0,0,0,0,0,0,0,0,0,0,0,0,0,{"$f":"(SUM(Z640:AS640))+0","v":1},0,0,0,0,0,0,0,0,0,1,0,0,0,0,0,0,0,0,0,0]
[640,"50172 Monreal de Ariza","50172",{"$f":"((SUM(E641:X641)))+0","v":6},0,0,1,0,0,0,0,1,2,0,0,1,1,0,0,0,0,0,0,0,{"$f":"(SUM(Z641:AS641))+0","v":6},0,0,0,0,1,0,2,1,0,0,1,0,1,0,0,0,0,0,0,0]
[641,"50173 Monterde","50173",{"$f":"((SUM(E642:X642)))+0","v":4},0,0,0,0,0,0,1,1,1,1,0,0,0,0,0,0,0,0,0,0,{"$f":"(SUM(Z642:AS642))+0","v":3},0,0,0,0,0,1,1,0,0,0,1,0,0,0,0,0,0,0,0,0]
[642,"50174 Montón","50174",{"$f":"((SUM(E643:X643)))+0","v":4},0,0,0,0,0,1,1,0,0,1,1,0,0,0,0,0,0,0,0,0,{"$f":"(SUM(Z643:AS643))+0","v":3},0,0,0,1,0,0,0,0,1,0,0,1,0,0,0,0,0,0,0,0]
[643,"50175 Morata de Jalón","50175",{"$f":"((SUM(E644:X644)))+0","v":66},2,4,3,3,4,4,7,6,10,10,6,3,3,1,0,0,0,0,0,0,{"$f":"(SUM(Z644:AS644))+0","v":33},0,4,2,1,2,1,5,5,3,4,4,1,0,0,0,1,0,0,0,0]
[644,"50176 Morata de Jiloca","50176",{"$f":"((SUM(E645:X645)))+0","v":24},1,1,1,0,3,5,4,3,2,0,2,0,1,1,0,0,0,0,0,0,{"$f":"(SUM(Z645:AS645))+0","v":16},0,0,1,0,0,1,5,2,2,0,2,2,1,0,0,0,0,0,0,0]
[645,"50177 Morés","50177",{"$f":"((SUM(E646:X646)))+0","v":17},0,1,1,3,1,0,0,3,5,0,1,1,1,0,0,0,0,0,0,0,{"$f":"(SUM(Z646:AS646))+0","v":21},1,0,2,2,0,2,0,3,3,2,0,3,1,1,1,0,0,0,0,0]
[646,"50178 Moros","50178",{"$f":"((SUM(E647:X647)))+0","v":26},0,0,0,1,4,4,0,3,2,4,1,2,1,3,1,0,0,0,0,0,{"$f":"(SUM(Z647:AS647))+0","v":16},0,0,0,1,4,1,3,1,1,1,1,1,2,0,0,0,0,0,0,0]
[647,"50179 Moyuela","50179",{"$f":"((SUM(E648:X648)))+0","v":1},0,0,0,0,0,0,1,0,0,0,0,0,0,0,0,0,0,0,0,0,{"$f":"(SUM(Z648:AS648))+0","v":4},0,0,0,2,0,0,0,0,0,0,2,0,0,0,0,0,0,0,0,0]
[648,"50180 Mozota","50180",{"$f":"((SUM(E649:X649)))+0","v":1},0,0,0,0,0,0,0,0,0,0,0,1,0,0,0,0,0,0,0,0,{"$f":"(SUM(Z649:AS649))+0","v":1},0,0,0,0,0,0,1,0,0,0,0,0,0,0,0,0,0,0,0,0]
[649,"50181 Muel","50181",{"$f":"((SUM(E650:X650)))+0","v":132},6,6,4,3,8,20,17,15,13,14,13,7,2,3,0,1,0,0,0,0,{"$f":"(SUM(Z650:AS650))+0","v":114},13,9,7,10,8,10,7,13,8,10,8,2,3,1,2,2,1,0,0,0]
[650,"50182 Muela (La)","50182",{"$f":"((SUM(E651:X651)))+0","v":510},30,27,33,22,25,42,60,60,75,48,39,18,11,8,7,2,1,2,0,0,{"$f":"(SUM(Z651:AS651))+0","v":507},40,20,25,16,28,45,63,64,63,50,38,12,14,17,5,3,2,1,1,0]
[651,"50183 Munébrega","50183",{"$f":"((SUM(E652:X652)))+0","v":17},0,0,0,1,4,2,5,1,1,1,1,1,0,0,0,0,0,0,0,0,{"$f":"(SUM(Z652:AS652))+0","v":9},0,0,0,0,1,1,2,1,1,1,1,1,0,0,0,0,0,0,0,0]
[652,"50184 Murero","50184",{"$f":"((SUM(E653:X653)))+0","v":4},1,0,0,0,0,0,3,0,0,0,0,0,0,0,0,0,0,0,0,0,{"$f":"(SUM(Z653:AS653))+0","v":6},1,0,0,0,1,1,1,1,0,1,0,0,0,0,0,0,0,0,0,0]
[653,"50185 Murillo de Gállego","50185",{"$f":"((SUM(E654:X654)))+0","v":17},1,2,1,0,1,4,0,0,3,3,0,0,0,2,0,0,0,0,0,0,{"$f":"(SUM(Z654:AS654))+0","v":13},0,2,0,0,0,0,2,3,0,2,0,1,3,0,0,0,0,0,0,0]
[654,"50186 Navardún","50186",{"$f":"((SUM(E655:X655)))+0","v":0},0,0,0,0,0,0,0,0,0,0,0,0,0,0,0,0,0,0,0,0,{"$f":"(SUM(Z655:AS655))+0","v":0},0,0,0,0,0,0,0,0,0,0,0,0,0,0,0,0,0,0,0,0]
[655,"50187 Nigüella","50187",{"$f":"((SUM(E656:X656)))+0","v":1},0,0,0,0,0,0,0,0,0,0,0,0,1,0,0,0,0,0,0,0,{"$f":"(SUM(Z656:AS656))+0","v":2},0,0,0,0,0,0,0,0,0,0,2,0,0,0,0,0,0,0,0,0]
[656,"50188 Nombrevilla","50188",{"$f":"((SUM(E657:X657)))+0","v":2},0,0,0,0,0,0,0,0,2,0,0,0,0,0,0,0,0,0,0,0,{"$f":"(SUM(Z657:AS657))+0","v":3},0,0,0,0,0,0,0,2,1,0,0,0,0,0,0,0,0,0,0,0]
[657,"50189 Nonaspe","50189",{"$f":"((SUM(E658:X658)))+0","v":147},9,4,5,6,15,19,16,16,22,14,10,2,5,2,0,1,0,0,1,0,{"$f":"(SUM(Z658:AS658))+0","v":96},12,8,6,7,4,9,9,12,9,9,2,3,3,3,0,0,0,0,0,0]
[658,"50190 Novallas","50190",{"$f":"((SUM(E659:X659)))+0","v":39},2,0,2,2,4,4,4,5,5,7,2,0,0,2,0,0,0,0,0,0,{"$f":"(SUM(Z659:AS659))+0","v":32},2,3,1,1,3,3,4,4,2,1,2,3,1,1,1,0,0,0,0,0]
[659,"50191 Novillas","50191",{"$f":"((SUM(E660:X660)))+0","v":17},0,0,0,2,1,3,0,2,4,1,2,1,1,0,0,0,0,0,0,0,{"$f":"(SUM(Z660:AS660))+0","v":14},0,0,0,0,0,0,0,4,2,1,4,2,0,0,0,1,0,0,0,0]
[660,"50192 Nuévalos","50192",{"$f":"((SUM(E661:X661)))+0","v":11},0,0,1,0,1,0,1,1,2,2,1,0,1,1,0,0,0,0,0,0,{"$f":"(SUM(Z661:AS661))+0","v":22},0,2,2,0,1,0,1,6,2,3,2,1,0,1,1,0,0,0,0,0]
[661,"50193 Nuez de Ebro","50193",{"$f":"((SUM(E662:X662)))+0","v":26},0,1,2,3,3,0,1,1,3,3,1,1,4,2,0,0,1,0,0,0,{"$f":"(SUM(Z662:AS662))+0","v":30},0,0,3,2,1,2,3,2,2,5,2,2,5,1,0,0,0,0,0,0]
[662,"50194 Olvés","50194",{"$f":"((SUM(E663:X663)))+0","v":11},1,0,2,0,0,1,1,3,0,3,0,0,0,0,0,0,0,0,0,0,{"$f":"(SUM(Z663:AS663))+0","v":14},0,1,1,4,1,1,3,0,1,1,1,0,0,0,0,0,0,0,0,0]
[663,"50195 Orcajo","50195",{"$f":"((SUM(E664:X664)))+0","v":2},0,0,0,0,0,0,0,1,0,1,0,0,0,0,0,0,0,0,0,0,{"$f":"(SUM(Z664:AS664))+0","v":1},0,0,0,0,0,0,0,0,0,0,1,0,0,0,0,0,0,0,0,0]
[664,"50196 Orera","50196",{"$f":"((SUM(E665:X665)))+0","v":4},0,0,0,0,1,1,0,1,0,0,0,0,0,1,0,0,0,0,0,0,{"$f":"(SUM(Z665:AS665))+0","v":6},1,1,1,0,1,0,0,0,0,1,1,0,0,0,0,0,0,0,0,0]
[665,"50197 Orés","50197",{"$f":"((SUM(E666:X666)))+0","v":3},1,0,0,0,0,1,0,0,0,1,0,0,0,0,0,0,0,0,0,0,{"$f":"(SUM(Z666:AS666))+0","v":1},0,0,0,0,0,0,0,0,0,1,0,0,0,0,0,0,0,0,0,0]
[666,"50198 Oseja","50198",{"$f":"((SUM(E667:X667)))+0","v":3},0,0,0,0,0,0,0,0,1,1,1,0,0,0,0,0,0,0,0,0,{"$f":"(SUM(Z667:AS667))+0","v":0},0,0,0,0,0,0,0,0,0,0,0,0,0,0,0,0,0,0,0,0]
[667,"50199 Osera de Ebro","50199",{"$f":"((SUM(E668:X668)))+0","v":19},0,1,1,1,2,2,2,2,0,6,1,0,1,0,0,0,0,0,0,0,{"$f":"(SUM(Z668:AS668))+0","v":15},1,1,1,0,1,1,0,2,6,1,1,0,0,0,0,0,0,0,0,0]
[668,"50200 Paniza","50200",{"$f":"((SUM(E669:X669)))+0","v":36},0,1,2,1,1,2,1,4,8,3,7,3,1,2,0,0,0,0,0,0,{"$f":"(SUM(Z669:AS669))+0","v":28},0,1,1,1,1,1,1,4,5,3,1,3,3,2,0,1,0,0,0,0]
[669,"50201 Paracuellos de Jiloca","50201",{"$f":"((SUM(E670:X670)))+0","v":26},0,1,1,3,2,2,2,4,5,2,2,0,0,2,0,0,0,0,0,0,{"$f":"(SUM(Z670:AS670))+0","v":29},0,0,2,0,1,2,6,2,4,4,3,1,2,2,0,0,0,0,0,0]
[670,"50202 Paracuellos de la Ribera","50202",{"$f":"((SUM(E671:X671)))+0","v":6},0,0,0,0,0,0,0,1,3,0,0,1,1,0,0,0,0,0,0,0,{"$f":"(SUM(Z671:AS671))+0","v":7},0,0,0,1,0,0,2,0,1,0,0,1,1,0,1,0,0,0,0,0]
[671,"50203 Pastriz","50203",{"$f":"((SUM(E672:X672)))+0","v":19},0,1,0,2,0,1,0,2,2,4,2,2,1,0,1,0,0,1,0,0,{"$f":"(SUM(Z672:AS672))+0","v":24},0,1,1,0,2,1,3,5,1,2,4,2,2,0,0,0,0,0,0,0]
[672,"50204 Pedrola","50204",{"$f":"((SUM(E673:X673)))+0","v":414},15,20,20,25,17,21,30,50,53,51,57,27,19,6,1,2,0,0,0,0,{"$f":"(SUM(Z673:AS673))+0","v":329},12,22,16,14,25,25,44,36,35,29,24,16,11,10,5,3,0,2,0,0]
[673,"50205 Pedrosas (Las)","50205",{"$f":"((SUM(E674:X674)))+0","v":7},0,0,0,0,1,1,0,1,1,1,2,0,0,0,0,0,0,0,0,0,{"$f":"(SUM(Z674:AS674))+0","v":6},0,0,0,0,1,0,2,1,0,1,1,0,0,0,0,0,0,0,0,0]
[674,"50206 Perdiguera","50206",{"$f":"((SUM(E675:X675)))+0","v":14},0,0,0,2,1,1,3,1,0,2,1,1,2,0,0,0,0,0,0,0,{"$f":"(SUM(Z675:AS675))+0","v":19},1,0,0,2,1,1,1,2,5,2,3,0,0,1,0,0,0,0,0,0]
[675,"50207 Piedratajada","50207",{"$f":"((SUM(E676:X676)))+0","v":0},0,0,0,0,0,0,0,0,0,0,0,0,0,0,0,0,0,0,0,0,{"$f":"(SUM(Z676:AS676))+0","v":1},0,0,0,0,0,0,0,0,0,0,0,1,0,0,0,0,0,0,0,0]
[676,"50208 Pina de Ebro","50208",{"$f":"((SUM(E677:X677)))+0","v":159},9,9,11,7,10,17,17,21,16,12,9,9,8,1,2,0,1,0,0,0,{"$f":"(SUM(Z677:AS677))+0","v":173},17,11,11,9,13,16,16,30,12,16,5,6,1,4,2,3,1,0,0,0]
[677,"50209 Pinseque","50209",{"$f":"((SUM(E678:X678)))+0","v":214},5,6,13,9,14,16,17,28,27,29,25,8,5,6,2,3,1,0,0,0,{"$f":"(SUM(Z678:AS678))+0","v":283},13,7,14,16,16,25,31,33,39,49,8,6,11,9,1,5,0,0,0,0]
[678,"50210 Pintanos (Los)","50210",{"$f":"((SUM(E679:X679)))+0","v":1},0,0,0,0,0,0,0,0,0,0,0,0,0,1,0,0,0,0,0,0,{"$f":"(SUM(Z679:AS679))+0","v":0},0,0,0,0,0,0,0,0,0,0,0,0,0,0,0,0,0,0,0,0]
[679,"50211 Plasencia de Jalón","50211",{"$f":"((SUM(E680:X680)))+0","v":34},0,1,0,1,2,1,3,7,6,5,3,2,1,0,1,1,0,0,0,0,{"$f":"(SUM(Z680:AS680))+0","v":27},1,2,1,4,1,4,2,4,4,0,2,2,0,0,0,0,0,0,0,0]
[680,"50212 Pleitas","50212",{"$f":"((SUM(E681:X681)))+0","v":0},0,0,0,0,0,0,0,0,0,0,0,0,0,0,0,0,0,0,0,0,{"$f":"(SUM(Z681:AS681))+0","v":0},0,0,0,0,0,0,0,0,0,0,0,0,0,0,0,0,0,0,0,0]
[681,"50213 Plenas","50213",{"$f":"((SUM(E682:X682)))+0","v":3},0,0,0,0,0,0,1,1,1,0,0,0,0,0,0,0,0,0,0,0,{"$f":"(SUM(Z682:AS682))+0","v":8},0,1,1,0,0,0,1,3,1,0,0,1,0,0,0,0,0,0,0,0]
[682,"50214 Pomer","50214",{"$f":"((SUM(E683:X683)))+0","v":3},0,0,0,0,1,0,1,0,0,1,0,0,0,0,0,0,0,0,0,0,{"$f":"(SUM(Z683:AS683))+0","v":1},0,0,0,0,0,0,0,0,0,0,1,0,0,0,0,0,0,0,0,0]
[683,"50215 Pozuel de Ariza","50215",{"$f":"((SUM(E684:X684)))+0","v":0},0,0,0,0,0,0,0,0,0,0,0,0,0,0,0,0,0,0,0,0,{"$f":"(SUM(Z684:AS684))+0","v":0},0,0,0,0,0,0,0,0,0,0,0,0,0,0,0,0,0,0,0,0]
[684,"50216 Pozuelo de Aragón","50216",{"$f":"((SUM(E685:X685)))+0","v":8},0,0,0,1,0,0,2,0,2,0,1,1,0,1,0,0,0,0,0,0,{"$f":"(SUM(Z685:AS685))+0","v":9},0,0,1,0,1,1,1,1,2,1,0,1,0,0,0,0,0,0,0,0]
[685,"50217 Pradilla de Ebro","50217",{"$f":"((SUM(E686:X686)))+0","v":61},0,1,1,2,8,13,7,5,8,5,7,3,0,1,0,0,0,0,0,0,{"$f":"(SUM(Z686:AS686))+0","v":28},1,1,0,0,2,4,1,4,1,1,6,4,1,0,2,0,0,0,0,0]
[686,"50218 Puebla de Albortón","50218",{"$f":"((SUM(E687:X687)))+0","v":2},0,1,0,1,0,0,0,0,0,0,0,0,0,0,0,0,0,0,0,0,{"$f":"(SUM(Z687:AS687))+0","v":3},0,0,1,0,0,1,0,0,0,1,0,0,0,0,0,0,0,0,0,0]
[687,"50219 Puebla de Alfindén (La)","50219",{"$f":"((SUM(E688:X688)))+0","v":234},11,16,18,14,14,20,15,29,31,28,15,8,9,2,3,1,0,0,0,0,{"$f":"(SUM(Z688:AS688))+0","v":264},14,12,9,13,16,20,33,38,36,29,13,12,6,9,2,0,1,1,0,0]
[688,"50220 Puendeluna","50220",{"$f":"((SUM(E689:X689)))+0","v":0},0,0,0,0,0,0,0,0,0,0,0,0,0,0,0,0,0,0,0,0,{"$f":"(SUM(Z689:AS689))+0","v":1},0,0,0,0,0,0,0,0,0,0,0,0,0,0,1,0,0,0,0,0]
[689,"50221 Purujosa","50221",{"$f":"((SUM(E690:X690)))+0","v":0},0,0,0,0,0,0,0,0,0,0,0,0,0,0,0,0,0,0,0,0,{"$f":"(SUM(Z690:AS690))+0","v":0},0,0,0,0,0,0,0,0,0,0,0,0,0,0,0,0,0,0,0,0]
[690,"50222 Quinto","50222",{"$f":"((SUM(E691:X691)))+0","v":62},1,2,0,3,12,6,4,5,4,7,6,6,3,2,0,1,0,0,0,0,{"$f":"(SUM(Z691:AS691))+0","v":42},1,3,2,2,2,1,6,3,7,3,3,0,4,2,1,2,0,0,0,0]
[691,"50223 Remolinos","50223",{"$f":"((SUM(E692:X692)))+0","v":20},0,1,1,0,0,2,2,5,3,1,2,2,1,0,0,0,0,0,0,0,{"$f":"(SUM(Z692:AS692))+0","v":25},0,1,1,1,3,2,3,4,1,2,2,1,1,2,1,0,0,0,0,0]
[692,"50224 Retascón","50224",{"$f":"((SUM(E693:X693)))+0","v":3},0,0,0,0,0,0,0,3,0,0,0,0,0,0,0,0,0,0,0,0,{"$f":"(SUM(Z693:AS693))+0","v":1},0,0,0,0,0,0,0,0,0,1,0,0,0,0,0,0,0,0,0,0]
[693,"50225 Ricla","50225",{"$f":"((SUM(E694:X694)))+0","v":656},29,22,21,27,55,63,66,51,75,84,85,35,28,13,2,0,0,0,0,0,{"$f":"(SUM(Z694:AS694))+0","v":532},23,16,18,24,44,36,49,54,73,75,63,32,14,7,4,0,0,0,0,0]
[694,"50227 Romanos","50227",{"$f":"((SUM(E695:X695)))+0","v":14},1,0,0,0,2,0,3,0,2,3,2,0,1,0,0,0,0,0,0,0,{"$f":"(SUM(Z695:AS695))+0","v":10},1,0,1,0,0,1,1,2,0,1,1,0,2,0,0,0,0,0,0,0]
[695,"50228 Rueda de Jalón","50228",{"$f":"((SUM(E696:X696)))+0","v":11},0,0,0,0,1,3,1,0,1,0,2,3,0,0,0,0,0,0,0,0,{"$f":"(SUM(Z696:AS696))+0","v":14},0,1,1,0,0,0,3,0,0,1,4,1,1,1,1,0,0,0,0,0]
[696,"50229 Ruesca","50229",{"$f":"((SUM(E697:X697)))+0","v":3},0,0,0,0,0,1,1,0,1,0,0,0,0,0,0,0,0,0,0,0,{"$f":"(SUM(Z697:AS697))+0","v":3},0,1,0,0,1,1,0,0,0,0,0,0,0,0,0,0,0,0,0,0]
[697,"50230 Sádaba","50230",{"$f":"((SUM(E698:X698)))+0","v":33},0,1,1,2,4,4,2,4,4,4,2,3,0,2,0,0,0,0,0,0,{"$f":"(SUM(Z698:AS698))+0","v":42},1,3,3,3,5,3,2,4,10,1,1,1,3,2,0,0,0,0,0,0]
[698,"50231 Salillas de Jalón","50231",{"$f":"((SUM(E699:X699)))+0","v":19},1,2,0,1,1,1,3,4,2,1,0,1,0,0,0,0,2,0,0,0,{"$f":"(SUM(Z699:AS699))+0","v":25},1,1,0,0,3,2,2,5,3,3,3,0,0,0,2,0,0,0,0,0]
[699,"50232 Salvatierra de Esca","50232",{"$f":"((SUM(E700:X700)))+0","v":0},0,0,0,0,0,0,0,0,0,0,0,0,0,0,0,0,0,0,0,0,{"$f":"(SUM(Z700:AS700))+0","v":1},0,0,0,0,0,0,0,0,0,0,0,0,0,0,1,0,0,0,0,0]
[700,"50233 Samper del Salz","50233",{"$f":"((SUM(E701:X701)))+0","v":2},0,0,0,0,1,0,0,0,0,1,0,0,0,0,0,0,0,0,0,0,{"$f":"(SUM(Z701:AS701))+0","v":2},0,0,0,0,0,0,1,0,0,1,0,0,0,0,0,0,0,0,0,0]
[701,"50234 San Martín de la Virgen de Moncayo","50234",{"$f":"((SUM(E702:X702)))+0","v":0},0,0,0,0,0,0,0,0,0,0,0,0,0,0,0,0,0,0,0,0,{"$f":"(SUM(Z702:AS702))+0","v":3},0,0,0,0,0,0,0,0,0,2,0,0,1,0,0,0,0,0,0,0]
[702,"50235 San Mateo de Gállego","50235",{"$f":"((SUM(E703:X703)))+0","v":163},4,11,8,10,12,19,12,26,24,14,5,9,3,5,0,0,1,0,0,0,{"$f":"(SUM(Z703:AS703))+0","v":182},12,20,9,9,11,17,23,24,24,10,9,4,4,1,2,2,0,1,0,0]
[703,"50236 Santa Cruz de Grío","50236",{"$f":"((SUM(E704:X704)))+0","v":10},0,0,0,0,1,1,2,2,3,1,0,0,0,0,0,0,0,0,0,0,{"$f":"(SUM(Z704:AS704))+0","v":4},0,0,1,1,0,0,1,1,0,0,0,0,0,0,0,0,0,0,0,0]
[704,"50237 Santa Cruz de Moncayo","50237",{"$f":"((SUM(E705:X705)))+0","v":1},0,0,0,0,0,0,0,1,0,0,0,0,0,0,0,0,0,0,0,0,{"$f":"(SUM(Z705:AS705))+0","v":0},0,0,0,0,0,0,0,0,0,0,0,0,0,0,0,0,0,0,0,0]
[705,"50238 Santa Eulalia de Gállego","50238",{"$f":"((SUM(E706:X706)))+0","v":7},0,0,0,0,0,0,0,0,1,2,1,1,0,1,0,1,0,0,0,0,{"$f":"(SUM(Z706:AS706))+0","v":4},0,0,0,0,0,0,0,1,2,0,0,0,0,0,1,0,0,0,0,0]
[706,"50239 Santed","50239",{"$f":"((SUM(E707:X707)))+0","v":0},0,0,0,0,0,0,0,0,0,0,0,0,0,0,0,0,0,0,0,0,{"$f":"(SUM(Z707:AS707))+0","v":0},0,0,0,0,0,0,0,0,0,0,0,0,0,0,0,0,0,0,0,0]
[707,"50240 Sástago","50240",{"$f":"((SUM(E708:X708)))+0","v":55},4,4,6,1,5,6,2,7,7,6,3,2,1,0,1,0,0,0,0,0,{"$f":"(SUM(Z708:AS708))+0","v":53},6,4,2,1,3,7,2,6,8,7,4,0,0,2,0,1,0,0,0,0]
[708,"50241 Saviñán","50241",{"$f":"((SUM(E709:X709)))+0","v":50},2,7,2,1,2,3,4,3,9,9,4,0,2,2,0,0,0,0,0,0,{"$f":"(SUM(Z709:AS709))+0","v":41},7,2,1,1,2,2,13,2,4,3,2,1,0,1,0,0,0,0,0,0]
[709,"50242 Sediles","50242",{"$f":"((SUM(E710:X710)))+0","v":0},0,0,0,0,0,0,0,0,0,0,0,0,0,0,0,0,0,0,0,0,{"$f":"(SUM(Z710:AS710))+0","v":0},0,0,0,0,0,0,0,0,0,0,0,0,0,0,0,0,0,0,0,0]
[710,"50243 Sestrica","50243",{"$f":"((SUM(E711:X711)))+0","v":23},2,0,1,1,1,4,2,3,1,4,1,1,1,1,0,0,0,0,0,0,{"$f":"(SUM(Z711:AS711))+0","v":13},1,0,1,1,0,1,0,1,2,1,3,0,2,0,0,0,0,0,0,0]
[711,"50244 Sierra de Luna","50244",{"$f":"((SUM(E712:X712)))+0","v":34},6,1,1,1,5,7,1,1,1,4,2,2,0,2,0,0,0,0,0,0,{"$f":"(SUM(Z712:AS712))+0","v":30},4,3,1,0,5,5,1,0,1,4,3,1,1,1,0,0,0,0,0,0]
[712,"50245 Sigüés","50245",{"$f":"((SUM(E713:X713)))+0","v":0},0,0,0,0,0,0,0,0,0,0,0,0,0,0,0,0,0,0,0,0,{"$f":"(SUM(Z713:AS713))+0","v":0},0,0,0,0,0,0,0,0,0,0,0,0,0,0,0,0,0,0,0,0]
[713,"50246 Sisamón","50246",{"$f":"((SUM(E714:X714)))+0","v":0},0,0,0,0,0,0,0,0,0,0,0,0,0,0,0,0,0,0,0,0,{"$f":"(SUM(Z714:AS714))+0","v":1},0,0,0,0,0,0,0,0,0,0,0,1,0,0,0,0,0,0,0,0]
[714,"50247 Sobradiel","50247",{"$f":"((SUM(E715:X715)))+0","v":24},0,1,2,2,1,2,0,4,3,1,5,2,0,1,0,0,0,0,0,0,{"$f":"(SUM(Z715:AS715))+0","v":34},1,2,0,2,1,2,5,4,3,5,1,4,4,0,0,0,0,0,0,0]
[715,"50248 Sos del Rey Católico","50248",{"$f":"((SUM(E716:X716)))+0","v":13},0,0,0,0,2,2,1,0,2,1,1,0,3,1,0,0,0,0,0,0,{"$f":"(SUM(Z716:AS716))+0","v":14},1,0,1,0,1,1,2,0,2,3,1,1,0,0,0,0,1,0,0,0]
[716,"50249 Tabuenca","50249",{"$f":"((SUM(E717:X717)))+0","v":11},0,0,1,1,2,1,1,0,2,0,0,2,1,0,0,0,0,0,0,0,{"$f":"(SUM(Z717:AS717))+0","v":7},0,0,0,1,0,0,1,2,1,1,0,0,0,0,0,0,1,0,0,0]
[717,"50250 Talamantes","50250",{"$f":"((SUM(E718:X718)))+0","v":1},0,0,0,0,0,0,0,0,1,0,0,0,0,0,0,0,0,0,0,0,{"$f":"(SUM(Z718:AS718))+0","v":0},0,0,0,0,0,0,0,0,0,0,0,0,0,0,0,0,0,0,0,0]
[718,"50251 Tarazona","50251",{"$f":"((SUM(E719:X719)))+0","v":522},34,37,24,24,40,53,45,69,58,45,36,30,13,7,5,2,0,0,0,0,{"$f":"(SUM(Z719:AS719))+0","v":469},36,25,22,20,34,44,63,62,53,35,20,15,27,6,1,5,0,0,1,0]
[719,"50252 Tauste","50252",{"$f":"((SUM(E720:X720)))+0","v":608},36,46,39,40,38,50,61,56,69,56,51,31,21,10,0,2,0,1,1,0,{"$f":"(SUM(Z720:AS720))+0","v":582},34,39,47,39,32,50,57,65,61,42,47,31,20,8,7,1,1,1,0,0]
[720,"50253 Terrer","50253",{"$f":"((SUM(E721:X721)))+0","v":88},4,9,5,1,6,10,7,9,10,6,12,5,3,0,1,0,0,0,0,0,{"$f":"(SUM(Z721:AS721))+0","v":63},4,4,2,2,3,6,3,8,9,8,8,0,3,0,1,2,0,0,0,0]
[721,"50254 Tierga","50254",{"$f":"((SUM(E722:X722)))+0","v":2},0,0,0,0,0,0,1,0,0,0,0,1,0,0,0,0,0,0,0,0,{"$f":"(SUM(Z722:AS722))+0","v":1},0,0,0,0,0,0,0,0,0,0,1,0,0,0,0,0,0,0,0,0]
[722,"50255 Tobed","50255",{"$f":"((SUM(E723:X723)))+0","v":12},0,0,0,0,2,0,1,1,1,4,3,0,0,0,0,0,0,0,0,0,{"$f":"(SUM(Z723:AS723))+0","v":0},0,0,0,0,0,0,0,0,0,0,0,0,0,0,0,0,0,0,0,0]
[723,"50256 Torralba de los Frailes","50256",{"$f":"((SUM(E724:X724)))+0","v":2},0,0,0,0,0,1,0,1,0,0,0,0,0,0,0,0,0,0,0,0,{"$f":"(SUM(Z724:AS724))+0","v":5},1,1,1,0,0,0,1,0,0,1,0,0,0,0,0,0,0,0,0,0]
[724,"50257 Torralba de Ribota","50257",{"$f":"((SUM(E725:X725)))+0","v":2},0,0,0,0,0,0,0,2,0,0,0,0,0,0,0,0,0,0,0,0,{"$f":"(SUM(Z725:AS725))+0","v":8},0,0,0,0,1,1,2,0,3,0,0,0,0,0,0,0,0,0,0,1]
[725,"50258 Torralbilla","50258",{"$f":"((SUM(E726:X726)))+0","v":0},0,0,0,0,0,0,0,0,0,0,0,0,0,0,0,0,0,0,0,0,{"$f":"(SUM(Z726:AS726))+0","v":2},0,0,0,0,0,0,0,0,0,1,1,0,0,0,0,0,0,0,0,0]
[726,"50259 Torrehermosa","50259",{"$f":"((SUM(E727:X727)))+0","v":1},0,0,0,0,0,0,0,0,0,0,1,0,0,0,0,0,0,0,0,0,{"$f":"(SUM(Z727:AS727))+0","v":1},0,0,0,0,0,0,0,0,1,0,0,0,0,0,0,0,0,0,0,0]
[727,"50260 Torrelapaja","50260",{"$f":"((SUM(E728:X728)))+0","v":0},0,0,0,0,0,0,0,0,0,0,0,0,0,0,0,0,0,0,0,0,{"$f":"(SUM(Z728:AS728))+0","v":0},0,0,0,0,0,0,0,0,0,0,0,0,0,0,0,0,0,0,0,0]
[728,"50261 Torrellas","50261",{"$f":"((SUM(E729:X729)))+0","v":3},0,0,0,1,0,0,1,0,1,0,0,0,0,0,0,0,0,0,0,0,{"$f":"(SUM(Z729:AS729))+0","v":7},0,0,0,0,1,0,1,1,1,0,0,2,0,0,1,0,0,0,0,0]
[729,"50262 Torres de Berrellén","50262",{"$f":"((SUM(E730:X730)))+0","v":30},2,2,1,3,4,4,0,2,2,5,3,0,2,0,0,0,0,0,0,0,{"$f":"(SUM(Z730:AS730))+0","v":36},2,1,5,1,1,3,5,3,4,6,2,1,1,1,0,0,0,0,0,0]
[730,"50263 Torrijo de la Cañada","50263",{"$f":"((SUM(E731:X731)))+0","v":8},1,1,0,0,0,0,2,0,1,1,1,1,0,0,0,0,0,0,0,0,{"$f":"(SUM(Z731:AS731))+0","v":14},1,1,0,0,0,1,3,1,0,2,1,0,2,1,1,0,0,0,0,0]
[731,"50264 Tosos","50264",{"$f":"((SUM(E732:X732)))+0","v":16},2,0,2,0,1,1,0,1,4,2,1,0,0,1,1,0,0,0,0,0,{"$f":"(SUM(Z732:AS732))+0","v":15},1,0,1,2,1,2,2,0,2,2,1,0,1,0,0,0,0,0,0,0]
[732,"50265 Trasmoz","50265",{"$f":"((SUM(E733:X733)))+0","v":3},0,0,0,0,0,2,1,0,0,0,0,0,0,0,0,0,0,0,0,0,{"$f":"(SUM(Z733:AS733))+0","v":4},0,0,0,0,1,0,0,0,0,0,1,1,0,0,1,0,0,0,0,0]
[733,"50266 Trasobares","50266",{"$f":"((SUM(E734:X734)))+0","v":0},0,0,0,0,0,0,0,0,0,0,0,0,0,0,0,0,0,0,0,0,{"$f":"(SUM(Z734:AS734))+0","v":1},0,0,0,0,0,0,1,0,0,0,0,0,0,0,0,0,0,0,0,0]
[734,"50267 Uncastillo","50267",{"$f":"((SUM(E735:X735)))+0","v":2},0,0,0,0,0,1,1,0,0,0,0,0,0,0,0,0,0,0,0,0,{"$f":"(SUM(Z735:AS735))+0","v":13},0,1,1,1,0,1,2,0,2,1,1,1,1,0,0,1,0,0,0,0]
[735,"50268 Undués de Lerda","50268",{"$f":"((SUM(E736:X736)))+0","v":3},0,0,0,0,0,0,0,1,0,1,0,0,1,0,0,0,0,0,0,0,{"$f":"(SUM(Z736:AS736))+0","v":3},0,0,1,0,0,0,0,1,1,0,0,0,0,0,0,0,0,0,0,0]
[736,"50269 Urrea de Jalón","50269",{"$f":"((SUM(E737:X737)))+0","v":82},1,9,4,3,2,5,9,5,11,11,8,8,3,3,0,0,0,0,0,0,{"$f":"(SUM(Z737:AS737))+0","v":40},5,6,5,1,2,4,3,3,5,3,2,0,0,1,0,0,0,0,0,0]
[737,"50270 Urriés","50270",{"$f":"((SUM(E738:X738)))+0","v":4},0,1,1,0,0,0,0,0,0,1,1,0,0,0,0,0,0,0,0,0,{"$f":"(SUM(Z738:AS738))+0","v":4},1,0,0,0,1,0,2,0,0,0,0,0,0,0,0,0,0,0,0,0]
[738,"50271 Used","50271",{"$f":"((SUM(E739:X739)))+0","v":6},0,0,0,0,0,1,1,1,1,2,0,0,0,0,0,0,0,0,0,0,{"$f":"(SUM(Z739:AS739))+0","v":8},0,1,0,1,1,1,1,0,2,0,1,0,0,0,0,0,0,0,0,0]
[739,"50272 Utebo","50272",{"$f":"((SUM(E740:X740)))+0","v":827},46,26,56,57,50,67,77,82,110,90,73,39,29,14,4,2,2,3,0,0,{"$f":"(SUM(Z740:AS740))+0","v":928},34,51,54,52,65,63,101,106,98,118,69,40,22,28,18,4,5,0,0,0]
[740,"50273 Valdehorna","50273",{"$f":"((SUM(E741:X741)))+0","v":0},0,0,0,0,0,0,0,0,0,0,0,0,0,0,0,0,0,0,0,0,{"$f":"(SUM(Z741:AS741))+0","v":0},0,0,0,0,0,0,0,0,0,0,0,0,0,0,0,0,0,0,0,0]
[741,"50274 Val de San Martín","50274",{"$f":"((SUM(E742:X742)))+0","v":0},0,0,0,0,0,0,0,0,0,0,0,0,0,0,0,0,0,0,0,0,{"$f":"(SUM(Z742:AS742))+0","v":0},0,0,0,0,0,0,0,0,0,0,0,0,0,0,0,0,0,0,0,0]
[742,"50275 Valmadrid","50275",{"$f":"((SUM(E743:X743)))+0","v":1},0,0,0,0,0,0,0,0,0,1,0,0,0,0,0,0,0,0,0,0,{"$f":"(SUM(Z743:AS743))+0","v":0},0,0,0,0,0,0,0,0,0,0,0,0,0,0,0,0,0,0,0,0]
[743,"50276 Valpalmas","50276",{"$f":"((SUM(E744:X744)))+0","v":9},0,1,0,0,2,0,1,1,0,1,1,0,2,0,0,0,0,0,0,0,{"$f":"(SUM(Z744:AS744))+0","v":8},1,0,0,1,0,1,1,2,1,0,0,1,0,0,0,0,0,0,0,0]
[744,"50277 Valtorres","50277",{"$f":"((SUM(E745:X745)))+0","v":5},0,1,0,0,0,0,1,0,0,0,1,0,1,0,1,0,0,0,0,0,{"$f":"(SUM(Z745:AS745))+0","v":2},0,0,0,0,0,0,1,0,0,0,0,0,1,0,0,0,0,0,0,0]
[745,"50278 Velilla de Ebro","50278",{"$f":"((SUM(E746:X746)))+0","v":2},0,0,0,0,0,0,0,0,1,0,0,1,0,0,0,0,0,0,0,0,{"$f":"(SUM(Z746:AS746))+0","v":3},0,0,0,0,0,1,0,0,1,0,0,0,0,1,0,0,0,0,0,0]
[746,"50279 Velilla de Jiloca","50279",{"$f":"((SUM(E747:X747)))+0","v":2},0,0,0,0,0,1,0,0,1,0,0,0,0,0,0,0,0,0,0,0,{"$f":"(SUM(Z747:AS747))+0","v":4},0,1,0,0,0,1,1,0,1,0,0,0,0,0,0,0,0,0,0,0]
[747,"50280 Vera de Moncayo","50280",{"$f":"((SUM(E748:X748)))+0","v":9},0,0,0,1,1,0,1,3,1,1,0,0,0,1,0,0,0,0,0,0,{"$f":"(SUM(Z748:AS748))+0","v":5},0,0,0,0,0,0,0,1,0,1,2,0,1,0,0,0,0,0,0,0]
[748,"50281 Vierlas","50281",{"$f":"((SUM(E749:X749)))+0","v":6},0,0,0,0,0,0,2,3,0,0,0,0,1,0,0,0,0,0,0,0,{"$f":"(SUM(Z749:AS749))+0","v":2},0,0,0,0,0,0,0,1,1,0,0,0,0,0,0,0,0,0,0,0]
[749,"50282 Vilueña (La)","50282",{"$f":"((SUM(E750:X750)))+0","v":7},0,2,2,0,0,0,1,1,0,0,0,0,0,1,0,0,0,0,0,0,{"$f":"(SUM(Z750:AS750))+0","v":6},0,1,1,1,0,0,0,1,1,1,0,0,0,0,0,0,0,0,0,0]
[750,"50283 Villadoz","50283",{"$f":"((SUM(E751:X751)))+0","v":6},1,1,0,0,0,1,1,0,0,1,1,0,0,0,0,0,0,0,0,0,{"$f":"(SUM(Z751:AS751))+0","v":7},2,1,0,0,0,2,1,0,0,0,1,0,0,0,0,0,0,0,0,0]
[751,"50284 Villafeliche","50284",{"$f":"((SUM(E752:X752)))+0","v":12},2,0,0,1,2,1,2,0,0,2,1,0,1,0,0,0,0,0,0,0,{"$f":"(SUM(Z752:AS752))+0","v":7},0,1,1,0,1,0,2,0,1,1,0,0,0,0,0,0,0,0,0,0]
[752,"50285 Villafranca de Ebro","50285",{"$f":"((SUM(E753:X753)))+0","v":37},1,3,2,4,3,2,2,5,1,7,1,2,3,1,0,0,0,0,0,0,{"$f":"(SUM(Z753:AS753))+0","v":42},3,0,5,1,4,2,6,3,4,5,3,2,2,0,1,0,0,1,0,0]
[753,"50286 Villalba de Perejil","50286",{"$f":"((SUM(E754:X754)))+0","v":3},0,0,0,0,0,1,0,0,0,0,1,1,0,0,0,0,0,0,0,0,{"$f":"(SUM(Z754:AS754))+0","v":4},0,0,0,0,0,0,1,1,0,1,0,0,1,0,0,0,0,0,0,0]
[754,"50287 Villalengua","50287",{"$f":"((SUM(E755:X755)))+0","v":10},0,1,1,1,0,0,1,1,2,2,1,0,0,0,0,0,0,0,0,0,{"$f":"(SUM(Z755:AS755))+0","v":15},0,1,1,1,0,0,3,2,2,1,2,0,1,1,0,0,0,0,0,0]
[755,"50288 Villanueva de Gállego","50288",{"$f":"((SUM(E756:X756)))+0","v":182},6,10,10,15,3,12,10,20,15,28,22,21,8,2,0,0,0,0,0,0,{"$f":"(SUM(Z756:AS756))+0","v":211},5,12,14,8,10,15,15,28,25,28,25,9,8,3,3,1,0,2,0,0]
[756,"50289 Villanueva de Jiloca","50289",{"$f":"((SUM(E757:X757)))+0","v":2},0,1,0,0,0,0,0,1,0,0,0,0,0,0,0,0,0,0,0,0,{"$f":"(SUM(Z757:AS757))+0","v":3},0,1,0,0,0,1,0,1,0,0,0,0,0,0,0,0,0,0,0,0]
[757,"50290 Villanueva de Huerva","50290",{"$f":"((SUM(E758:X758)))+0","v":21},0,0,1,1,0,1,4,0,1,1,4,4,4,0,0,0,0,0,0,0,{"$f":"(SUM(Z758:AS758))+0","v":16},2,0,1,0,1,1,3,1,2,2,1,2,0,0,0,0,0,0,0,0]
[758,"50291 Villar de los Navarros","50291",{"$f":"((SUM(E759:X759)))+0","v":13},0,0,3,3,0,1,0,2,3,1,0,0,0,0,0,0,0,0,0,0,{"$f":"(SUM(Z759:AS759))+0","v":6},0,0,1,0,0,0,1,0,2,0,1,0,0,1,0,0,0,0,0,0]
[759,"50292 Villarreal de Huerva","50292",{"$f":"((SUM(E760:X760)))+0","v":75},5,5,4,1,3,4,20,10,16,2,4,0,1,0,0,0,0,0,0,0,{"$f":"(SUM(Z760:AS760))+0","v":55},7,5,1,5,3,10,3,7,8,3,1,2,0,0,0,0,0,0,0,0]
[760,"50293 Villarroya de la Sierra","50293",{"$f":"((SUM(E761:X761)))+0","v":13},0,1,0,0,2,0,1,1,1,1,1,0,3,2,0,0,0,0,0,0,{"$f":"(SUM(Z761:AS761))+0","v":18},0,0,1,0,1,1,0,0,3,0,1,7,1,2,1,0,0,0,0,0]
[761,"50294 Villarroya del Campo","50294",{"$f":"((SUM(E762:X762)))+0","v":5},0,1,0,0,0,1,0,0,1,1,1,0,0,0,0,0,0,0,0,0,{"$f":"(SUM(Z762:AS762))+0","v":4},0,1,0,0,1,0,1,0,0,1,0,0,0,0,0,0,0,0,0,0]
[762,"50295 Vistabella","50295",{"$f":"((SUM(E763:X763)))+0","v":0},0,0,0,0,0,0,0,0,0,0,0,0,0,0,0,0,0,0,0,0,{"$f":"(SUM(Z763:AS763))+0","v":0},0,0,0,0,0,0,0,0,0,0,0,0,0,0,0,0,0,0,0,0]
[763,"50296 Zaida (La)","50296",{"$f":"((SUM(E764:X764)))+0","v":10},1,1,0,1,2,0,0,3,0,1,1,0,0,0,0,0,0,0,0,0,{"$f":"(SUM(Z764:AS764))+0","v":8},1,0,1,0,0,0,1,2,1,1,0,1,0,0,0,0,0,0,0,0]
[764,"50297 Zaragoza","50297",{"$f":"((SUM(E765:X765)))+0","v":38385},2152,2151,1969,2092,2994,3714,3917,4197,4506,3882,2832,1837,1082,564,264,113,83,29,6,1,{"$f":"(SUM(Z765:AS765))+0","v":39721},1885,1983,1845,1803,2867,3866,4673,4934,4659,3663,2892,1833,1203,773,435,220,104,59,19,5]
[765,"50298 Zuera","50298",{"$f":"((SUM(E766:X766)))+0","v":1017},54,63,56,46,77,94,115,115,125,112,80,40,23,12,2,2,1,0,0,0,{"$f":"(SUM(Z766:AS766))+0","v":884},55,55,58,47,68,95,90,99,97,87,57,30,23,11,5,5,1,1,0,0]
[766,"50901 Biel","50901",{"$f":"((SUM(E767:X767)))+0","v":15},1,0,0,1,0,2,2,1,2,1,1,1,3,0,0,0,0,0,0,0,{"$f":"(SUM(Z767:AS767))+0","v":10},0,1,0,0,1,1,1,1,1,2,0,2,0,0,0,0,0,0,0,0]
[767,"50902 Marracos","50902",{"$f":"((SUM(E768:X768)))+0","v":0},0,0,0,0,0,0,0,0,0,0,0,0,0,0,0,0,0,0,0,0,{"$f":"(SUM(Z768:AS768))+0","v":0},0,0,0,0,0,0,0,0,0,0,0,0,0,0,0,0,0,0,0,0]
[768,"50903 Villamayor de Gállego","50903",{"$f":"((SUM(E769:X769)))+0","v":68},5,2,4,4,10,5,6,3,11,8,6,1,2,0,1,0,0,0,0,0,{"$f":"(SUM(Z769:AS769))+0","v":79},6,7,5,1,2,6,4,8,12,8,11,1,4,2,1,0,0,1,0,0]